BEGIN:VCALENDAR
VERSION:2.0
PRODID:-//jEvents 2.0 for Joomla//EN
CALSCALE:GREGORIAN
METHOD:PUBLISH
BEGIN:VEVENT
UID:1b87e22d6d57ebe6dffc2fdeace37bb1
CATEGORIES:Other Fly-In
CREATED:20120806T192350
SUMMARY:Scottsdale Air Fair
LOCATION:Scottsdale Airport (SDL)
DESCRIPTION;ENCODING=QUOTED-PRINTABLE:\n\n \n\n\n  \n\n\n \n\n\nIn 1985, the Scottsdale Air Fair was held on the 
 Scottsdale Airport grounds where the fair continued for 14 years until 2000
 . In 2011 the fair was resurrected and once again this year the City of Sco
 ttsdale is bringing back the Scottsdale Air Fair. Produced by ZULU Caffé an
 d Sound Lighting F/X, this two day family festival will provide your compan
 y the opportunity to gain new customers and increase loyalty at the grass r
 oots level by offering an opportunity to interact face to face with consume
 rs.\nWhen:Saturday, November 3, 2012\n Sunday, November 4, 201210:00 AM to 
 9:00 PM\n 10:00 Am to 5:00 PMWhere:Scottsdale Airport\n 15000 N. Airport Dr
 .\n Scottsdale, AZ 85260 Attendance:25,000 Admission:$10 Advanced Ticket Sa
 les, $12 Day of at the Gate\n $5 Children 12 & under\n FREE Admission to Mi
 litary Personnel with I.D. \nThe air will be “buzzing” with the sounds jets
 , helicopter take-offs, vintage war bird formation flights and fly-overs. B
 oth days will entertain with continual arrivals and departures of numerous 
 types of aircraft.\n \nStatic Displays\n\nMilitary Historical Airplanes\n C
 urrent Airplanes\n Military Ground Equipment\n Classic Automobiles\n\n\n \n
 \n\nVintage Airplanes\n Helicopters\n Emergency Response Vehicles\n Motorcy
 cles\n\n\n \nGround ActivitiesArts & Crafts Booths\n Aviation Simulators\n 
 Live EntertainmentFood Vendors\n Children’s Area\n Industry Booths \nJob Fa
 ir for Military Personnel\n\n\n \nMore Info:http://scottsdaleairfair.com/\n
 \n \n\n\n \n
DTSTAMP:20260420T144418Z
DTSTART;TZID=America/Phoenix:20121103T100000
DTEND;TZID=America/Phoenix:20121104T170000
SEQUENCE:0
TRANSP:OPAQUE
END:VEVENT
END:VCALENDAR