BEGIN:VCALENDAR
VERSION:2.0
PRODID:-//jEvents 2.0 for Joomla//EN
CALSCALE:GREGORIAN
METHOD:PUBLISH
BEGIN:VEVENT
UID:ce21918e936276f3b791edd9690a2c6f
CATEGORIES:Other Fly-In
CREATED:20120707T223043
SUMMARY:Hamfest & Fly-in Marana AVQ
LOCATION:Marana (AVQ)
DESCRIPTION;ENCODING=QUOTED-PRINTABLE:\n\nSee http://tucsonhamfest.com/ for More Info\n\n\n\nOctober 6, 2012 - Ma
 rana Regional Airport      Marana/Tucson, Arizona7:00 AM to 1:00 PM Just No
 rthwest of Tucson, AZ and only 1 hour South of the Phoenix metro area! MAJO
 R VENDOR RESERVATION HOTLINE:  1-800-909-0031 Join the crowds from Arizona,
  California, Nevada, New Mexico, Utah, and beyond!\nFly-in or drive in! Jus
 t be there!This is the BIG Ham Radio Event in Southern Arizona!\n\n\n
CONTACT:This email address is being protected from spambots. You need JavaScript enabled to view it.
				document.getElementById('cloakfc2d45a76f8df7d415f7a9434725fb19').innerHTML = '';
				var prefix = '&#109;a' + 'i&#108;' + '&#116;o';
				var path = 'hr' + 'ef' + '=';
				var addyfc2d45a76f8df7d415f7a9434725fb19 = 'r&#97;ndy' + '&#64;';
				addyfc2d45a76f8df7d415f7a9434725fb19 = addyfc2d45a76f8df7d415f7a9434725fb19 + 'w0hf' + '&#46;' + 'c&#111;m';
				var addy_textfc2d45a76f8df7d415f7a9434725fb19 = 'r&#97;ndy' + '&#64;' + 'w0hf' + '&#46;' + 'c&#111;m';document.getElementById('cloakfc2d45a76f8df7d415f7a9434725fb19').innerHTML += ''+addy_textfc2d45a76f8df7d415f7a9434725fb19+'';
		  1-800-909-0031
X-EXTRAINFO:OVARCOro Valley Amateur Radio Club2479 E Spring Pioneer LaneOro Valley, Ari
 zona  85755-1930
DTSTAMP:20260420T144449Z
DTSTART;TZID=America/Phoenix:20121006T070000
DTEND;TZID=America/Phoenix:20121006T130000
SEQUENCE:0
TRANSP:OPAQUE
END:VEVENT
END:VCALENDAR