BEGIN:VCALENDAR
VERSION:2.0
PRODID:-//jEvents 2.0 for Joomla//EN
CALSCALE:GREGORIAN
METHOD:PUBLISH
BEGIN:VEVENT
UID:3801e8916aed0574aae38552316260ce
CATEGORIES:Safety
CREATED:20120706T221240
SUMMARY:Safety Seminar at San Manuel
LOCATION:San Manuel (E77)
DESCRIPTION;ENCODING=QUOTED-PRINTABLE:\n\n \n\n \n\n\n\n\n\n\nDrive - In / Fly – In\n\nPANCAKE BREAKFAST & SAFETY
  SEMINAR\n \n\nSan Manuel Airport (E77)\nSATURDAY\nOctober 13, 2012\n7:00 –
  10:00 am\n\n\n \n\n\nPANCAKES\nEGGS/SAUSAGE\nCOFFEE & JUICE\nBREAKFAST: $7
 .00 per person\nEveryone is invited!\nProceeds from our Fly-in breakfast pr
 ovide scholarships for graduating seniors interested in aviation studies.\n
 \n\n\nSafety Seminar at 10:30 following breakfast:\n \n\n"Survival and Surv
 ival Equipment" \nPresented by\nHoward Deevers\n\n\n \n\n\n\nFOR MORE INFOR
 MATION CALL (520) 664-4812 or (520) 349-2723\n\n\n \n\n\n \n
CONTACT:Pat (520) 664-4812 or (520) 349-2723
DTSTAMP:20260420T163253Z
DTSTART;TZID=America/Phoenix:20121013T070000
DTEND;TZID=America/Phoenix:20121013T120000
SEQUENCE:0
TRANSP:OPAQUE
END:VEVENT
END:VCALENDAR