BEGIN:VCALENDAR
VERSION:2.0
PRODID:-//jEvents 2.0 for Joomla//EN
CALSCALE:GREGORIAN
METHOD:PUBLISH
BEGIN:VEVENT
UID:761e68c874cda6c7c3a8bc2f320587b8
CATEGORIES:Backcountry
CREATED:20120706T215437
SUMMARY:Grapevine Monthly Fly-In Weekend 
LOCATION:Grapevine (E75) near Roosevelt Lake
DESCRIPTION;ENCODING=QUOTED-PRINTABLE:\n\nGrapevine is open on the third weekend of each month, Fri through Sat.\
 n\n\nClick here for Shortfield.com airstrip info\n\n\nClick here for the GR
 APEVINE SAFETY BULLETIN\n\n\nThe camp host for December is:\n\n\nMike Andre
 sen\n\n\n \n
CONTACT:Mark Spencer This email address is being protected from spambots. You need JavaScript enabled to view it.
				document.getElementById('cloak338075c0834228d8681cd215a9a02631').innerHTML = '';
				var prefix = '&#109;a' + 'i&#108;' + '&#116;o';
				var path = 'hr' + 'ef' + '=';
				var addy338075c0834228d8681cd215a9a02631 = 'msp&#101;nc&#101;r' + '&#64;';
				addy338075c0834228d8681cd215a9a02631 = addy338075c0834228d8681cd215a9a02631 + 'th&#101;r&#97;f' + '&#46;' + '&#111;rg';
				var addy_text338075c0834228d8681cd215a9a02631 = 'msp&#101;nc&#101;r' + '&#64;' + 'th&#101;r&#97;f' + '&#46;' + '&#111;rg';document.getElementById('cloak338075c0834228d8681cd215a9a02631').innerHTML += ''+addy_text338075c0834228d8681cd215a9a02631+'';
		 520-826-2112
DTSTAMP:20260420T143402Z
DTSTART;TZID=America/Phoenix;VALUE=DATE:20121214
DTEND;TZID=America/Phoenix;VALUE=DATE:20121217
SEQUENCE:0
TRANSP:OPAQUE
END:VEVENT
END:VCALENDAR