BEGIN:VCALENDAR
VERSION:2.0
PRODID:-//jEvents 2.0 for Joomla//EN
CALSCALE:GREGORIAN
METHOD:PUBLISH
BEGIN:VEVENT
UID:11286f4e42d509305c7557a0d760d5f9
CATEGORIES:Backcountry
CREATED:20120706T215313
SUMMARY:Grapevine Monthly Fly-In Weekend
LOCATION:Grapevine (E75) near Roosevelt Lake
DESCRIPTION;ENCODING=QUOTED-PRINTABLE:\n\nGrapevine is now open on third weekend of each month, Fri through Sat.\
 n\n\nClick here for Shortfield.com airstrip info\n\n\nClick here for the GR
 APEVINE SAFETY BULLETIN\n\n\nThe camp host for November is: Dean Rozeboom\n
 \n\n \n
CONTACT:Mark Spencer This email address is being protected from spambots. You need JavaScript enabled to view it.
				document.getElementById('cloak42e44a1c9f1fc717518269ddeb97bcda').innerHTML = '';
				var prefix = '&#109;a' + 'i&#108;' + '&#116;o';
				var path = 'hr' + 'ef' + '=';
				var addy42e44a1c9f1fc717518269ddeb97bcda = 'msp&#101;nc&#101;r' + '&#64;';
				addy42e44a1c9f1fc717518269ddeb97bcda = addy42e44a1c9f1fc717518269ddeb97bcda + 'th&#101;r&#97;f' + '&#46;' + '&#111;rg';
				var addy_text42e44a1c9f1fc717518269ddeb97bcda = 'msp&#101;nc&#101;r' + '&#64;' + 'th&#101;r&#97;f' + '&#46;' + '&#111;rg';document.getElementById('cloak42e44a1c9f1fc717518269ddeb97bcda').innerHTML += ''+addy_text42e44a1c9f1fc717518269ddeb97bcda+'';
		 520-826-2112
DTSTAMP:20260420T143251Z
DTSTART;TZID=America/Phoenix;VALUE=DATE:20121116
DTEND;TZID=America/Phoenix;VALUE=DATE:20121119
SEQUENCE:0
TRANSP:OPAQUE
END:VEVENT
END:VCALENDAR