BEGIN:VCALENDAR
VERSION:2.0
PRODID:-//jEvents 2.0 for Joomla//EN
CALSCALE:GREGORIAN
METHOD:PUBLISH
BEGIN:VEVENT
UID:0ef167a0fa6ad69a661cc1c720010065
CATEGORIES:Backcountry
CREATED:20120706T214357
SUMMARY:Grapevine Monthly Fly-In Weekend 
LOCATION:Grapevine (E75) near Roosevelt Lake
DESCRIPTION;ENCODING=QUOTED-PRINTABLE:\n\nGrapevine is now open on third weekend of each month, Fri through Sat.\
 n\n\nClick here for Shortfield.com airstrip info\n\n\nClick here for the GR
 APEVINE SAFETY BULLETIN\n\n\nThe camp host for October is:\n\n\n \n
CONTACT:Mark Spencer This email address is being protected from spambots. You need JavaScript enabled to view it.
				document.getElementById('cloakf2388e01b13f8027e55622e701d4a1e9').innerHTML = '';
				var prefix = '&#109;a' + 'i&#108;' + '&#116;o';
				var path = 'hr' + 'ef' + '=';
				var addyf2388e01b13f8027e55622e701d4a1e9 = 'msp&#101;nc&#101;r' + '&#64;';
				addyf2388e01b13f8027e55622e701d4a1e9 = addyf2388e01b13f8027e55622e701d4a1e9 + 'th&#101;r&#97;f' + '&#46;' + '&#111;rg';
				var addy_textf2388e01b13f8027e55622e701d4a1e9 = 'msp&#101;nc&#101;r' + '&#64;' + 'th&#101;r&#97;f' + '&#46;' + '&#111;rg';document.getElementById('cloakf2388e01b13f8027e55622e701d4a1e9').innerHTML += ''+addy_textf2388e01b13f8027e55622e701d4a1e9+'';
		 520-826-2112
DTSTAMP:20260420T143239Z
DTSTART;TZID=America/Phoenix;VALUE=DATE:20121019
DTEND;TZID=America/Phoenix;VALUE=DATE:20121022
SEQUENCE:0
TRANSP:OPAQUE
END:VEVENT
END:VCALENDAR