BEGIN:VCALENDAR
VERSION:2.0
PRODID:-//jEvents 2.0 for Joomla//EN
CALSCALE:GREGORIAN
METHOD:PUBLISH
BEGIN:VEVENT
UID:f41b7a42ae40a923aa365945c2181e11
CATEGORIES:Backcountry
CREATED:20120706T213316
SUMMARY:Grapevine Monthly Fly-In Weekend
LOCATION:Grapevine (E75) near Roosevelt Lake
DESCRIPTION;ENCODING=QUOTED-PRINTABLE:GRAPEVINE\n\nATTENTION PILOTS\nThe monsoon rains have brought about a lot o
 f growth in the cracks and along the runway edges at Grapevine.\nWith our l
 imited number of volunteers, we will try to have these completely cleared b
 y Saturday AM.\nPlease use caution and make a low pass if necessary to deci
 de if the runway condition is adequate for your aircraft and skill level.\n
 \n\n \n\n\nGrapevine is now open on third weekend of each month, Fri throug
 h Sat.\n\n\nClick here for Shortfield.com airstrip info\n\n\nClick here for
  the GRAPEVINE SAFETY BULLETIN\n\n\nThe camp host for September is: Paul Pi
 tkin \n\n\n \n
CONTACT:Mark Spencer This email address is being protected from spambots. You need JavaScript enabled to view it.
				document.getElementById('cloak81607746d901ac43edc2ed6e074487f2').innerHTML = '';
				var prefix = '&#109;a' + 'i&#108;' + '&#116;o';
				var path = 'hr' + 'ef' + '=';
				var addy81607746d901ac43edc2ed6e074487f2 = 'msp&#101;nc&#101;r' + '&#64;';
				addy81607746d901ac43edc2ed6e074487f2 = addy81607746d901ac43edc2ed6e074487f2 + 'th&#101;r&#97;f' + '&#46;' + '&#111;rg';
				var addy_text81607746d901ac43edc2ed6e074487f2 = 'msp&#101;nc&#101;r' + '&#64;' + 'th&#101;r&#97;f' + '&#46;' + '&#111;rg';document.getElementById('cloak81607746d901ac43edc2ed6e074487f2').innerHTML += ''+addy_text81607746d901ac43edc2ed6e074487f2+'';
		 520-826-2112
DTSTAMP:20260420T143527Z
DTSTART;TZID=America/Phoenix;VALUE=DATE:20120914
DTEND;TZID=America/Phoenix;VALUE=DATE:20120917
SEQUENCE:0
TRANSP:OPAQUE
END:VEVENT
END:VCALENDAR