BEGIN:VCALENDAR
VERSION:2.0
PRODID:-//jEvents 2.0 for Joomla//EN
CALSCALE:GREGORIAN
METHOD:PUBLISH
BEGIN:VEVENT
UID:d2ef58de5a6e2ff3e779094821e44476
CATEGORIES:Backcountry
CREATED:20120706T212031
SUMMARY:Pleasant Valley Turf (P48) Fly-In
LOCATION:Pleasant Valley Turf (P48) 
DESCRIPTION;ENCODING=QUOTED-PRINTABLE:\n\n\n\n\nLast year's event was a huge success, and this year should be eve
 n better! &nbsp;A mountain flying clinic, flour sack drops, asphalt and gra
 vel runways, and much much more! &nbsp;\n
CONTACT:Tommy Thomason This email address is being protected from spambots. You need JavaScript enabled to view it.
				document.getElementById('cloakfcbc71c3430f16f9a091fab78ec937a4').innerHTML = '';
				var prefix = '&#109;a' + 'i&#108;' + '&#116;o';
				var path = 'hr' + 'ef' + '=';
				var addyfcbc71c3430f16f9a091fab78ec937a4 = 't&#101;th&#111;m&#97;s&#111;n' + '&#64;';
				addyfcbc71c3430f16f9a091fab78ec937a4 = addyfcbc71c3430f16f9a091fab78ec937a4 + 'c&#111;x' + '&#46;' + 'n&#101;t';
				var addy_textfcbc71c3430f16f9a091fab78ec937a4 = 't&#101;th&#111;m&#97;s&#111;n' + '&#64;' + 'c&#111;x' + '&#46;' + 'n&#101;t';document.getElementById('cloakfcbc71c3430f16f9a091fab78ec937a4').innerHTML += ''+addy_textfcbc71c3430f16f9a091fab78ec937a4+'';
		 or Bernie Gross This email address is being protected from spambots. You need JavaScript enabled to view it.
				document.getElementById('cloak9ac6bec1abde2ed978530b30e2f94396').innerHTML = '';
				var prefix = '&#109;a' + 'i&#108;' + '&#116;o';
				var path = 'hr' + 'ef' + '=';
				var addy9ac6bec1abde2ed978530b30e2f94396 = 'b&#101;rn&#105;&#101;88fd' + '&#64;';
				addy9ac6bec1abde2ed978530b30e2f94396 = addy9ac6bec1abde2ed978530b30e2f94396 + '&#97;&#111;l' + '&#46;' + 'c&#111;m';
				var addy_text9ac6bec1abde2ed978530b30e2f94396 = 'b&#101;rn&#105;&#101;88fd' + '&#64;' + '&#97;&#111;l' + '&#46;' + 'c&#111;m';document.getElementById('cloak9ac6bec1abde2ed978530b30e2f94396').innerHTML += ''+addy_text9ac6bec1abde2ed978530b30e2f94396+'';
		
X-EXTRAINFO:CTAF 122.9 Right Traffic Rwy 14
DTSTAMP:20260420T144418Z
DTSTART;TZID=America/Phoenix:20130209T080000
DTEND;TZID=America/Phoenix:20130209T150000
SEQUENCE:0
TRANSP:OPAQUE
END:VEVENT
END:VCALENDAR