BEGIN:VCALENDAR
VERSION:2.0
PRODID:-//jEvents 2.0 for Joomla//EN
CALSCALE:GREGORIAN
METHOD:PUBLISH
BEGIN:VEVENT
UID:n2e9nhda1dh3khvnkl2v7pq3fg@google.com
CATEGORIES:Backcountry
CREATED:20120521T160912
SUMMARY:Double Circle Ranch Fly-In Camping
LOCATION:Double Circle Ranch/Eagle Creek near Clifton, AZ
DESCRIPTION;ENCODING=QUOTED-PRINTABLE:\n \n\n\n\n \n\n\n\n\n\n \n\n\n The day we’ve been waiting for is finally o
 n the calendar! The Clifton District of the Apache Sitgreaves National Fore
 st has partnered with the APA and RAF to enable the pilot community to enjo
 y our first fly-in camp the weekend of October 6-7th. If you have followed 
 our previous articles on this site, you know that it is a gem of American S
 outhwestern history. Its 2400’ backcountry airstrip will enable the aviatio
 n community to play a major role in the preservation of the structures, cem
 etery and rusting relics that comprise this incredible piece of history. Ty
  Greenwade, whose grandfather and uncle homesteaded just up Eagle creek fro
 m this site, will be coordinating this event, including a Saturday evening 
 BBQ and stories from locals around the campfire. With aircraft parking limi
 ted to roughly 20 -25 aircraft, we’ll be coordinating this event through ou
 r web based registration process. This process allows us to accept your com
 mitment to attend on a first come first serve basis, and aids in conveying 
 important information you’ll need to attend and be part of this incredibly 
 important event. Plan on enjoying a very special weekend and beginning of a
  long term partnership on this airstrip.\n\n\n \n\n\nMark Spencer – RAF Sta
 te Liaison \nThis email address is being protected from spambots. You need 
 JavaScript enabled to view it.
				document.getElementById('cloak7796a401ea
 92bb743480628f313eb22d').innerHTML = '';
				var prefix = '&#109;a' + 'i&#1
 08;' + '&#116;o';
				var path = 'hr' + 'ef' + '=';
				var addy7796a401ea9
 2bb743480628f313eb22d = 'msp&#101;nc&#101;r' + '&#64;';
				addy7796a401ea9
 2bb743480628f313eb22d = addy7796a401ea92bb743480628f313eb22d + 'th&#101;r&#
 97;f' + '&#46;' + '&#111;rg';
				var addy_text7796a401ea92bb743480628f313e
 b22d = 'msp&#101;nc&#101;r' + '&#64;' + 'th&#101;r&#97;f' + '&#46;' + '&#11
 1;rg';document.getElementById('cloak7796a401ea92bb743480628f313eb22d').inne
 rHTML += ''+addy_text7796a401ea92bb743480628f313eb22d+'';
		 \n\n\n \n\n\n 
 \n\n\n \n\n\nArrival: If you prefer to fly in early you may come on Friday 
 afternoon, Oct. 5th, but most aircraft will be arriving Saturday morning. P
 lan for high density altitude at this 30x2400’ airstrip at 4800’ elevation.
 \n\n\n \n\n\nActivities:\n\n\n \n\n - Plan on exploring the area’s 1000 yea
 r history of human activity, look, touch, and leave it where you found it!\
 n\n - Take part in our conversations with the Forest Service and help shape
  the pilot community’s future involvement and preservation work at this inc
 redible site.\n - Enjoy stories from the locals around the evening camp fir
 e. Bring your guitars and other instruments!\n - Participate in an aerial r
 econ of the local antelope heard.\n - Join others for a short flight to the
  Negrito airstrip in NM and say hello to our fellow NM pilots at the annual
  Negrito fly-in camp.\n - Lend a hand in cleaning up the remaining historic
 al cabins we hope to utilize at future events.\n\n \n\n\nFood: The APA will
  be providing the main course BBQ on Saturday the 6th.  Please bring a side
  and some munchies to share.  The BBQ will start around 4:00 plan on eating
  around 5:00. A light Sunday morning breakfast will also be provided.  As a
 lways, your tax deductible donations towards the cost of this event will gl
 adly be accepted.\n\n\n \n\n\n \n\n\nCamping:  A port-a-john will be availa
 ble for convenience. Other than that, this is roughing it under the stars! 
 Bring insect repellant and plan for warm days and cool nights. Snakes may b
 e prevalent at this time of year. The APA will provide bottled water.\n\n\n
  \n\n\n \n\n\nComply with “Leave No Trace Land Ethics” for more information
  go to http://lnt.org/learn/7-principles\n\n\n \n\n\n \n\n\nWeather: The we
 ather should be beautiful! October temperatures in Eagle Creek on average w
 ill bring day time highs in the high 70’s with night time lows in the mid-l
 ow 40’s.  Greenlee County Airport (KCFT) is approx. 19.5 NM SE of Eagle Cre
 ek. WX AWOS-3: 119.05 (928-687-1116)\n\n\n \n\n\n \n\n\nSafety: Download an
 d read the Double Circle Safety Brochure\n\n\n \n\n\n \n\n\nSnakes can be p
 revalent in this area! Flashlights are a must, and tent camping is recommen
 ded.\n\n\n \n\n\nRegistration: Due to limited aircraft parking, this event 
 will require pre-registration at the APA website. Once you are registered, 
 any changes, details or cancellations will be sent to registered participan
 ts via e-mail. If for any reason you decide you cannot attend, please notif
 y us immediately so that we can allow another aviator to attend in your pla
 ce.\n\n\n \n\n\n \n\n\nLiability Waver:  If you have not completed the APA 
 Liability Waiver, please download and mail, email, or fax to 520-826-3101.\
 n\n\n \n\n\n \n\n\nContacts: \nTy at This email address is being protected 
 from spambots. You need JavaScript enabled to view it.
				document.getElem
 entById('cloak8f7f31b429fb091fa14689f3b0b0ec9e').innerHTML = '';
				var pr
 efix = '&#109;a' + 'i&#108;' + '&#116;o';
				var path = 'hr' + 'ef' + '=';
 
				var addy8f7f31b429fb091fa14689f3b0b0ec9e = 'tgr&#101;&#101;nw&#97;d&#1
 01;' + '&#64;';
				addy8f7f31b429fb091fa14689f3b0b0ec9e = addy8f7f31b429fb
 091fa14689f3b0b0ec9e + 'gm&#97;&#105;l' + '&#46;' + 'c&#111;m';
				var add
 y_text8f7f31b429fb091fa14689f3b0b0ec9e = 'tgr&#101;&#101;nw&#97;d&#101;' + 
 '&#64;' + 'gm&#97;&#105;l' + '&#46;' + 'c&#111;m';document.getElementById('
 cloak8f7f31b429fb091fa14689f3b0b0ec9e').innerHTML += ''+addy_text8f7f31b429
 fb091fa14689f3b0b0ec9e+'';
		 480.250.7308\nMark at This email address is b
 eing protected from spambots. You need JavaScript enabled to view it.
				d
 ocument.getElementById('cloak2da87163a614301bfee1b434ed3631da').innerHTML =
  '';
				var prefix = '&#109;a' + 'i&#108;' + '&#116;o';
				var path = 'hr
 ' + 'ef' + '=';
				var addy2da87163a614301bfee1b434ed3631da = 'msp&#101;nc
 &#101;r' + '&#64;';
				addy2da87163a614301bfee1b434ed3631da = addy2da87163
 a614301bfee1b434ed3631da + 'th&#101;RAF' + '&#46;' + '&#111;rg';
				var ad
 dy_text2da87163a614301bfee1b434ed3631da = 'msp&#101;nc&#101;r' + '&#64;' + 
 'th&#101;RAF' + '&#46;' + '&#111;rg';document.getElementById('cloak2da87163
 a614301bfee1b434ed3631da').innerHTML += ''+addy_text2da87163a614301bfee1b43
 4ed3631da+'';
		 520.826.2112\nTommy at This email address is being protect
 ed from spambots. You need JavaScript enabled to view it.
				document.getE
 lementById('cloak35e9d181ecb08996cd597edc48c00cd0').innerHTML = '';
				var
  prefix = '&#109;a' + 'i&#108;' + '&#116;o';
				var path = 'hr' + 'ef' + '
 =';
				var addy35e9d181ecb08996cd597edc48c00cd0 = 't&#101;th&#111;m&#97;s&
 #111;n' + '&#64;';
				addy35e9d181ecb08996cd597edc48c00cd0 = addy35e9d181e
 cb08996cd597edc48c00cd0 + '&#97;zp&#105;l&#111;ts' + '&#46;' + '&#111;rg';

 				var addy_text35e9d181ecb08996cd597edc48c00cd0 = 't&#101;th&#111;m&#97;s
 &#111;n' + '&#64;' + '&#97;zp&#105;l&#111;ts' + '&#46;' + '&#111;rg';docume
 nt.getElementById('cloak35e9d181ecb08996cd597edc48c00cd0').innerHTML += ''+
 addy_text35e9d181ecb08996cd597edc48c00cd0+'';
		 602.708.2040\n\n\n \n\n\n 
 \n\n\nPhotos from Double Circle Ranch...\n\n\n \n\n\n \n\n\n\n\n\n \n
CONTACT:Ty: This email address is being protected from spambots. You need JavaScript enabled to view it.
				document.getElementById('cloaka2114b7f72591d021a453a6df8aeba41').innerHTML = '';
				var prefix = '&#109;a' + 'i&#108;' + '&#116;o';
				var path = 'hr' + 'ef' + '=';
				var addya2114b7f72591d021a453a6df8aeba41 = 'tgr&#101;&#101;nw&#97;d&#101;' + '&#64;';
				addya2114b7f72591d021a453a6df8aeba41 = addya2114b7f72591d021a453a6df8aeba41 + 'gm&#97;&#105;l' + '&#46;' + 'c&#111;m';
				var addy_texta2114b7f72591d021a453a6df8aeba41 = 'tgr&#101;&#101;nw&#97;d&#101;' + '&#64;' + 'gm&#97;&#105;l' + '&#46;' + 'c&#111;m';document.getElementById('cloaka2114b7f72591d021a453a6df8aeba41').innerHTML += ''+addy_texta2114b7f72591d021a453a6df8aeba41+'';
		, Mark: This email address is being protected from spambots. You need JavaScript enabled to view it.
				document.getElementById('cloakac719281c52503543a873ae37101aff7').innerHTML = '';
				var prefix = '&#109;a' + 'i&#108;' + '&#116;o';
				var path = 'hr' + 'ef' + '=';
				var addyac719281c52503543a873ae37101aff7 = 'msp&#101;nc&#101;r' + '&#64;';
				addyac719281c52503543a873ae37101aff7 = addyac719281c52503543a873ae37101aff7 + 'th&#101;r&#97;f' + '&#46;' + '&#111;rg';
				var addy_textac719281c52503543a873ae37101aff7 = 'msp&#101;nc&#101;r' + '&#64;' + 'th&#101;r&#97;f' + '&#46;' + '&#111;rg';document.getElementById('cloakac719281c52503543a873ae37101aff7').innerHTML += ''+addy_textac719281c52503543a873ae37101aff7+'';
		, Tommy: This email address is being protected from spambots. You need JavaScript enabled to view it.
				document.getElementById('cloak854f51ec17d917d9919cf79041ed36c1').innerHTML = '';
				var prefix = '&#109;a' + 'i&#108;' + '&#116;o';
				var path = 'hr' + 'ef' + '=';
				var addy854f51ec17d917d9919cf79041ed36c1 = 't&#101;th&#111;m&#97;s&#111;n' + '&#64;';
				addy854f51ec17d917d9919cf79041ed36c1 = addy854f51ec17d917d9919cf79041ed36c1 + '&#97;zp&#105;l&#111;ts' + '&#46;' + '&#111;rg';
				var addy_text854f51ec17d917d9919cf79041ed36c1 = 't&#101;th&#111;m&#97;s&#111;n' + '&#64;' + '&#97;zp&#105;l&#111;ts' + '&#46;' + '&#111;rg';document.getElementById('cloak854f51ec17d917d9919cf79041ed36c1').innerHTML += ''+addy_text854f51ec17d917d9919cf79041ed36c1+'';
		
DTSTAMP:20260420T143251Z
DTSTART;TZID=America/Phoenix;VALUE=DATE:20121006
DTEND;TZID=America/Phoenix;VALUE=DATE:20121008
SEQUENCE:0
TRANSP:OPAQUE
END:VEVENT
END:VCALENDAR