BEGIN:VCALENDAR
VERSION:2.0
PRODID:-//jEvents 2.0 for Joomla//EN
CALSCALE:GREGORIAN
METHOD:PUBLISH
BEGIN:VEVENT
UID:ab4f7c6827162793ed7b710b4258e44c
CATEGORIES:Backcountry
CREATED:20120706T184720
SUMMARY:El Tiro Gliderport Fly-In & Camping
LOCATION:El Tiro Gliderport AZ67
DESCRIPTION;ENCODING=QUOTED-PRINTABLE:\n\nJoin the Tucson Soaring Club for a fly-in BBQ and camp out. Glider ride
 s will be available (contact them for pricing information). \n\n\n$5 hambur
 ger lunch, glider rides, camping, potluck dinner, free tour of LSA Lightnin
 g factory near by. Contact Bernie Gross at This email address is being prot
 ected from spambots. You need JavaScript enabled to view it.
				document.g
 etElementById('cloak0d93e61603b75c46ced0f8caa7b5f944').innerHTML = '';
				
 var prefix = '&#109;a' + 'i&#108;' + '&#116;o';
				var path = 'hr' + 'ef' 
 + '=';
				var addy0d93e61603b75c46ced0f8caa7b5f944 = 'BERNIE88FD' + '&#64;
 ';
				addy0d93e61603b75c46ced0f8caa7b5f944 = addy0d93e61603b75c46ced0f8caa
 7b5f944 + '&#97;&#111;l' + '&#46;' + 'c&#111;m';
				var addy_text0d93e6160
 3b75c46ced0f8caa7b5f944 = 'BERNIE88FD' + '&#64;' + '&#97;&#111;l' + '&#46;'
  + 'c&#111;m';document.getElementById('cloak0d93e61603b75c46ced0f8caa7b5f94
 4').innerHTML += ''+addy_text0d93e61603b75c46ced0f8caa7b5f944+'';
		 or Ron
  Stafford at This email address is being protected from spambots. You need 
 JavaScript enabled to view it.
				document.getElementById('cloak21f5d350db
 804fb10c292c3d47420023').innerHTML = '';
				var prefix = '&#109;a' + 'i&#1
 08;' + '&#116;o';
				var path = 'hr' + 'ef' + '=';
				var addy21f5d350db8
 04fb10c292c3d47420023 = 'st&#97;ff&#111;rdc&#111;ns&#117;lt&#97;nts' + '&#6
 4;';
				addy21f5d350db804fb10c292c3d47420023 = addy21f5d350db804fb10c292c3
 d47420023 + 'c&#111;x' + '&#46;' + 'n&#101;t';
				var addy_text21f5d350db8
 04fb10c292c3d47420023 = 'st&#97;ff&#111;rdc&#111;ns&#117;lt&#97;nts' + '&#6
 4;' + 'c&#111;x' + '&#46;' + 'n&#101;t';document.getElementById('cloak21f5d
 350db804fb10c292c3d47420023').innerHTML += ''+addy_text21f5d350db804fb10c29
 2c3d47420023+'';
		.\n\n\nAirNav contact info: http://www.airnav.com/airpor
 t/AZ67/ \n\n\n\n AZ Pilots Association Contact: Bernie Gross This email add
 ress is being protected from spambots. You need JavaScript enabled to view 
 it.
				document.getElementById('cloak029c23847d75f84b81e80a24a52072da').in
 nerHTML = '';
				var prefix = '&#109;a' + 'i&#108;' + '&#116;o';
				var p
 ath = 'hr' + 'ef' + '=';
				var addy029c23847d75f84b81e80a24a52072da = 'b&
 #101;rn&#105;&#101;88fd' + '&#64;';
				addy029c23847d75f84b81e80a24a52072d
 a = addy029c23847d75f84b81e80a24a52072da + '&#97;&#111;l' + '&#46;' + 'c&#1
 11;m';
				var addy_text029c23847d75f84b81e80a24a52072da = 'b&#101;rn&#105;
 &#101;88fd' + '&#64;' + '&#97;&#111;l' + '&#46;' + 'c&#111;m';document.getE
 lementById('cloak029c23847d75f84b81e80a24a52072da').innerHTML += ''+addy_te
 xt029c23847d75f84b81e80a24a52072da+'';
		\n\n\n \n\n\n \n
CONTACT:Bernie Gross This email address is being protected from spambots. You need JavaScript enabled to view it.
				document.getElementById('cloakbc8e9766cd2500f82d1538e90f5b438e').innerHTML = '';
				var prefix = '&#109;a' + 'i&#108;' + '&#116;o';
				var path = 'hr' + 'ef' + '=';
				var addybc8e9766cd2500f82d1538e90f5b438e = 'b&#101;rn&#105;&#101;88fd' + '&#64;';
				addybc8e9766cd2500f82d1538e90f5b438e = addybc8e9766cd2500f82d1538e90f5b438e + '&#97;&#111;l' + '&#46;' + 'c&#111;m';
				var addy_textbc8e9766cd2500f82d1538e90f5b438e = 'b&#101;rn&#105;&#101;88fd' + '&#64;' + '&#97;&#111;l' + '&#46;' + 'c&#111;m';document.getElementById('cloakbc8e9766cd2500f82d1538e90f5b438e').innerHTML += ''+addy_textbc8e9766cd2500f82d1538e90f5b438e+'';
		
DTSTAMP:20260420T144418Z
DTSTART;TZID=America/Phoenix;VALUE=DATE:20121117
DTEND;TZID=America/Phoenix;VALUE=DATE:20121119
SEQUENCE:0
TRANSP:OPAQUE
END:VEVENT
END:VCALENDAR