BEGIN:VCALENDAR
VERSION:2.0
PRODID:-//jEvents 2.0 for Joomla//EN
CALSCALE:GREGORIAN
METHOD:PUBLISH
BEGIN:VEVENT
UID:c70esdfl9dpqasl7pbc47ktid4@google.com
CATEGORIES:Other Fly-In
CREATED:20120521T160913
SUMMARY:Copperstate in Casa Grande
LOCATION:KCGZ Casa Grande
DESCRIPTION;ENCODING=QUOTED-PRINTABLE:\n\nwww.Copperstate.org\n\n\nSince its first event in 1973, the COPPERSTATE
  Fly-In has been bringing together aviation enthusiasts in the southwest Un
 ited States. COPPERSTATE is the largest Fly-In of its type in the western U
 nited States and the fourth largest Fly-In in the United States. It is held
  at the Casa Grande Municipal Airport (KCGZ) in Casa Grande, AZ. Casa Grand
 e is located approximately halfway between Phoenix and Tucson.\n
DTSTAMP:20260420T143239Z
DTSTART;TZID=America/Phoenix;VALUE=DATE:20121025
DTEND;TZID=America/Phoenix;VALUE=DATE:20121028
SEQUENCE:0
TRANSP:OPAQUE
END:VEVENT
END:VCALENDAR