BEGIN:VCALENDAR
VERSION:2.0
PRODID:-//jEvents 2.0 for Joomla//EN
CALSCALE:GREGORIAN
METHOD:PUBLISH
BEGIN:VEVENT
UID:b5qnm1ckruo5p4l9rv59e4f9oo@google.com
CATEGORIES:Other Fly-In
CREATED:20120521T160913
SUMMARY:Cactus Fly-In in Casa Crande
LOCATION:(CGZ) Casa Grande, AZ
DESCRIPTION;ENCODING=QUOTED-PRINTABLE:\n\nhttp://www.cactusflyin.org/ \nFrom the Arizona Antique Aircraft Associa
 tion:\nThe Cactus Fly-In is held the first full weekend in March in the lai
 d-back environment of an uncontrolled airport. The emphasis is on aircraft 
 and the people that restore, build, maintain, fly, and talk about aircraft.
  It is an easygoing, memorable annual social event in contrast to other ven
 ues that focus on air races, air shows, air events, commercialism, growth, 
 and profit. AND we have no PA system to annoy you while you are looking at 
 the aircraft and talking with your friends. With the exception of vendors, 
 the Fly-In is manned totally by volunteers.\n\n\n
DTSTAMP:20260420T144449Z
DTSTART;TZID=America/Phoenix;VALUE=DATE:20120302
DTEND;TZID=America/Phoenix;VALUE=DATE:20120304
SEQUENCE:0
TRANSP:OPAQUE
END:VEVENT
END:VCALENDAR