BEGIN:VCALENDAR
VERSION:2.0
PRODID:-//jEvents 2.0 for Joomla//EN
CALSCALE:GREGORIAN
METHOD:PUBLISH
BEGIN:VEVENT
UID:0d1f8436248884cb884b7e29fde3addc
CATEGORIES:Other Fly-In
CREATED:20241021T152213
SUMMARY:Skyranch Carefree Open House
LOCATION:Skyranch at Carefree
DESCRIPTION;ENCODING=QUOTED-PRINTABLE:Skyranch Carefree Open HouseNovember 9th, 2024 (Veteran's weekend)10 a.m. a
 nd 2 p.mthis is the kick-off event for the Township of Carefree's 40th Anni
 versaryopen to the publicFREE25-30 planes and +/- 50 cars on displaypossibl
 y antique motorcycles toodrone exhibitionpossible fly-overs&nbsp;Food truck
 s and inside seatingfree shuttle servicesAerial Engagement may be back with
  simulatorsVeteran's to raise flag and choir to sing anthemLooking into liv
 e music
DTSTAMP:20260423T014327Z
DTSTART;TZID=America/Phoenix:20241109T100000
DTEND;TZID=America/Phoenix:20241109T140000
SEQUENCE:0
TRANSP:OPAQUE
END:VEVENT
END:VCALENDAR