BEGIN:VCALENDAR
VERSION:2.0
PRODID:-//jEvents 2.0 for Joomla//EN
CALSCALE:GREGORIAN
METHOD:PUBLISH
BEGIN:VEVENT
UID:3554cca89ede1d9dcbe27b9b61c01945
CATEGORIES:Safety
CREATED:20241002T120833
SUMMARY:The WINGS Program and the Compliance Program
LOCATION:Embry Riddle Aeronautical Univ., Davis Learning Center (DLC) 3700 Willow Cr
 eek Rd. Bldg. 20 Prescott, AZ 86301
DESCRIPTION;ENCODING=QUOTED-PRINTABLE:The WINGS Program and the Compliance ProgramWINGS - The Pilot Proficiency a
 nd FAA Compliance Program - ExplainedDate and Time: Tuesday, October 8, 202
 4, starting at 18:00 ArizonaSpeaker(s): Brian Roggo and Cary Grant - FAASTe
 am Lead Reps &amp; WINGSProsBrief Description:This two hour seminar will pr
 esent the details of the WINGS program and how pilots can participate. The 
 benefits of participating will be highlighted and attendees will gain an un
 derstanding of how to use faasafety.gov to facilitate participation. The pr
 esentation will also show CFIs how to provide and validate activity credits
 .\nSelect Number: WP07132864Location of Seminar:Embry Riddle Aeronautical U
 niv., Davis Learning Center (DLC)\n3700 Willow Creek Rd.\nBldg. 20\nPrescot
 t, AZ&nbsp;86301Directions to Venue:\n\n***Entering at Dan Carrell Dr.*** E
 nter the ERAU campus from Willow Creek Rd. at the intersection of Dan Carre
 ll Dr. and Heritage Park Rd.. At the round-about, exit at the first opportu
 nity - north on Dobberteen Dr.. The Davis Learning Center (DLC), building 2
 0, is on the left side, about .1 miles from the round-about.\n\n\n***Enteri
 ng at Haas Blvd.*** Enter the ERAU campus from Willow Creek Rd., northernmo
 st entrance, on Haas Blvd. At the first four-way intersection, turn left on
  Dobberteen Dr. The DLC, building 20, is on the right side, about .1 miles 
 from the intersection.\n\n\nParking is primarily in Lot G, with secondary p
 arking options in Lots E&nbsp;and F.\nView MapFly-in Seminar?: NoSeating: 3
 96 seats at the facilityRegistration Information:&nbsp;Click here to regist
 er online now!Sponsoring Division: Scottsdale FAASTeamContact Information:C
 ary B. Grant\nPhone: 602-705-6605\nThis email address is being protected fr
 om spambots. You need JavaScript enabled to view it.
				document.getElemen
 tById('cloak5715386d744a8f668c8b7da99d0229f6').innerHTML = '';
				var pref
 ix = '&#109;a' + 'i&#108;' + '&#116;o';
				var path = 'hr' + 'ef' + '=';
	
 			var addy5715386d744a8f668c8b7da99d0229f6 = 'gr&#97;ntc3' + '&#64;';
				
 addy5715386d744a8f668c8b7da99d0229f6 = addy5715386d744a8f668c8b7da99d0229f6
  + '&#101;r&#97;&#117;' + '&#46;' + '&#101;d&#117;';
				var addy_text57153
 86d744a8f668c8b7da99d0229f6 = 'gr&#97;ntc3' + '&#64;' + '&#101;r&#97;&#117;
 ' + '&#46;' + '&#101;d&#117;';document.getElementById('cloak5715386d744a8f6
 68c8b7da99d0229f6').innerHTML += ''+addy_text5715386d744a8f668c8b7da99d0229
 f6+'';
		Additional Event Information &amp; Acknowledgement of Industry Spo
 nsor(s):Speakers are Cary Grant, Assistant Professor of Aeronautical Scienc
 e, President ASAG, United Captain (Ret), Lt Col USAF&nbsp;(Ret),&nbsp; and 
 Brian Roggo, Associate Dean of the College of Aviation, Department Chair of
  safety Science, will discuss the FAA Compliance Program and how it complim
 ents the goals of&nbsp;FAA Safety.&nbsp;&nbsp;Craig Tompkins and Ernie Cope
 land are&nbsp;the FAA Safety Team Program Managers for the Scottsdale Fligh
 t Standards District Office.\nPlease bring a tablet or laptop to follow alo
 ng on account creation and data inputs.\nThe objective of the WINGS—Pilot P
 roficiency Program is to reduce the number of accidents in General Aviation
  (GA) by assisting airmen to find educational opportunities designed to hel
 p them apply the principles of risk assessment and risk management (RM). Wh
 en properly applied, these principles will help mitigate accident causal fa
 ctors associated with common pilot errors, lack of proficiency, and faulty 
 knowledge. The Federal Aviation Administration’s (FAA) purpose is to encour
 age the majority of GA pilots, through WINGS, to engage in ongoing, targete
 d flying tasks and learning activities keyed to identified risks and which 
 are designed to mitigate those risks.\nThe Compliance Program represents a 
 focus on using — where appropriate — non-enforcement methods, or "Complianc
 e Actions." A Compliance Action can be described as&nbsp;FAA's non-enforcem
 ent methods for correcting unintentional deviations or noncompliance that a
 rise from factors such as flawed systems and procedures, simple mistakes, l
 ack of understanding, or diminished skills. A Compliance Action is not a le
 gal adjudication, nor does it constitute a finding of violation.\nPilot air
 space deviations continue to be a major risk in the national airspace syste
 m.&nbsp;To reduce the chance that you might be involved in an airspace devi
 ation incident, you are highly encouraged to take an on-line learning cente
 r course on&nbsp;http://www.faasafety.gov/.&nbsp;Or search the learning lib
 rary for associated guidance on airspace incursions.&nbsp;Remember, safe an
 d prudent airmen have superior situational awareness and have a plan to kee
 p it that way.\nEqual Access Information:The FAA Safety Team (FAASTeam) is 
 committed to providing equal access to this meeting/event for all participa
 nts. If you need alternative formats or services because of a disability, p
 lease communicate your request as soon as possible with the person in the “
 Contact Information” area of the meeting/event notice. Note that two weeks 
 is usually required to arrange services.Credit Applicability:1 Credit for B
 asic Knowledge Topic 31 Credit for Advanced Knowledge Topic 2
CONTACT:Cary B. Grant Phone: 602-705-6605 This email address is being protected from spambots. You need JavaScript enabled to view it.
				document.getElementById('cloak89dc9d9cdcd107ae0c2d31017754e27b').innerHTML = '';
				var prefix = '&#109;a' + 'i&#108;' + '&#116;o';
				var path = 'hr' + 'ef' + '=';
				var addy89dc9d9cdcd107ae0c2d31017754e27b = 'gr&#97;ntc3' + '&#64;';
				addy89dc9d9cdcd107ae0c2d31017754e27b = addy89dc9d9cdcd107ae0c2d31017754e27b + '&#101;r&#97;&#117;' + '&#46;' + '&#101;d&#117;';
				var addy_text89dc9d9cdcd107ae0c2d31017754e27b = 'gr&#97;ntc3' + '&#64;' + '&#101;r&#97;&#117;' + '&#46;' + '&#101;d&#117;';document.getElementById('cloak89dc9d9cdcd107ae0c2d31017754e27b').innerHTML += ''+addy_text89dc9d9cdcd107ae0c2d31017754e27b+'';
		
DTSTAMP:20260423T112105Z
DTSTART;TZID=America/Phoenix:20241008T180000
SEQUENCE:0
TRANSP:OPAQUE
END:VEVENT
END:VCALENDAR