BEGIN:VCALENDAR
VERSION:2.0
PRODID:-//jEvents 2.0 for Joomla//EN
CALSCALE:GREGORIAN
METHOD:PUBLISH
BEGIN:VEVENT
UID:b74ed97865c678ba39175d526233655e
CATEGORIES:APA Fly-In
CREATED:20240610T130346
SUMMARY:Breakfast Flight to San Carlos, AZ (P13)
LOCATION:San Carlos, AZ (P13)
DESCRIPTION;ENCODING=QUOTED-PRINTABLE:.SAN CARLOS, AZ&nbsp; &nbsp;--&nbsp; Airport P13&nbsp; --- Saturday, August
  17, 2024&nbsp; --- Planned arrival time at P13:&nbsp; 7:30amWe'll meet up 
 at the San Carlos Airport at 7:30am and walk to the casino restaurant acros
 s the street.&nbsp; There is no fuel or other services at the airport so be
  sure to flight plan accordingly.&nbsp;..APA's Summer, 2024 "breakfast flig
 ht" fly-out schedule:Hi everyone,&nbsp; I hope your summer has started off 
 well.&nbsp; As mentioned at our recent APA annual meeting, we have three br
 eakfast&nbsp;fly-outs planned for this summer.&nbsp; Given the typical Vall
 ey heat,&nbsp; our summer breakfast flights will include early arrivals at 
 our destinations so we can return home before&nbsp;the afternoon heat and t
 urbulence kicks-in.&nbsp; Don't forget to registerif you plan to attend so 
 that you'll receive any last minute updates and flight planning details...\
 nAs always, please feel free to email me at&nbsp;This email address is bein
 g protected from spambots. You need JavaScript enabled to view it.
				docu
 ment.getElementById('cloak860ccda77177e36c1e1d1ba763dd8c5e').innerHTML = ''
 ;
				var prefix = '&#109;a' + 'i&#108;' + '&#116;o';
				var path = 'hr' +
  'ef' + '=';
				var addy860ccda77177e36c1e1d1ba763dd8c5e = 'd&#97;ytr&#105
 ;ps' + '&#64;';
				addy860ccda77177e36c1e1d1ba763dd8c5e = addy860ccda77177
 e36c1e1d1ba763dd8c5e + '&#97;zp&#105;l&#111;ts' + '&#46;' + '&#111;rg';
			
 	var addy_text860ccda77177e36c1e1d1ba763dd8c5e = 'd&#97;ytr&#105;ps' + '&#6
 4;' + '&#97;zp&#105;l&#111;ts' + '&#46;' + '&#111;rg';document.getElementBy
 Id('cloak860ccda77177e36c1e1d1ba763dd8c5e').innerHTML += ''+addy_text860ccd
 a77177e36c1e1d1ba763dd8c5e+'';
		&nbsp;if you have any questions and we'll 
 look forward to seeing you at our upcoming breakfasts.Mike McCannAPA Day Tr
 ip Coordinator
CONTACT:Mike McCann This email address is being protected from spambots. You need JavaScript enabled to view it.
				document.getElementById('cloakb954d2855d97322efc3063a5e9796c8f').innerHTML = '';
				var prefix = '&#109;a' + 'i&#108;' + '&#116;o';
				var path = 'hr' + 'ef' + '=';
				var addyb954d2855d97322efc3063a5e9796c8f = 'd&#97;ytr&#105;ps' + '&#64;';
				addyb954d2855d97322efc3063a5e9796c8f = addyb954d2855d97322efc3063a5e9796c8f + '&#97;zp&#105;l&#111;ts' + '&#46;' + '&#111;rg';
				var addy_textb954d2855d97322efc3063a5e9796c8f = 'd&#97;ytr&#105;ps' + '&#64;' + '&#97;zp&#105;l&#111;ts' + '&#46;' + '&#111;rg';document.getElementById('cloakb954d2855d97322efc3063a5e9796c8f').innerHTML += ''+addy_textb954d2855d97322efc3063a5e9796c8f+'';
		
DTSTAMP:20260423T020336Z
DTSTART;TZID=America/Phoenix:20240817T073000
SEQUENCE:0
TRANSP:OPAQUE
END:VEVENT
END:VCALENDAR