BEGIN:VCALENDAR
VERSION:2.0
PRODID:-//jEvents 2.0 for Joomla//EN
CALSCALE:GREGORIAN
METHOD:PUBLISH
BEGIN:VEVENT
UID:b12d87f4a4d8b8ff6b2a6c2b084b0f65
CATEGORIES:Other Fly-In
CREATED:20240311T152648
SUMMARY:Springding Fly-in Breakfast at Aguila
LOCATION:51852 W Peter Road  Aguila, AZ
DESCRIPTION;ENCODING=QUOTED-PRINTABLE:\n\n\n\n\n&nbsp;\n\n\nSpringding Fly-in Breakfast\n\n\nRancho Cylinderos\n\
 n\nFly - Drive - Walk - Run\n\n\nJoin us for the best&nbsp;free breakfast a
 round!\n\n\nAll "cylinders" welcome, male or female!\n\n\nAt the hangar of 
 Lee &amp; Carolyn Jones (under the control tower)\n\n\nSat. March 23th 7:30
 -10:30\n\n\n51852 W Peter Road\n\n\nAguila, AZ\n\n\n(970) 350-2782\n\n\n(wa
 tch for signs off eagle eye rd)\n\n\n&nbsp;\n\n\nFAA Ident - 28AZ - Sampley
  Field\n\n\nCTAF - 122.9\n\n\nRunway - 17/35 - 17 right traffic, 35 left tr
 affic\n\n\nLength - 3,900 feet\n\n\nElevation - 2,208 feet\n\n\nSurface - 2
 ,000 feet hard surface, rest hard packed dirt\n\n\n(For those who prefer to
  land on 100% pavement, use the eagle roost runway just east (27AZ), Call 1
 22.9 for parking instructions &amp; we'll shuttle you over)\n
CONTACT:Lee & Carolyn Jones
DTSTAMP:20260425T121118Z
DTSTART;TZID=America/Phoenix:20240323T073000
DTEND;TZID=America/Phoenix:20240323T103000
SEQUENCE:0
TRANSP:OPAQUE
END:VEVENT
END:VCALENDAR