BEGIN:VCALENDAR
VERSION:2.0
PRODID:-//jEvents 2.0 for Joomla//EN
CALSCALE:GREGORIAN
METHOD:PUBLISH
BEGIN:VEVENT
UID:191b00ef220d31c2e7796d68a060d40c
CATEGORIES:Safety
CREATED:20240306T090814
SUMMARY:Greater Southwest Aviation Maintenance Symposium at Mesa
LOCATION:Chandler-Gilbert Community College Aviation Center 7360 E. Tahoe Avenue Blu
 ford Hall Mesa, AZ 85212
DESCRIPTION;ENCODING=QUOTED-PRINTABLE:Greater Southwest Aviation Maintenance Symposium (2 Day Event)Aviation Main
 tenance Continuing Education CoursesDate and Time: Thursday, March 7, 2024,
  starting at 08:00 ArizonaSpeaker(s): Multiple industry speakersBrief Descr
 iption:\n\nThe symposium is a 2 day event (March 7th &amp; 8th) registratio
 n will be from 6:45am until 8:00am. Seminar will begin promptly at 8:00am&n
 bsp;until 2:00pm, AZST/PDT, on both days.&nbsp;\n\n\n&nbsp;This event&nbsp;
 will provide an opportunity for:\n\n - Airframe and Powerplant (A&amp;P) ce
 rtificate holders to renew their Inspection Authorization (IA) ratings\n - 
 Technicians to earn points for the Aviation Maintenance Technicians Award.\
 n - Pilots can earn credit toward the Wings Program.\n - Please register at
 :\n - \n\nhttps://www.cgc.edu/aviation-symposium-registration-form\n\n - Fo
 r Wings and AMT Credit register here as well\n - http://www.faasafety.govSe
 lect Number: WP07127381Location of Seminar:Chandler-Gilbert Community Colle
 ge Aviation Center\n7360 E. Tahoe Avenue\nBluford Hall\nMesa, AZ&nbsp;85212
 Directions to Venue:From the San Tan 202 freeway, South on Power Road, then
  East on Ray Road, &nbsp;South on S. Sossaman Road then South(right) on S. 
 Avery\nFly-in Seminar?: Yes&nbsp;&nbsp;KIWASeating: 600 seats at the facili
 tyRegistration Information:&nbsp;Click here to register online now!Sponsori
 ng Division: FAASTeamContact Information:BEN YORK\nPhone: (480) 236-4634\nT
 his email address is being protected from spambots. You need JavaScript ena
 bled to view it.
				document.getElementById('cloakd418fd039e7a3b45d11e1e63
 cbd2e1ff').innerHTML = '';
				var prefix = '&#109;a' + 'i&#108;' + '&#116;
 o';
				var path = 'hr' + 'ef' + '=';
				var addyd418fd039e7a3b45d11e1e63c
 bd2e1ff = 'cpty&#111;rk' + '&#64;';
				addyd418fd039e7a3b45d11e1e63cbd2e1f
 f = addyd418fd039e7a3b45d11e1e63cbd2e1ff + '&#97;&#111;l' + '&#46;' + 'c&#1
 11;m';
				var addy_textd418fd039e7a3b45d11e1e63cbd2e1ff = 'cpty&#111;rk' +
  '&#64;' + '&#97;&#111;l' + '&#46;' + 'c&#111;m';document.getElementById('c
 loakd418fd039e7a3b45d11e1e63cbd2e1ff').innerHTML += ''+addy_textd418fd039e7
 a3b45d11e1e63cbd2e1ff+'';
		Additional Event Information &amp; Acknowledgem
 ent of Industry Sponsor(s):It is designed for everyone interested in aviati
 on in general and aviation maintenance specifically. The symposium targets 
 quality educational needs, provides opportunities for networking with the S
 outhwest Aviation community and up to date product improvement information.
 \nThe success of our symposium has been due, in large part, to the monetary
  contributions of the vendors. These monetary contributions help to pay for
  the coffee and donuts, all printing costs associated with the symposium, d
 oor prizes, etc. Participant contributions in the form of drawing and door 
 prizes help to account for the large attendance at these events.\nEqual Acc
 ess Information:The FAA Safety Team (FAASTeam) is committed to providing eq
 ual access to this meeting/event for all participants. If you need alternat
 ive formats or services because of a disability, please communicate your re
 quest as soon as possible with the person in the “Contact Information” area
  of the meeting/event notice. Note that two weeks is usually required to ar
 range services.Credit Applicability:2 Credits for Master Knowledge Topic 28
  Hours Total for AMT
CONTACT:BEN YORK Phone: (480) 236-4634 This email address is being protected from spambots. You need JavaScript enabled to view it.
				document.getElementById('cloakc47b20a05e441b19c7ec0abb366589f9').innerHTML = '';
				var prefix = '&#109;a' + 'i&#108;' + '&#116;o';
				var path = 'hr' + 'ef' + '=';
				var addyc47b20a05e441b19c7ec0abb366589f9 = 'cpty&#111;rk' + '&#64;';
				addyc47b20a05e441b19c7ec0abb366589f9 = addyc47b20a05e441b19c7ec0abb366589f9 + '&#97;&#111;l' + '&#46;' + 'c&#111;m';
				var addy_textc47b20a05e441b19c7ec0abb366589f9 = 'cpty&#111;rk' + '&#64;' + '&#97;&#111;l' + '&#46;' + 'c&#111;m';document.getElementById('cloakc47b20a05e441b19c7ec0abb366589f9').innerHTML += ''+addy_textc47b20a05e441b19c7ec0abb366589f9+'';
		
DTSTAMP:20260420T160025Z
DTSTART;TZID=America/Phoenix:20240307T080000
SEQUENCE:0
TRANSP:OPAQUE
END:VEVENT
END:VCALENDAR