BEGIN:VCALENDAR
VERSION:2.0
PRODID:-//jEvents 2.0 for Joomla//EN
CALSCALE:GREGORIAN
METHOD:PUBLISH
BEGIN:VEVENT
UID:8673d3d0bef4a8a54c58f1db3b210417
CATEGORIES:Safety
CREATED:20240216T072001
SUMMARY:50th Annual AZ Aviation Safety Awards Banquet-Jessica Cox and Presenters Talk Aviation Safety
LOCATION:Hilton Phoenix Airport 2435 S 47th St Phoenix, AZ 85034
DESCRIPTION;ENCODING=QUOTED-PRINTABLE:50th Annual AZ Aviation Safety Awards Banquet-Jessica Cox and Presenters Ta
 lk Aviation SafetyGala Event Honoring AZ's Nominees for General Aviation Sa
 fety Awards,AZ Airport, AZ Communicator &amp; Ruth Reinhold Award.Date and 
 Time:&nbsp;Saturday, February 24, 2024, starting at 17:00 ArizonaSpeaker(s)
 : FAASTeam Program Managers, Jessica Cox, ASAG and APA OfficersBrief Descri
 ption:Nominees and award winners will be recognized for Arizona's&nbsp;Gene
 ral Aviation&nbsp;Awards&nbsp;for Instructor (CFI), Maintenance Tech (AMT) 
 , FAA Safety Rep (REP) of the Year, Arizona Air Traffic Communicator of the
  Year, Arizona Airport Safety Award of the Year, and the Arizona Pilots Ass
 ociation's (APA)&nbsp; Ruth Reinhold Award.&nbsp;The winners for CFI, REP, 
 &amp; AMT&nbsp;go on to compete for regional and national recognition.\n\nT
 he Banquet Flyer with ticket &amp; additional information is linked here &a
 mp; also attached, please share &amp; welcome others.&nbsp;https://jdpricec
 fi.com/PDFs/ASAG-Banquet-Flyer7.pdf\n\nKeynote Speaker – Jessica Cox will s
 peak about how she safely flies her 1946 Ercoupe 415-C followed by taking q
 uestions.&nbsp;&nbsp;https://jessicacox.com/\n\nFor WINGS credit, register 
 here &amp; sign in on&nbsp;the WINGS registration sheet at the door.\nYou c
 an also get WINGS credit if you write your faasafety.gov name &amp; email o
 n the registration sheet at the door.\nSelect Number: WP07125984Location of
  Seminar:Hilton Phoenix Airport\n2435 S 47th St\nPhoenix, AZ&nbsp;85034Dire
 ctions to Venue:\n\nHilton Phoenix Airport&nbsp; 2435 S 47th St, Phoenix, A
 Z 85034\nNear Hohokam Expressway (also known as Arizona State Route 143 / S
 R 143)&nbsp;and East University Drive, then north (right) on S 47th St.\n\n
 \nFor those flying in, please make prior arrangements for your aircraft and
  with transport companies for rides to and from the event.\n\n\nThis event 
 has a fee, please see&nbsp;https://aviation-safety-advisory-group-of-arizon
 a-inc.square.site/\nView MapFly-in Seminar?: NoSeating: 200 seats at the fa
 cilityRegistration Information:&nbsp;Click here to register online now!Spon
 soring Division: N/AContact Information:Jim Anderson\nPhone: (623) 694-7742
 \nThis email address is being protected from spambots. You need JavaScript 
 enabled to view it.
				document.getElementById('cloak11a7be7d1744b4c48528e
 91269d63af1').innerHTML = '';
				var prefix = '&#109;a' + 'i&#108;' + '&#1
 16;o';
				var path = 'hr' + 'ef' + '=';
				var addy11a7be7d1744b4c48528e9
 1269d63af1 = 'j&#105;m&#97;nd&#101;rs&#111;nb4' + '&#64;';
				addy11a7be7d
 1744b4c48528e91269d63af1 = addy11a7be7d1744b4c48528e91269d63af1 + 'gm&#97;&
 #105;l' + '&#46;' + 'c&#111;m';
				var addy_text11a7be7d1744b4c48528e91269
 d63af1 = 'j&#105;m&#97;nd&#101;rs&#111;nb4' + '&#64;' + 'gm&#97;&#105;l' + 
 '&#46;' + 'c&#111;m';document.getElementById('cloak11a7be7d1744b4c48528e912
 69d63af1').innerHTML += ''+addy_text11a7be7d1744b4c48528e91269d63af1+'';
		
 Additional Event Information &amp; Acknowledgement of Industry Sponsor(s):T
 he Banquet concludes at 9 p.m.&nbsp; All times Arizona&nbsp; (GMT-7)\nTHERE
  IS A FEE FOR THIS EVENT Tickets are available in advance and Will Call at 
 the door.\nLimited seating available. To be guaranteed a seat please purcha
 se tickets in advance.\nFor ticket information please contact Jim Anderson 
 at 623-694-7742This email address is being protected from spambots. You nee
 d JavaScript enabled to view it.
				document.getElementById('cloakb47a1c3f
 c8e66519ae0ba44d483dbd9d').innerHTML = '';
				var prefix = '&#109;a' + 'i&
 #108;' + '&#116;o';
				var path = 'hr' + 'ef' + '=';
				var addyb47a1c3fc
 8e66519ae0ba44d483dbd9d = 'j&#105;m&#97;nd&#101;rs&#111;nb4' + '&#64;';
			
 	addyb47a1c3fc8e66519ae0ba44d483dbd9d = addyb47a1c3fc8e66519ae0ba44d483dbd9
 d + 'gm&#97;&#105;l' + '&#46;' + 'c&#111;m';
				var addy_textb47a1c3fc8e66
 519ae0ba44d483dbd9d = 'j&#105;m&#97;nd&#101;rs&#111;nb4' + '&#64;' + 'gm&#9
 7;&#105;l' + '&#46;' + 'c&#111;m';document.getElementById('cloakb47a1c3fc8e
 66519ae0ba44d483dbd9d').innerHTML += ''+addy_textb47a1c3fc8e66519ae0ba44d48
 3dbd9d+'';
		\nPreferred Method, go to&nbsp;WWW.ASAGAZ.ORG&nbsp;and click o
 n More on the upper right&nbsp;then click Donate.\nTo donate door prizes pl
 ease contact Jim Anderson at&nbsp;623-694-7742&nbsp;This email address is b
 eing protected from spambots. You need JavaScript enabled to view it.
				d
 ocument.getElementById('cloak7c028fcad07e02a4d35bc1a47fdd2e80').innerHTML =
  '';
				var prefix = '&#109;a' + 'i&#108;' + '&#116;o';
				var path = 'hr
 ' + 'ef' + '=';
				var addy7c028fcad07e02a4d35bc1a47fdd2e80 = 'j&#105;m&#9
 7;nd&#101;rs&#111;nb4' + '&#64;';
				addy7c028fcad07e02a4d35bc1a47fdd2e80 
 = addy7c028fcad07e02a4d35bc1a47fdd2e80 + 'gm&#97;&#105;l' + '&#46;' + 'c&#1
 11;m';
				var addy_text7c028fcad07e02a4d35bc1a47fdd2e80 = 'j&#105;m&#97;nd
 &#101;rs&#111;nb4@';document.getElementById('cloak7c028fcad07e02a4d35bc1a47
 fdd2e80').innerHTML += ''+addy_text7c028fcad07e02a4d35bc1a47fdd2e80+'';
		g
 mail\nThe ASAG would like to thank the FAA's Scottsdale FSDO's&nbsp; Ken Ne
 ttles, Office Manager; Tina Buskirk, Assistant Office Manager; Jeffrey Lars
 on, Scottsdale Flight Standards District Office, Front Line Manager (Operat
 ions); Ernest R. Copeland, FAA Safety Team Program Manager (Airworthiness);
  Craig Tompkins, FAA Safety Team Program Manager (Operations) and Terri L.&
 nbsp;Wolcott, Las Vegas, FAASTeam Program Manager (Operations) for their su
 pport of this and numerous aviation safety events and products.\nWe wish to
  thank&nbsp;Arizona Pilots Association (APA) for their support of this even
 t and aviation safety.\nMany thanks to&nbsp;&nbsp;Jessica Cox,&nbsp;our Key
 note Speaker!\nEqual Access Information:The FAA Safety Team (FAASTeam) is c
 ommitted to providing equal access to this meeting/event for all participan
 ts. If you need alternative formats or services because of a disability, pl
 ease communicate your request as soon as possible with the person in the “C
 ontact Information” area of the meeting/event notice. Note that two weeks i
 s usually required to arrange services.Credit Applicability:1 Credit for Ba
 sic Knowledge Topic 31 Hour Total for AMT
CONTACT:Jim Anderson Phone: (623) 694-7742 This email address is being protected from spambots. You need JavaScript enabled to view it.
				document.getElementById('cloak337c4a219afb2b31c0bdae8c4bf43e59').innerHTML = '';
				var prefix = '&#109;a' + 'i&#108;' + '&#116;o';
				var path = 'hr' + 'ef' + '=';
				var addy337c4a219afb2b31c0bdae8c4bf43e59 = 'j&#105;m&#97;nd&#101;rs&#111;nb4' + '&#64;';
				addy337c4a219afb2b31c0bdae8c4bf43e59 = addy337c4a219afb2b31c0bdae8c4bf43e59 + 'gm&#97;&#105;l' + '&#46;' + 'c&#111;m';
				var addy_text337c4a219afb2b31c0bdae8c4bf43e59 = 'j&#105;m&#97;nd&#101;rs&#111;nb4' + '&#64;' + 'gm&#97;&#105;l' + '&#46;' + 'c&#111;m';document.getElementById('cloak337c4a219afb2b31c0bdae8c4bf43e59').innerHTML += ''+addy_text337c4a219afb2b31c0bdae8c4bf43e59+'';
		
DTSTAMP:20260420T160032Z
DTSTART;TZID=America/Phoenix:20240224T170000
SEQUENCE:0
TRANSP:OPAQUE
END:VEVENT
END:VCALENDAR