BEGIN:VCALENDAR
VERSION:2.0
PRODID:-//jEvents 2.0 for Joomla//EN
CALSCALE:GREGORIAN
METHOD:PUBLISH
BEGIN:VEVENT
UID:fe546b225ba372961d4209ba31202139
CATEGORIES:Other Fly-In
CREATED:20240126T173803
SUMMARY:Pilot Get-Together at Bisbee Airport
LOCATION:Bisbee  (P04)
DESCRIPTION;ENCODING=QUOTED-PRINTABLE:\n\n&nbsp;\n\n\n\n9:00 AM&nbsp;&nbsp; Saturday&nbsp; &nbsp; &nbsp;3 Februar
 y 2024\n&nbsp;\nPilot Get-Together&nbsp;at Bisbee Airport&nbsp;\nat the Ter
 minal Building Pilot Lounge\nDrive-in or Fly-In (but flying is more fun)\nF
 REE&nbsp;&nbsp; Coffee and sweets provided\nFeel free to invite others.\n\n
 \n&nbsp;\n\n\nIf you have never landed at Bisbee&nbsp; (P04), here’s some b
 asic info:\n\n\nRunway 17/35&nbsp;paved; 6,000 ft long; LEFT patterns at 5,
 800 ft MSL;&nbsp;CTAF 122.80.\n\n\nAlso a dirt runway 02/20, 2,650 ft long;
  LEFT patterns;\n\n\n(usually only used if a strong cross-wind on the main 
 runway)\n\n\nAVGAS (self-serve) is available at this time.\n\n\n&nbsp;\n\n\
 nCall, email or text me if you have questions.\n\n\nDick Decker\n\n\n360 62
 3 9298&nbsp;&nbsp;&nbsp;&nbsp;&nbsp;&nbsp;&nbsp;&nbsp; email:&nbsp;&nbsp;Th
 is email address is being protected from spambots. You need JavaScript enab
 led to view it.
				document.getElementById('cloak5e3dc787b18e1edb981b46961
 4e76451').innerHTML = '';
				var prefix = 'ma' + 'il' + 'to';
				var path
  = 'hr' + 'ef' + '=';
				var addy5e3dc787b18e1edb981b469614e76451 = 'avidr
 idgeflier' + '@';
				addy5e3dc787b18e1edb981b469614e76451 = addy5e3dc787b1
 8e1edb981b469614e76451 + 'gmail' + '.' + 'com';
				var addy_text5e3dc787b1
 8e1edb981b469614e76451 = 'avidridgeflier' + '@' + 'gmail' + '.' + 'com';doc
 ument.getElementById('cloak5e3dc787b18e1edb981b469614e76451').innerHTML += 
 ''+addy_text5e3dc787b18e1edb981b469614e76451+'';
		\n
CONTACT:Dick Decker  360 623 9298         email:  This email address is being protected from spambots. You need JavaScript enabled to view it.
				document.getElementById('cloakdae555767a8497900069306aba6e5ea9').innerHTML = '';
				var prefix = '&#109;a' + 'i&#108;' + '&#116;o';
				var path = 'hr' + 'ef' + '=';
				var addydae555767a8497900069306aba6e5ea9 = '&#97;v&#105;dr&#105;dg&#101;fl&#105;&#101;r' + '&#64;';
				addydae555767a8497900069306aba6e5ea9 = addydae555767a8497900069306aba6e5ea9 + 'gm&#97;&#105;l' + '&#46;' + 'c&#111;m';
				var addy_textdae555767a8497900069306aba6e5ea9 = '&#97;v&#105;dr&#105;dg&#101;fl&#105;&#101;r' + '&#64;' + 'gm&#97;&#105;l' + '&#46;' + 'c&#111;m';document.getElementById('cloakdae555767a8497900069306aba6e5ea9').innerHTML += ''+addy_textdae555767a8497900069306aba6e5ea9+'';
		
DTSTAMP:20260420T160032Z
DTSTART;TZID=America/Phoenix:20240203T090000
SEQUENCE:0
TRANSP:OPAQUE
END:VEVENT
END:VCALENDAR