BEGIN:VCALENDAR
VERSION:2.0
PRODID:-//jEvents 2.0 for Joomla//EN
CALSCALE:GREGORIAN
METHOD:PUBLISH
BEGIN:VEVENT
UID:6390d14494601fadcf52170d40e9051b
CATEGORIES:Other Fly-In
CREATED:20240116T190919
SUMMARY:66th Annual Cactus Fly-in & Hot Rod Show
LOCATION:Casa Grande Municipal Airport (KCGZ)
DESCRIPTION;ENCODING=QUOTED-PRINTABLE:\n\n\n&nbsp;\n66th Annual Cactus Fly-in &amp; Hot Rod Show\nMarch 2, 2024\n
 Casa Grande Municipal Airport (KCGZ)\nCheck for updates at: www.cactusflyin
 .org\nEntry donation: $10 per person or $20 per car load (cash only)\n\n\n&
 nbsp;\n\n\n&nbsp;\n
CONTACT:www.cactusflyin.org
DTSTAMP:20260420T160032Z
DTSTART;TZID=America/Phoenix;VALUE=DATE:20240302
DTEND;TZID=America/Phoenix;VALUE=DATE:20240303
SEQUENCE:0
TRANSP:OPAQUE
END:VEVENT
END:VCALENDAR