BEGIN:VCALENDAR
VERSION:2.0
PRODID:-//jEvents 2.0 for Joomla//EN
CALSCALE:GREGORIAN
METHOD:PUBLISH
BEGIN:VEVENT
UID:94ff8f498a0ec51e76337d8b81a7e8ac
CATEGORIES:Other Fly-In
CREATED:20231213T064853
SUMMARY:A Day with Wally Funk at Mesa
LOCATION:4753 E Falcon Dr Unit 1, Mesa, AZ 85215
DESCRIPTION;ENCODING=QUOTED-PRINTABLE:\n\n\n&nbsp;\nA day with WALLY FUNK\nOldest woman to go into space\nFirst f
 emale investigator for the NTSB\nOne of the last two living members of the 
 Mercury 13 Program\nSaturday January 13th 2024\n&nbsp;\nAfternoon event\n1:
 00pm - 3pm\nMeet and greet\nPresentation by Wally\nBook signing\nRefreshmen
 ts\n&nbsp;\nNight event\n5:30pm - 8:00pm\nTickets: $35 per person\nMeet and
  greet\nFood &amp; Refreshments\nPresentation by Wally\nBook signing\n&nbsp
 ;\nQuestions please call: (480) 848-9776\n4753 E Falcon Dr Unit 1, Mesa, AZ
  85215\nPresented by Arizona Aviation Historical Group\nHosted by Cunningha
 m Aviation\n
CONTACT:(480) 848-9776
DTSTAMP:20260420T160025Z
DTSTART;TZID=America/Phoenix;VALUE=DATE:20240113
DTEND;TZID=America/Phoenix;VALUE=DATE:20240114
SEQUENCE:0
TRANSP:OPAQUE
END:VEVENT
END:VCALENDAR