BEGIN:VCALENDAR
VERSION:2.0
PRODID:-//jEvents 2.0 for Joomla//EN
CALSCALE:GREGORIAN
METHOD:PUBLISH
BEGIN:VEVENT
UID:fa7d46e1321b0e7c8f363c01c5a95e0c
CATEGORIES:Other Fly-In
CREATED:20231212T214245
SUMMARY:Buckeye Air Fair
LOCATION:Buckeye Municipal Airport
DESCRIPTION;ENCODING=QUOTED-PRINTABLE:\nCity of Buckeye AZ\nAir Fair\nFebruary 16-18 2024\nBuckeye Municipal Airp
 ort\nFun for the whole family!\n\n\nFeaturing the\n\n - All-new airshow (Sa
 t - Sun)\n - Aviation exhibt hall &amp; static displays\n - Historic milita
 ry vehicles\n - World-class Pilots\n - Great food &amp; more\n\nbuckeyeairf
 air.com\n
CONTACT:buckeyeairfair.com
DTSTAMP:20260420T160025Z
DTSTART;TZID=America/Phoenix;VALUE=DATE:20240216
DTEND;TZID=America/Phoenix;VALUE=DATE:20240219
SEQUENCE:0
TRANSP:OPAQUE
END:VEVENT
END:VCALENDAR