BEGIN:VCALENDAR
VERSION:2.0
PRODID:-//jEvents 2.0 for Joomla//EN
CALSCALE:GREGORIAN
METHOD:PUBLISH
BEGIN:VEVENT
UID:5bq1q76bkg13jpj7ifasv2728o@google.com
CATEGORIES:Other Fly-In
CREATED:20120521T160913
SUMMARY:Sun n' Fun in Lakeland, FL
LOCATION:(LAL) Lakeland Linder Regional Airport
DESCRIPTION;ENCODING=QUOTED-PRINTABLE:\n\nDetails available at http://www.sun-n-fun.org/\nand http://www.facebook
 .com/SunNFunFlyIn\n
DTSTAMP:20260420T144622Z
DTSTART;TZID=America/Phoenix;VALUE=DATE:20120327
DTEND;TZID=America/Phoenix;VALUE=DATE:20120402
SEQUENCE:0
TRANSP:OPAQUE
END:VEVENT
END:VCALENDAR