BEGIN:VCALENDAR
VERSION:2.0
PRODID:-//jEvents 2.0 for Joomla//EN
CALSCALE:GREGORIAN
METHOD:PUBLISH
BEGIN:VEVENT
UID:7d7c4ed0b745ad5ab241c11e77da7f65
CATEGORIES:Backcountry
CREATED:20180926T130925
SUMMARY:Grapevine Monthly Fly-In Weekend
LOCATION:Grapevine (E75) near Roosevelt Lake
DESCRIPTION;ENCODING=QUOTED-PRINTABLE:\n&nbsp;\n&nbsp;\nThe camp host for this month is:\n~ Volunteer, it could b
 e you!&nbsp;~\n\n\nFriday night: Camp out under the stars\nSaturday: BBQ an
 d Potluck Lunch (Donation of $8 encouraged)\nSaturday Night: Potluck &amp; 
 Camp under the stars and tell stories around the group campfire!\nSunday: M
 ost folks depart by noon\nATTN: Please, no motor vehicles, other than APA a
 nd USFS support vehicles, are permitted past the gate at the highway. This 
 is a closed area and only aircraft access is allowed. Help us keep our comm
 itment to the USFS!\n\n\n\n\n\nAs always,\nPort-A-John on site\nFree Airpla
 ne Parking\nFree Camping\nFree Black Labrador Petting Zoo\nHiking\nPlenty o
 f Sunshine\n\nClick for weather forecast&nbsp;&nbsp;Grapevine is open full 
 time now, but the third Saturday of each month is a special time with lunch
  served on Saturday. Come an camp for the weekend!\n&nbsp;\nClick here for 
 the GRAPEVINE SAFETY BULLETIN\n&nbsp;\nPlease email&nbsp;This email address
  is being protected from spambots. You need JavaScript enabled to view it.

 				document.getElementById('cloak136f617922e9e12ede17dab0d3e11d4f').innerH
 TML = '';
				var prefix = '&#109;a' + 'i&#108;' + '&#116;o';
				var path 
 = 'hr' + 'ef' + '=';
				var addy136f617922e9e12ede17dab0d3e11d4f = 'AzCl&#
 111;&#117;dFly&#101;r' + '&#64;';
				addy136f617922e9e12ede17dab0d3e11d4f 
 = addy136f617922e9e12ede17dab0d3e11d4f + '&#101;&#97;rthl&#105;nk' + '&#46;
 ' + 'n&#101;t&amp;s&#117;bj&#101;ct=Gr&#97;p&#101;v&#105;n&#101;';
				var 
 addy_text136f617922e9e12ede17dab0d3e11d4f = 'M&#105;k&#101; Andr&#101;s&#10
 1;n';document.getElementById('cloak136f617922e9e12ede17dab0d3e11d4f').inner
 HTML += ''+addy_text136f617922e9e12ede17dab0d3e11d4f+'';
		&nbsp;for more i
 nfo or if you are interested in volunteering.\n&nbsp;\n\n\n\n\n\n\n\n\n\n\n
 \n
CONTACT:Mike Andresen  This email address is being protected from spambots. You need JavaScript enabled to view it.
				document.getElementById('cloaka98867b11dd48ea852fbe88556449cd4').innerHTML = '';
				var prefix = '&#109;a' + 'i&#108;' + '&#116;o';
				var path = 'hr' + 'ef' + '=';
				var addya98867b11dd48ea852fbe88556449cd4 = 'm&#105;k&#101;' + '&#64;';
				addya98867b11dd48ea852fbe88556449cd4 = addya98867b11dd48ea852fbe88556449cd4 + '&#97;zp&#105;l&#111;ts' + '&#46;' + '&#111;rg';
				var addy_texta98867b11dd48ea852fbe88556449cd4 = 'm&#105;k&#101;' + '&#64;' + '&#97;zp&#105;l&#111;ts' + '&#46;' + '&#111;rg';document.getElementById('cloaka98867b11dd48ea852fbe88556449cd4').innerHTML += ''+addy_texta98867b11dd48ea852fbe88556449cd4+'';
		
DTSTAMP:20260425T184400Z
DTSTART;TZID=America/Phoenix;VALUE=DATE:20190118
DTEND;TZID=America/Phoenix;VALUE=DATE:20190121
SEQUENCE:0
TRANSP:OPAQUE
END:VEVENT
END:VCALENDAR