BEGIN:VCALENDAR
VERSION:2.0
PRODID:-//jEvents 2.0 for Joomla//EN
CALSCALE:GREGORIAN
METHOD:PUBLISH
BEGIN:VEVENT
UID:7a84adf85ef2db3009ffa05ddd19f1bf
CATEGORIES:Backcountry
CREATED:20180411T083704
SUMMARY:Historic Double Circle Ranch Fly-In Camp
LOCATION:Double Circle Ranch (Z66)
DESCRIPTION;ENCODING=QUOTED-PRINTABLE:\n\n\nJoin us at the old Double Circle Ranch (Z66) for fun and camping. We 
 will be will be serving grilled sausages for lunch on Saturday, and bring y
 our potluck dish for Saturday evening.\n\n\nBathroom facilities are now ava
 ilable!\n\n\nWe zip into April with warming weather and our spring round up
  at the historic Double Circle Ranch, now Z66, the weekend of April 27th-29
 th. At this point weather predictions are very good, so make your plans to 
 join us! As always, watch our&nbsp;Facebook&nbsp;page for last minute updat
 es.&nbsp;&nbsp;\n\n\nA small group is also forming to head out of Double Ci
 rcle and on into NM taking advantage of good weather and visiting some NM b
 ackcountry airstrips for the early part of next week.\n\n\n&nbsp;\nDownload
  the safety brief here.\nThis email address is being protected from spambot
 s. You need JavaScript enabled to view it.
				document.getElementById('clo
 aked99928f0a770e79d55ef84aacdd10f3').innerHTML = '';
				var prefix = '&#10
 9;a' + 'i&#108;' + '&#116;o';
				var path = 'hr' + 'ef' + '=';
				var add
 yed99928f0a770e79d55ef84aacdd10f3 = 'msp&#101;nc&#101;r' + '&#64;';
				add
 yed99928f0a770e79d55ef84aacdd10f3 = addyed99928f0a770e79d55ef84aacdd10f3 + 
 '&#97;zp&#105;l&#111;ts' + '&#46;' + '&#111;rg';
				var addy_texted99928f0
 a770e79d55ef84aacdd10f3 = 'C&#111;nt&#97;ct M&#97;rk f&#111;r m&#111;r&#101
 ; &#105;nf&#111;';document.getElementById('cloaked99928f0a770e79d55ef84aacd
 d10f3').innerHTML += ''+addy_texted99928f0a770e79d55ef84aacdd10f3+'';
		.\n
 \n\n\n\n\n\n\n\n&nbsp;\n\n\n\n
CONTACT:Mark Spencer  602-708-1599  This email address is being protected from spambots. You need JavaScript enabled to view it.
				document.getElementById('cloakdc39dcd1798657cf58ec089f3091c21a').innerHTML = '';
				var prefix = '&#109;a' + 'i&#108;' + '&#116;o';
				var path = 'hr' + 'ef' + '=';
				var addydc39dcd1798657cf58ec089f3091c21a = 'msp&#101;nc&#101;r' + '&#64;';
				addydc39dcd1798657cf58ec089f3091c21a = addydc39dcd1798657cf58ec089f3091c21a + '&#97;zp&#105;l&#111;ts' + '&#46;' + '&#111;rg';
				var addy_textdc39dcd1798657cf58ec089f3091c21a = 'msp&#101;nc&#101;r' + '&#64;' + '&#97;zp&#105;l&#111;ts' + '&#46;' + '&#111;rg';document.getElementById('cloakdc39dcd1798657cf58ec089f3091c21a').innerHTML += ''+addy_textdc39dcd1798657cf58ec089f3091c21a+'';
		
DTSTAMP:20260425T182916Z
DTSTART;TZID=America/Phoenix;VALUE=DATE:20180427
DTEND;TZID=America/Phoenix;VALUE=DATE:20180430
SEQUENCE:0
TRANSP:OPAQUE
END:VEVENT
END:VCALENDAR