BEGIN:VCALENDAR
VERSION:2.0
PRODID:-//jEvents 2.0 for Joomla//EN
CALSCALE:GREGORIAN
METHOD:PUBLISH
BEGIN:VEVENT
UID:bb4dd18b542e548840aead28f64d30f6
CATEGORIES:Safety
CREATED:20180402T122543
SUMMARY:Southeast Arizona WINGS Seminar at Sierra Vista
LOCATION:Sierra Vista Public Works Department 401 Guilio Cesare Ave Sierra Vista, AZ
  85635
DESCRIPTION;ENCODING=QUOTED-PRINTABLE:\n\n\n\n&nbsp;\nSE Arizona Wings Seminar April 21st, 2018\n\n\nIt's Spring,
  and time to dust off some of those tired flying brain cells. Join us at th
 e Sierra Vista Public Works Department at 401 Guilio Cesare Ave in Sierra V
 ista from 9AM to Noon on April 21st for interactive seminars related to avi
 ation decision making. We will do one VFR and on IFR scenario with audience
  participation, and a refresher on key aeronautical knowledge elements.\n\n
 \n\nDirections to the venue:\n\n\nFlying In: Transportation to the event an
 d return to airport will be available. Please contact James Short (520-261-
 0373 or This email address is being protected from spambots. You need JavaS
 cript enabled to view it.
				document.getElementById('cloak9b96b73f9e8cf47
 1bd3ce5f3673e79c5').innerHTML = '';
				var prefix = '&#109;a' + 'i&#108;' 
 + '&#116;o';
				var path = 'hr' + 'ef' + '=';
				var addy9b96b73f9e8cf471
 bd3ce5f3673e79c5 = 'w&#105;ngs' + '&#64;';
				addy9b96b73f9e8cf471bd3ce5f3
 673e79c5 = addy9b96b73f9e8cf471bd3ce5f3673e79c5 + 'sv&#97;&#101;r&#111;' + 
 '&#46;' + '&#111;rg';
				var addy_text9b96b73f9e8cf471bd3ce5f3673e79c5 = '
 w&#105;ngs' + '&#64;' + 'sv&#97;&#101;r&#111;' + '&#46;' + '&#111;rg';docum
 ent.getElementById('cloak9b96b73f9e8cf471bd3ce5f3673e79c5').innerHTML += ''
 +addy_text9b96b73f9e8cf471bd3ce5f3673e79c5+'';
		) PRIOR TO the event date 
 if you need transportation. First time to Sierra Vista and the R-airspace? 
 Check NOTAMs and listen to ATIS. If the tower is closed, KFHU is an uncontr
 olled airport with the tower freq as CTAF, and no restricted airspace. Towe
 r open? Call approach/radar outside the R-airspace and they will guide you 
 in. Best is to follow Hwy 90 southbound from Benson and below 8000' to the 
 airport. The civilian ramp is on the north side of the airfield.\n\n\n\nDri
 ving: from the intersection of Fry Blvd &amp; SR 92 drive east 1 mile on SR
  90; turn north on Guilio Cesare, then 4 blocks to Public Works parking on 
 the right. Look for event signs.\n\n\n\nPlease be sure to register in advan
 ce on the wings site HERE. \nDownload an announcement flyer for your airpor
 t bulletin board HERE. \n \n-SVAA\n&nbsp;\n&nbsp;\n\n\n\n&nbsp;\nSoutheast 
 Arizona WINGS Seminar\nWhatcha Gonna Do? - Scenario based, pilot interactiv
 e discussion; Aeronautical Knowledge Review\n\n\nDate and Time: Saturday, A
 pril 21, 2018, starting at 09:00 Arizona\n\n\nSpeaker(s): Jerry Proctor, Ja
 mes Short\n\n\nBrief Description:\nJerry Proctor will present scenarios for
  group discussion and to practice ADM skills.\n\n\nJames Short will provide
  a refresher for select Aeronautical Knowledge elements fundamental to plan
 ning &amp; completing safe and successful flights.\n\n\nSelect Number: WP07
 82324\n\n\nLocation of Seminar:\nSierra Vista Public Works Department\n401 
 Guilio Cesare Ave\nSierra Vista, AZ 85635\n\n\nDirections to Venue:\nFlying
  In: Transportation to the event and return to airport will be available. P
 lease contact James Short (520-261-0373Call: 520-261-0373 or This email add
 ress is being protected from spambots. You need JavaScript enabled to view 
 it.
				document.getElementById('cloakff17273bd8f7a345d9579d29088d474b').in
 nerHTML = '';
				var prefix = '&#109;a' + 'i&#108;' + '&#116;o';
				var p
 ath = 'hr' + 'ef' + '=';
				var addyff17273bd8f7a345d9579d29088d474b = 'w&
 #105;ngs' + '&#64;';
				addyff17273bd8f7a345d9579d29088d474b = addyff17273
 bd8f7a345d9579d29088d474b + 'sv&#97;&#101;r&#111;' + '&#46;' + '&#111;rg';

 				var addy_textff17273bd8f7a345d9579d29088d474b = 'w&#105;ngs' + '&#64;' 
 + 'sv&#97;&#101;r&#111;' + '&#46;' + '&#111;rg';document.getElementById('cl
 oakff17273bd8f7a345d9579d29088d474b').innerHTML += ''+addy_textff17273bd8f7
 a345d9579d29088d474b+'';
		) PRIOR TO the event date if you need transporta
 tion.\n\n\nDriving: from the intersection of Fry Blvd &amp; SR 92 drive eas
 t 1 mile on SR 90; turn north on Guilio Cesare, then 4 blocks to Public Wor
 ks parking on the right. Look for event signs.\n\n\nView Map\n\n\nFly-in Se
 minar?: Yes KFHU\n\n\nSeating: 50 seats at the facility\n\n\nRegistration I
 nformation:\nClick here to register online now!\n\n\nSponsoring Division: F
 AASTeam\n\n\nContact Information: James Short\nPhone: (520) 261-0373\nThis 
 email address is being protected from spambots. You need JavaScript enabled
  to view it.
				document.getElementById('cloakbf4a21fe71d7d8374809dcfd5656
 6394').innerHTML = '';
				var prefix = '&#109;a' + 'i&#108;' + '&#116;o';

 				var path = 'hr' + 'ef' + '=';
				var addybf4a21fe71d7d8374809dcfd56566
 394 = 'w&#105;ngs' + '&#64;';
				addybf4a21fe71d7d8374809dcfd56566394 = ad
 dybf4a21fe71d7d8374809dcfd56566394 + 'sv&#97;&#101;r&#111;' + '&#46;' + '&#
 111;rg';
				var addy_textbf4a21fe71d7d8374809dcfd56566394 = 'w&#105;ngs' +
  '&#64;' + 'sv&#97;&#101;r&#111;' + '&#46;' + '&#111;rg';document.getElemen
 tById('cloakbf4a21fe71d7d8374809dcfd56566394').innerHTML += ''+addy_textbf4
 a21fe71d7d8374809dcfd56566394+'';
		\n\n\nAdditional Event Information &amp
 ; Acknowledgement of Industry Sponsor(s):\nThanks to City of Sierra Vista &
 amp; Public Works Department for the use of the meeting room.\nThanks to Si
 erra Vista Aero Association (SVAA) for sponsoring this event.\nSpecial than
 ks to our guest speakers who make this event possible, and to our volunteer
 s assisting with preparation &amp; transportation.\nSVAA will provide snack
 s &amp; coffee.\n\n\nThis program will run from 9 AM to Noon. If you need t
 ransportation from the airport, you should be inside the terminal building 
 no later than 8:30am to allow time to get from the airport to the meeting.\
 n\n\nFly in arrivals: Contact James Short (520-261-0373Call: 520-261-0373) 
 PRIOR TO the seminar date to confirm transportation to/from event. Please c
 heck NOTAMs and ATIS (Weather) - 134.75. Restricted Area (R2303A/B/C) and t
 ower are normally not active on weekends - but check NOTAMs for changes. If
  active, contact APP (127.05), follow ATC instructions; otherwise treat as 
 non-tower arrival on CTAF (124.95). Rwy 26, 30, and 21 are right-traffic. S
 outh side of airport is for military only. Park on north side of airport in
  GA Parking east of terminal. Volunteers will be in the terminal to assist 
 you with transportation to the event.\n\n\nNotes: ASOS on 119.675 has been 
 decomissioned. Weather is on ATIS - 134.75. Restricted Area R-2312 to south
  of airfield is always active (24/7), surface to 15,000 MSL.\n\n\nEqual Acc
 ess Information:\nThe FAA Safety Team (FAASTeam) is committed to providing 
 equal access to this meeting/event for all participants. If you need altern
 ative formats or services because of a disability, please communicate your 
 request as soon as possible with the person in the &ldquo;Contact Informati
 on&rdquo; area of the meeting/event notice. Note that two weeks is usually 
 required to arrange services.\n\n\nCredit Applicability:\n&frac12; Credit f
 or Basic Knowledge Topic 3\n1 Credit for Basic Knowledge Topic 1\n1 Credit 
 for Advanced Knowledge Topic 1\n
CONTACT:James Short Phone: (520) 261-0373 This email address is being protected from spambots. You need JavaScript enabled to view it.
				document.getElementById('cloakd3f768c0507997f69a28c76e122db587').innerHTML = '';
				var prefix = '&#109;a' + 'i&#108;' + '&#116;o';
				var path = 'hr' + 'ef' + '=';
				var addyd3f768c0507997f69a28c76e122db587 = 'w&#105;ngs' + '&#64;';
				addyd3f768c0507997f69a28c76e122db587 = addyd3f768c0507997f69a28c76e122db587 + 'sv&#97;&#101;r&#111;' + '&#46;' + '&#111;rg';
				var addy_textd3f768c0507997f69a28c76e122db587 = 'w&#105;ngs' + '&#64;' + 'sv&#97;&#101;r&#111;' + '&#46;' + '&#111;rg';document.getElementById('cloakd3f768c0507997f69a28c76e122db587').innerHTML += ''+addy_textd3f768c0507997f69a28c76e122db587+'';
		
DTSTAMP:20260425T182920Z
DTSTART;TZID=America/Phoenix:20180421T090000
DTEND;TZID=America/Phoenix:20180421T120000
SEQUENCE:0
TRANSP:OPAQUE
END:VEVENT
END:VCALENDAR