BEGIN:VCALENDAR
VERSION:2.0
PRODID:-//jEvents 2.0 for Joomla//EN
CALSCALE:GREGORIAN
METHOD:PUBLISH
BEGIN:VEVENT
UID:c7fa34618b120ca5ca6540937a4900f3
CATEGORIES:Safety
CREATED:20180402T121855
SUMMARY:Carefree Skyranch Community Burger Burn at Carefree
LOCATION:Sky Ranch at Carefree 8302 E Cave Creek Road  Carefree, AZ 85377
DESCRIPTION;ENCODING=QUOTED-PRINTABLE:Carefree Skyranch Community Burger Burn\nOpen house for Carefree Skyranch C
 ommunity residents and neighbors. Others are welcome to attend.\n\n\nDate a
 nd Time: Thursday, April 5, 2018, starting at 16:00 Arizona\n\n\nSpeaker(s)
 : Dave Duntemann and John Edwards\n\n\nBrief Description:\nFAA Safety Team 
 Member Dave Duntemann will discuss how to use the IMSAFE Checklist. Skyranc
 h member John Edwards will share his once in a lifetime and sometimes inten
 se adventures and encounters flying a TBM around the world. Tommy Thomason,
  Skypark Manager and FAA Safety Team Member will provide Burgers and Brots 
 for attendees.\n\n\nSelect Number: WP0782147\n\n\nLocation of Seminar:\nSky
  Ranch at Carefree\n8302 E Cave Creek Road\nCarefree, AZ 85377\n\n\nDirecti
 ons to Venue:\nMeet at the Manager's Office and attendees will be directed 
 to the meeting hangar. Make sure to bring your own chair.\n\n\nView Map\n\n
 \nFly-in Seminar?: No\n\n\nSeating: 75 seats at the facility\n\n\nRegistrat
 ion Information:\nClick here to register online now!\n\n\nSponsoring Divisi
 on: FAASTeam\n\n\nContact Information: Tommy Thomason\nPhone: (602) 708-204
 0\nThis email address is being protected from spambots. You need JavaScript
  enabled to view it.
				document.getElementById('cloak7e667428f3eaa5257c97
 1b49936fb71a').innerHTML = '';
				var prefix = '&#109;a' + 'i&#108;' + '&#
 116;o';
				var path = 'hr' + 'ef' + '=';
				var addy7e667428f3eaa5257c971
 b49936fb71a = 't&#101;th&#111;m&#97;s&#111;n' + '&#64;';
				addy7e667428f3
 eaa5257c971b49936fb71a = addy7e667428f3eaa5257c971b49936fb71a + 'c&#111;x' 
 + '&#46;' + 'n&#101;t';
				var addy_text7e667428f3eaa5257c971b49936fb71a =
  't&#101;th&#111;m&#97;s&#111;n' + '&#64;' + 'c&#111;x' + '&#46;' + 'n&#101
 ;t';document.getElementById('cloak7e667428f3eaa5257c971b49936fb71a').innerH
 TML += ''+addy_text7e667428f3eaa5257c971b49936fb71a+'';
		\n\n\nAdditional 
 Event Information &amp; Acknowledgement of Industry Sponsor(s):\nBring your
  own chair!\n\n\nFAA Safety Team and Carefree SkyRanch\n\n\nRunway incursio
 ns are a major factor in aviation safety. While many things have been done 
 to reduce the accident rate in General Aviation and the Air Carrier Industr
 y, both sides of the aviation house are still experiencing far too many run
 way incursions. This could be the result of "Read back - Hear back" issues,
  poor airport signage, pilot inattention/knowledge or a combination of fact
 ors. Runway safety is a major concern for all pilots and if you have been a
 round aviation for a long period of time you have probably seen some close 
 calls on the runways and taxiways, or even been involved in some yourself.\
 n\n\nPilot airspace deviations continue to be a major risk in the national 
 airspace system. To reduce the chance that you might be involved in an airs
 pace deviation incident, you are highly encouraged to take an on-line learn
 ing center course such as ALC 42, ALC 154, and ALC90 on www.faasafety.gov, 
 or search the learning library for associated guidance on airspace incursio
 ns. Remember, safe and prudent airmen have superior situational awareness a
 nd have a plan to keep it that way.\n\n\nThanks! A message from your local 
 FAASTeam.\n\n\nEqual Access Information:\nThe FAA Safety Team (FAASTeam) is
  committed to providing equal access to this meeting/event for all particip
 ants. If you need alternative formats or services because of a disability, 
 please communicate your request as soon as possible with the person in the 
 &ldquo;Contact Information&rdquo; area of the meeting/event notice. Note th
 at two weeks is usually required to arrange services.\n\n\nCredit Applicabi
 lity:\n1 Credit for Basic Knowledge Topic 3\n1 Credit for Advanced Knowledg
 e Topic 2\n
CONTACT: Tommy Thomason Phone: (602) 708-2040 This email address is being protected from spambots. You need JavaScript enabled to view it.
				document.getElementById('cloak47aa4cd66c99ae317868f2b0e15ec75e').innerHTML = '';
				var prefix = '&#109;a' + 'i&#108;' + '&#116;o';
				var path = 'hr' + 'ef' + '=';
				var addy47aa4cd66c99ae317868f2b0e15ec75e = 't&#101;th&#111;m&#97;s&#111;n' + '&#64;';
				addy47aa4cd66c99ae317868f2b0e15ec75e = addy47aa4cd66c99ae317868f2b0e15ec75e + 'c&#111;x' + '&#46;' + 'n&#101;t';
				var addy_text47aa4cd66c99ae317868f2b0e15ec75e = 't&#101;th&#111;m&#97;s&#111;n' + '&#64;' + 'c&#111;x' + '&#46;' + 'n&#101;t';document.getElementById('cloak47aa4cd66c99ae317868f2b0e15ec75e').innerHTML += ''+addy_text47aa4cd66c99ae317868f2b0e15ec75e+'';
		
DTSTAMP:20260425T182916Z
DTSTART;TZID=America/Phoenix:20180405T160000
SEQUENCE:0
TRANSP:OPAQUE
END:VEVENT
END:VCALENDAR