BEGIN:VCALENDAR
VERSION:2.0
PRODID:-//jEvents 2.0 for Joomla//EN
CALSCALE:GREGORIAN
METHOD:PUBLISH
BEGIN:VEVENT
UID:988ab6614fab08bcf1d122d42daa4137
CATEGORIES:Other Fly-In
CREATED:20180331T122039
SUMMARY:Wings of Freedom Tour at Bullhead
LOCATION:Bullhead City, AZ – Laughlin/Bullhead International Airport (KIFP)
DESCRIPTION;ENCODING=QUOTED-PRINTABLE:Collings Foundation, Wings of Freedom Tour of their B-25, B-17, and P-51\nB
 ullhead/Laughlin KIFP April 11-13\n&nbsp;\n\n\n\nBullhead City, AZ &ndash; 
 Laughlin/Bullhead International Airport (KIFP)\n\n\nApril 11 @ 2:00 pm - Ap
 ril 13 @ 2:00 pm\n\n\n$5 - $15\n\n\nWalk Through Tour Times (no reservation
 s needed):\n4/11/2018 &ndash; 2:00 PM till 5:00 PM\n4/12/2018 &ndash; 9:00 
 AM till 5:00 PM\n4/13/2018 &ndash; 9:00 AM till 12:00 PM\n$15 Adults / $5 C
 hildren 12 and under.\n\n\nFlights take place before and after tours.\n30-m
 inute flight on the B-17 or B-24 is $450 per person\n30-minute flight on th
 e B-25 is $400 per person\n30-minute flight training on the TF-51D is $2200
 \n60-minute flight training on the TF-51D is $3200\n\n\nCall 978-562-9182 f
 or flight reservations.\n
CONTACT: 978-562-9182
DTSTAMP:20260425T182920Z
DTSTART;TZID=America/Phoenix:20180411T140000
DTEND;TZID=America/Phoenix:20180413T120000
SEQUENCE:0
TRANSP:OPAQUE
END:VEVENT
END:VCALENDAR