BEGIN:VCALENDAR
VERSION:2.0
PRODID:-//jEvents 2.0 for Joomla//EN
CALSCALE:GREGORIAN
METHOD:PUBLISH
BEGIN:VEVENT
UID:ee180cbb7bd776c58e5a5d3e6cf3d8d0
CATEGORIES:Weekend Getaway
CREATED:20180328T135522
SUMMARY:Double Getaway—Santa Barbara and Santa Ynez
LOCATION:Santa Barbara, CA and Santa Ynez, CA
DESCRIPTION;ENCODING=QUOTED-PRINTABLE:\n\nDouble Getaway&mdash;Santa Barbara and Santa Ynez\nApril 27 (Fri)&mdash
 ;Santa Barbara, CA&mdash;Old Town / Marina\nApril 28 (Sat)&mdash;Santa Ynez
 , CA&mdash;Winery Tours / Solvang\nJoin us on 1 or both days.&nbsp; We will
  start each day at 10:00 at each a/p.&nbsp;\n&nbsp;\nRSVP today for our Dou
 ble Getaway this Friday &amp; Saturday! April 27 (Fri) Santa Barbara, CA Ol
 d Town / Marina, and April 28 (Sat) Santa Ynez, CA, Winery Tours / Solvang.
  Join us on one or both days. (RSVP to Brad Lawrence via email This email a
 ddress is being protected from spambots. You need JavaScript enabled to vie
 w it.
				document.getElementById('cloak9199e7b91bd8ed0b2c6a063fea18cf9f').
 innerHTML = '';
				var prefix = '&#109;a' + 'i&#108;' + '&#116;o';
				var
  path = 'hr' + 'ef' + '=';
				var addy9199e7b91bd8ed0b2c6a063fea18cf9f = '
 br&#97;d' + '&#64;';
				addy9199e7b91bd8ed0b2c6a063fea18cf9f = addy9199e7b
 91bd8ed0b2c6a063fea18cf9f + '&#97;zp&#105;l&#111;ts' + '&#46;' + '&#111;rg'
 ;
				var addy_text9199e7b91bd8ed0b2c6a063fea18cf9f = 'br&#97;d' + '&#64;' 
 + '&#97;zp&#105;l&#111;ts' + '&#46;' + '&#111;rg';document.getElementById('
 cloak9199e7b91bd8ed0b2c6a063fea18cf9f').innerHTML += ''+addy_text9199e7b91b
 d8ed0b2c6a063fea18cf9f+'';
		 or call 602-460-4286)\nIf you as a pilot want
  to take your co-pilot on a fun and memorable Getaway, this is the one, gua
 ranteed a winner. I tried to steer everyone to reasonably priced and cool h
 otels in both venues, but the prices may be a little higher than Phoenix. S
 anta Barbara has a lot to offer with her landmarks, Riviera, and wharf. You
  may decide to spend the whole weekend there, but don&rsquo;t miss out on S
 anta Ynez, Solvang, and Los Olivos north of the mountain, 18 flight miles f
 rom Santa Barbara. You may want to take an early morning flight up the coas
 t to Santa Maria and back to Santa Ynez before we start the day.\nYou will 
 have to make your hotel and car rental reservations&mdash;telephone numbers
  below. No shuttles are required since we&rsquo;ll pick up cars by our airp
 lanes. Call me to verify your trip plans, I will try to double up on the ca
 rs for ease of use (parking and cost). Please have an Uber or Lyft app.\nTh
 is is an easy 2.5-3 hour flight from the Phoenix Area over to Santa Barbara
  (397nm). KSBA is a Class C controlled air space, so plan accordingly with 
 ATC prior to entering. Departing requires clearance delivery of course. We 
 might have to contend with a marine layer, so monitor the METARs and TAFs. 
 If it is IMC you&rsquo;ll get vectors for the ILS Rwy 7. If VMC you&rsquo;l
 l get a visual for 15L most likely. Atlantic Aviation is on the SE side of 
 the a/p, so if you get 15L a left turn off the runway will put you practica
 lly on their ramp (bravo ramp). Santa Ynez is a non-towered airport on the 
 north side of the coastal mountains. This is sort of a sleepy valley below 
 the famous Reagan Ranch of the 80&rsquo;s on top of the mountain by the VOR
 . The winds will usually favor Rwy 26.\n\n\n\n\nObjective of the Schedule\n
 To give the participates a 1 or 2 day option as well as giving them two ver
 y different airports that are relatively close together. A beach town with 
 historic landmarks in Santa Barbara and rolling hills in the mountains with
  wineries and a quaint Danish town to stroll through in Santa Ynez (Ya nez)
  area. As a group it would be nice to have the same plans, but some may wan
 t to stay in SB for both days, or only fly to Santa Ynez, or whichever. The
  group plans are as follows below.\n&nbsp;\nSanta Barbara&mdash;4/27 Itiner
 ary10AM Landing at KSBA &mdash;preferred parking is at Atlantic. You&rsquo;
 ll get rwy 15, so it&rsquo;s a short taxi. Rental car from Atlantic Aviatio
 n 805-964-6733 any brand. Avgas is $5.3011AM Walking tour of the Mission at
  Santa Barbara. 2201 Laguna St.1PM Lunch at the Belmond El Encanto (5 minut
 es from the Mission), 800 Alvarado Place3PM Courthouse and State Street wal
 k (shopping and sightseeing)6PM Lite dinner and tour on Stearns Wharf at th
 e beachBeach hotels: Preferred area is on Bath Street, 1 blk from the beach
 , clean &amp; economical.Marina Beach Hotel&mdash;21 Bath St. 805-953-7204C
 asa Del Mar Inn&mdash;18 Bath St. 805-963-4418West Beach Inn&mdash;306 W. C
 abrillo Blvd. 805-963-4277Franciscan Inn&mdash;108 Bath St. 805-963-8843&nb
 sp;Santa Ynez&mdash;4/28 Itinerary10AM Landing at KIZA&mdash;It&rsquo;s a s
 mall a/p so park at transient. Most likely winds will favor 26Rental car fr
 om Hertz. 805-688-8390 Call 2 days in advance for delivery to a/p.Avgas at 
 self serve is $4.59 (extra .50 for the truck delivery)11AM Tour of 2 Wineri
 es in the Santa Ynez Valley (Featured in Wine Magazine)3PM Self Tour of Sol
 vang &ldquo;Danish capital of the US&rdquo;6PM Dinner at &lsquo;Bit O-Denma
 rk&rsquo; Smorgasbord&mdash; 473 Alisal Road (Authentic Danish cuisine)Solv
 ang Hotels:The Landsby 4.5 star&mdash;1576 Mission Drive 805-688-3121Solvan
 g Inn &amp; Cottages 4.2 star&mdash;1518 Mission Drive 805-688-4702Kronborg
  Inn 4 star&mdash;1440 Mission Drive 805-688-2383Viking Motel 4 star&mdash;
 1506 Mission Drive 805-688- 1337&nbsp;\nPlease contact Brad Lawrence via em
 ail This email address is being protected from spambots. You need JavaScrip
 t enabled to view it.
				document.getElementById('cloak5b5f0ad4479b20af6dd
 4420758c7d420').innerHTML = '';
				var prefix = '&#109;a' + 'i&#108;' + '&
 #116;o';
				var path = 'hr' + 'ef' + '=';
				var addy5b5f0ad4479b20af6dd4
 420758c7d420 = 'br&#97;d' + '&#64;';
				addy5b5f0ad4479b20af6dd4420758c7d4
 20 = addy5b5f0ad4479b20af6dd4420758c7d420 + '&#97;zp&#105;l&#111;ts' + '&#4
 6;' + '&#111;rg';
				var addy_text5b5f0ad4479b20af6dd4420758c7d420 = 'br&#
 97;d' + '&#64;' + '&#97;zp&#105;l&#111;ts' + '&#46;' + '&#111;rg';document.
 getElementById('cloak5b5f0ad4479b20af6dd4420758c7d420').innerHTML += ''+add
 y_text5b5f0ad4479b20af6dd4420758c7d420+'';
		 or call 602-460-4286 for more
  information.\n\n&nbsp;&nbsp;\n\n&nbsp;\n&nbsp;\nThis Getaway is an optiona
 l 1 or 2 day trip.\nThe group events are arrival times and dinners.\nSBA ma
 y have a morning marine layer, Santa Ynez will not.&nbsp;\nThis should be a
  lot of fun for everyone.\n&nbsp;\nContact Brad Lawrence for the Getaway Pa
 ckage to be emailed to you.&nbsp; This email address is being protected fro
 m spambots. You need JavaScript enabled to view it.
				document.getElement
 ById('cloak1ef3d1804906d8840ab2a432e724baee').innerHTML = '';
				var prefi
 x = '&#109;a' + 'i&#108;' + '&#116;o';
				var path = 'hr' + 'ef' + '=';
		
 		var addy1ef3d1804906d8840ab2a432e724baee = 'br&#97;d&#97;l&#101;' + '&#64
 ;';
				addy1ef3d1804906d8840ab2a432e724baee = addy1ef3d1804906d8840ab2a432
 e724baee + '&#97;zp&#105;l&#111;ts' + '&#46;' + '&#111;rg';
				var addy_te
 xt1ef3d1804906d8840ab2a432e724baee = 'br&#97;d&#97;l&#101;' + '&#64;' + '&#
 97;zp&#105;l&#111;ts' + '&#46;' + '&#111;rg';document.getElementById('cloak
 1ef3d1804906d8840ab2a432e724baee').innerHTML += ''+addy_text1ef3d1804906d88
 40ab2a432e724baee+'';
		 or 602-460-4286.\n&nbsp;\n&nbsp;\nDouble Getaway&m
 dash;Santa Barbara and Santa Ynez\n&nbsp;\n
CONTACT:Brad Lawrence   This email address is being protected from spambots. You need JavaScript enabled to view it.
				document.getElementById('cloakfdede529926becf424a418e74fcab52b').innerHTML = '';
				var prefix = '&#109;a' + 'i&#108;' + '&#116;o';
				var path = 'hr' + 'ef' + '=';
				var addyfdede529926becf424a418e74fcab52b = 'br&#97;d' + '&#64;';
				addyfdede529926becf424a418e74fcab52b = addyfdede529926becf424a418e74fcab52b + '&#97;zp&#105;l&#111;ts' + '&#46;' + '&#111;rg';
				var addy_textfdede529926becf424a418e74fcab52b = 'br&#97;d' + '&#64;' + '&#97;zp&#105;l&#111;ts' + '&#46;' + '&#111;rg';document.getElementById('cloakfdede529926becf424a418e74fcab52b').innerHTML += ''+addy_textfdede529926becf424a418e74fcab52b+'';
		 or 602-460-4286
DTSTAMP:20260425T183058Z
DTSTART;TZID=America/Phoenix;VALUE=DATE:20180427
DTEND;TZID=America/Phoenix;VALUE=DATE:20180429
SEQUENCE:0
TRANSP:OPAQUE
END:VEVENT
END:VCALENDAR