BEGIN:VCALENDAR
VERSION:2.0
PRODID:-//jEvents 2.0 for Joomla//EN
CALSCALE:GREGORIAN
METHOD:PUBLISH
BEGIN:VEVENT
UID:b4ab316c0bb585be275e423925ab5227
CATEGORIES:Safety
CREATED:20180314T100539
SUMMARY:VMC Club Meeting - Mastering the Art of Aviation at Chandler
LOCATION:Chandler Municipal Airport Terminal Building Meeting Room 2380 S Stinson Wa
 y Chandler, AZ 85286
DESCRIPTION;ENCODING=QUOTED-PRINTABLE:Arizona EAA VMC Club KCHD\n\n\nApril&rsquo;s Meeting is scheduled for Tuesd
 ay April 3rd at 6pm in the KCHD Terminal Meeting Room. We are excited to ha
 ve special guest Tim Krieger, KCHD tower manager presenting. Please registe
 r at the following link as space is limited to 35, and we expect space to f
 ill up quickly once the event is announced to the general pilot population.
  Feel free to bring food or beverages to enjoy during the presentation and 
 make sure to mention our club and meetings to your pilot friends and ask th
 em to attend. https://www.faasafety.gov/SPANS/event_details.aspx?eid=81833&
 amp;caller=/SPANS/events/ModifyEventList.aspx?type=1\n\n\nWings credit has 
 been submitted. If you did not receive credit, please let me know so I can 
 get it corrected.\n\n\nLink to the Arizona Flight Training Workgroup as was
  referenced during the meeting can be found at http://aftw.org/\n\n\nThank 
 you to the Arizona Pilots Association for their support in spreading the wo
 rd about the benefits of the VMC Club. More information regarding this fine
  organization, calendar of aviation related events, and membership informat
 ion can be found at http://www.azpilots.org\n\n\nVMC club is made possible 
 by the EAA, for more information visit http://www.eaa.org/vmcclub\n\n\nMemb
 ership in EAA is not required to attend VMC meetings or participate, howeve
 r if you would like a 6 month free membership to see what EAA is all about,
  please contact me and I will sign you up.\n\n\nAs mentioned, our VMC Club 
 maintains a Facebook page with meeting announcements, links to aviation rel
 ated events around the area, and daily safety related posts. Please like an
 d follow us at http://fb.com/azvmcclub\n\n\nIf you have suggestions regardi
 ng future guest speakers, local field trips, or would like to present on a 
 aviation related topic, please contact me so we can make arrangements and s
 chedule it on our meeting calendar.\n\n\nThank you\n\n\nAlexander Pe&ntilde
 ;a \nVMC Program Coordinator \nThis email address is being protected from s
 pambots. You need JavaScript enabled to view it.
				document.getElementByI
 d('cloakdf05ab66224c3925fc9055f1aa851764').innerHTML = '';
				var prefix =
  '&#109;a' + 'i&#108;' + '&#116;o';
				var path = 'hr' + 'ef' + '=';
				v
 ar addydf05ab66224c3925fc9055f1aa851764 = 'AZvmccl&#117;b' + '&#64;';
				a
 ddydf05ab66224c3925fc9055f1aa851764 = addydf05ab66224c3925fc9055f1aa851764 
 + '&#105;cl&#111;&#117;d' + '&#46;' + 'c&#111;m';
				var addy_textdf05ab66
 224c3925fc9055f1aa851764 = 'AZvmccl&#117;b' + '&#64;' + '&#105;cl&#111;&#11
 7;d' + '&#46;' + 'c&#111;m';document.getElementById('cloakdf05ab66224c3925f
 c9055f1aa851764').innerHTML += ''+addy_textdf05ab66224c3925fc9055f1aa851764
 +'';
		\n&nbsp;\nVMC Club Meeting - Mastering the Art of Aviation\nTower Op
 erations\n\n\nDate and Time: Tuesday, April 3, 2018, starting at 18:00 Ariz
 ona\n\n\nSpeaker(s): Tim Krieger\n\n\nBrief Description:\nThis months meeti
 ng we welcome special guest Tim Krieger, Tower Manger KCHD. Learn first han
 d the role the tower plays in the national ATC system and specifically how 
 it applies to Chandler Municipal Airport.\n\n\nEAA/VMC Club, through the EA
 A's global Chapter structure, provides organized "hangar flying" focused on
  building flying knowledge and skills. The program's network promotes a saf
 ety culture through continued education and believes that we develop safety
  and proficiency through education and real life experience. Monthly meetin
 gs offer an opportunity to share in-flight experiences and valuable safety 
 tips. Through the FAA Safety Program, aviation professionals provide inform
 ative WINGS presentations. Membership in theEAA/VMC Club is encouraged but 
 not required to participate in this meeting. For more information and to ta
 ke part in this event, click the link below and register TODAY!\n\n\nSelect
  Number: WP0781833\n\n\nLocation of Seminar:\nChandler Municipal Airport Te
 rminal Building Meeting Room\n2380 S Stinson Way\nChandler, AZ 85286\n\n\nD
 irections to Venue:\nPark in front of the main terminal building. Entrance 
 to the meeting room is from the outside on the left side of the main termin
 al door.\n\n\nView Map\n\n\nFly-in Seminar?: Yes KCHD\n\n\nSeating: 35 seat
 s at the facility\n\n\nRegistration Information:\nClick here to register on
 line now!\n\n\nSponsoring Division: FAA Safety Team\n\n\nContact Informatio
 n: Alexander Pe&ntilde;a\nPhone: 480-982-6043\nThis email address is being 
 protected from spambots. You need JavaScript enabled to view it.
				docume
 nt.getElementById('cloakf12516555002a65d559f71bd16992c85').innerHTML = '';

 				var prefix = '&#109;a' + 'i&#108;' + '&#116;o';
				var path = 'hr' + '
 ef' + '=';
				var addyf12516555002a65d559f71bd16992c85 = '&#97;zvmccl&#117
 ;b' + '&#64;';
				addyf12516555002a65d559f71bd16992c85 = addyf12516555002a
 65d559f71bd16992c85 + '&#105;cl&#111;&#117;d' + '&#46;' + 'c&#111;m';
				v
 ar addy_textf12516555002a65d559f71bd16992c85 = '&#97;zvmccl&#117;b' + '&#64
 ;' + '&#105;cl&#111;&#117;d' + '&#46;' + 'c&#111;m';document.getElementById
 ('cloakf12516555002a65d559f71bd16992c85').innerHTML += ''+addy_textf1251655
 5002a65d559f71bd16992c85+'';
		\n\n\nAdditional Event Information &amp; Ack
 nowledgement of Industry Sponsor(s):\nThis event is sponsored and hosted by
  the Local EAA/VMC Club and the FAA Safety Team.\n\n\nWhat is the EAA/VMC C
 lub?\nThe EAA/VMC Club is modeled after the popular IMC Club concept which 
 provides organized &ldquo;hangar flying&rdquo; focused on building proficie
 ncy in instrument flying. The EAA/VMC Club will do the same, but for pilots
  who are not instrument rated and fly primarily under visual flight rules a
 nd VMC.\n\n\nWhat is the purpose of EAA/VMC Club?\nAt EAA/VMC Club, our aim
  is to promote VFR flying, proficiency, and safety. Along with monthly loca
 l meetings, we offer a resource-rich website which provides an electronic e
 xperience base.\nOur intent is to create a community of pilots to share inf
 ormation, provide recognition, foster communications, promote safety and bu
 ild proficiency in general aviation. EAA/VMC Club offers monthly meetings i
 n which pilots can network and share knowledge and experiences.\n\n\nDo you
  need to bring anything?\nFirst, bring your thoughts or story and be willin
 g to share them with the group. This meeting is very interactive. Participa
 tion by the group is a fundamental element of the EAA/VMC Club meeting.\nOt
 hers have found it helpful to bring along a copy of their flight manual, GP
 S manual, and charts. If you navigate with an iPad, bring it along.\n\n\nWh
 o can attend?\nThis meeting is open to all current, non-current, and future
  pilots.\n\n\nFor more information about the EAA/VMC Club, please visit htt
 p://www.eaa.org/VMCclub\n\n\nEqual Access Information:\nThe FAA Safety Team
  (FAASTeam) is committed to providing equal access to this meeting/event fo
 r all participants. If you need alternative formats or services because of 
 a disability, please communicate your request as soon as possible with the 
 person in the &ldquo;Contact Information&rdquo; area of the meeting/event n
 otice. Note that two weeks is usually required to arrange services.\n\n\nCr
 edit Applicability:\n1 Credit for Basic Knowledge Topic 3\n
CONTACT:Alexander Peña Phone: 480-982-6043 This email address is being protected from spambots. You need JavaScript enabled to view it.
				document.getElementById('cloak339fea83cd114e0f80721bc17c10c79f').innerHTML = '';
				var prefix = '&#109;a' + 'i&#108;' + '&#116;o';
				var path = 'hr' + 'ef' + '=';
				var addy339fea83cd114e0f80721bc17c10c79f = '&#97;zvmccl&#117;b' + '&#64;';
				addy339fea83cd114e0f80721bc17c10c79f = addy339fea83cd114e0f80721bc17c10c79f + '&#105;cl&#111;&#117;d' + '&#46;' + 'c&#111;m';
				var addy_text339fea83cd114e0f80721bc17c10c79f = '&#97;zvmccl&#117;b' + '&#64;' + '&#105;cl&#111;&#117;d' + '&#46;' + 'c&#111;m';document.getElementById('cloak339fea83cd114e0f80721bc17c10c79f').innerHTML += ''+addy_text339fea83cd114e0f80721bc17c10c79f+'';
		
DTSTAMP:20260425T183004Z
DTSTART;TZID=America/Phoenix:20180403T180000
SEQUENCE:0
TRANSP:OPAQUE
END:VEVENT
END:VCALENDAR