BEGIN:VCALENDAR
VERSION:2.0
PRODID:-//jEvents 2.0 for Joomla//EN
CALSCALE:GREGORIAN
METHOD:PUBLISH
BEGIN:VEVENT
UID:e0b91e5dac17a7b5b1851ad034425e17
CATEGORIES:Safety
CREATED:20180306T071509
SUMMARY:Seventh Annual APA General Aviation Accident Reduction and Mitigation Symposium at Tucson
LOCATION:RYAN AIRPORT MEETING ROOM 9400 W Ajo Way Tucson, AZ 85735
DESCRIPTION;ENCODING=QUOTED-PRINTABLE:Seventh Annual APA General Aviation Accident Reduction and Mitigation Sympo
 sium\nGAARMS VII\nApril 14th, 2018\nTucson, Ryan Airport\n\n\n2017 Fatal Ac
 cident Review - GAARMS VII\n\n\nReview of fatal accidents during CY-2017\n\
 n\nDate and Time: Saturday, April 14, 2018, starting at 09:00 Arizona\n\n\n
 Speaker(s): Fred Gibbs, APA Safety Director/FAASTeam Lead Rep\n\n\nBrief De
 scription:\nAn in-depth discussion of the 6 fatal accidents that occured in
  Arizona during CY-2017\n\n\nSelect Number: WP0781933\n\n\nLocation of Semi
 nar:\nRYAN AIRPORT MEETING ROOM\n9400 W Ajo Way\nTucson, AZ 85735\n\n\nDire
 ctions to Venue:\nFlying in: Park at transient parking:\n\n\nTransportation
  available.\n\n\nView Map\n\n\nFly-in Seminar?: Yes KRYN\n\n\nSeating: 75 s
 eats at the facility\n\n\nRegistration Information:\nClick here to register
  online now!\n\n\nSponsoring Division: SDL FSDO FAASTeam\n\n\nContact Infor
 mation: FRED L. GIBBS\nPhone: (410) 206-3753\nThis email address is being p
 rotected from spambots. You need JavaScript enabled to view it.
				documen
 t.getElementById('cloak03063ed41384b88d1dda9168031bea37').innerHTML = '';
	
 			var prefix = '&#109;a' + 'i&#108;' + '&#116;o';
				var path = 'hr' + 'e
 f' + '=';
				var addy03063ed41384b88d1dda9168031bea37 = 'fr&#101;dg&#105;b
 bs' + '&#64;';
				addy03063ed41384b88d1dda9168031bea37 = addy03063ed41384b
 88d1dda9168031bea37 + 'npgc&#97;bl&#101;' + '&#46;' + 'c&#111;m';
				var a
 ddy_text03063ed41384b88d1dda9168031bea37 = 'fr&#101;dg&#105;bbs' + '&#64;' 
 + 'npgc&#97;bl&#101;' + '&#46;' + 'c&#111;m';document.getElementById('cloak
 03063ed41384b88d1dda9168031bea37').innerHTML += ''+addy_text03063ed41384b88
 d1dda9168031bea37+'';
		\n\n\nAdditional Event Information &amp; Acknowledg
 ement of Industry Sponsor(s):\nA presentation by the Arizona Pilots Associa
 tion Safety Program in concert with the Scottsdale FAASTeam Program, sponso
 red and hosted by the Tucson Airport Authority.\n\n\nEqual Access Informati
 on:\nThe FAA Safety Team (FAASTeam) is committed to providing equal access 
 to this meeting/event for all participants. If you need alternative formats
  or services because of a disability, please communicate your request as so
 on as possible with the person in the &ldquo;Contact Information&rdquo; are
 a of the meeting/event notice. Note that two weeks is usually required to a
 rrange services.\n\n\nCredit Applicability:\n1 Credit for Basic Knowledge T
 opic 3\n1 Credit for Advanced Knowledge Topic 1\n
CONTACT:FRED L. GIBBS  (410) 206-3753  This email address is being protected from spambots. You need JavaScript enabled to view it.
				document.getElementById('cloak1ab647daea61b6446a4a9f736401bc64').innerHTML = '';
				var prefix = '&#109;a' + 'i&#108;' + '&#116;o';
				var path = 'hr' + 'ef' + '=';
				var addy1ab647daea61b6446a4a9f736401bc64 = 'fr&#101;dg&#105;bbs' + '&#64;';
				addy1ab647daea61b6446a4a9f736401bc64 = addy1ab647daea61b6446a4a9f736401bc64 + 'npgc&#97;bl&#101;' + '&#46;' + 'c&#111;m';
				var addy_text1ab647daea61b6446a4a9f736401bc64 = 'fr&#101;dg&#105;bbs' + '&#64;' + 'npgc&#97;bl&#101;' + '&#46;' + 'c&#111;m';document.getElementById('cloak1ab647daea61b6446a4a9f736401bc64').innerHTML += ''+addy_text1ab647daea61b6446a4a9f736401bc64+'';
		
DTSTAMP:20260425T182920Z
DTSTART;TZID=America/Phoenix:20180414T080000
SEQUENCE:0
TRANSP:OPAQUE
END:VEVENT
END:VCALENDAR