BEGIN:VCALENDAR
VERSION:2.0
PRODID:-//jEvents 2.0 for Joomla//EN
CALSCALE:GREGORIAN
METHOD:PUBLISH
BEGIN:VEVENT
UID:a79dce80547dbe56744f21ba58968a0f
CATEGORIES:Safety
CREATED:20180225T154306
SUMMARY:Greater Southwest Aviation Maintenance Symposium at Mesa
LOCATION:Chandler-Gilbert Community College Aviation Center  7360 E. Tahoe Avenue  B
 luford Hall Mesa, AZ 85212
DESCRIPTION;ENCODING=QUOTED-PRINTABLE:Greater Southwest Aviation Maintenance Symposium (2 Day Event)\nAviation Ma
 intenance continuning education courses\n\n\nDate and Time: Thursday, March
  8, 2018, starting at 07:30 Arizona\n\n\nSpeaker(s): Multiple industry spea
 kers\n\n\nBrief Description:\nThe symposium is a 2 day event (March 8th &am
 p; 9th) registration will be from 6:45am until 8:00am. Seminar will begin p
 romptly at 7:30am until 5:30pm, AZST/PDT, on both days.\n\n\nThis event wil
 l provide an opportunity for:\n\n - Airframe and Powerplant (A&amp;P) certi
 ficate holders to renew their Inspection Authorization (IA) ratings\n - Tec
 hnicians to earn points for the Aviation Maintenance Technicians Award.\n -
  Pilots can earn credit toward the Wings Program.\n\nPlease register at\nht
 tp://www.faasafety.gov\nhttp://www.cgc.maricopa.edu/Academics/aviation/Symp
 osium/Pages/default.aspx\n\n\nSelect Number: WP0781066\n\n\nLocation of Sem
 inar:\nChandler-Gilbert Community College Aviation Center \n7360 E. Tahoe A
 venue \nBluford Hall\nMesa, AZ 85212\n\n\nDirections to Venue:\nFrom the Sa
 n Tan 202 freeway, South on Power Road, then East on Ray Road, South on S. 
 Sossaman Road then South(right) on S. Avery\n\n\nFly-in Seminar?: Yes KIWA\
 n\n\nSeating: 500 seats at the facility\n\n\nRegistration Information:\nCli
 ck here to register online now!\n\n\nSponsoring Division: FAASTeam\n\n\nCon
 tact Information: BEN YORK\nPhone: (480) 236-4634\nThis email address is be
 ing protected from spambots. You need JavaScript enabled to view it.
				do
 cument.getElementById('cloak2fcede67b9ba9edb679ab7d6de116499').innerHTML = 
 '';
				var prefix = '&#109;a' + 'i&#108;' + '&#116;o';
				var path = 'hr'
  + 'ef' + '=';
				var addy2fcede67b9ba9edb679ab7d6de116499 = 'cpty&#111;rk
 ' + '&#64;';
				addy2fcede67b9ba9edb679ab7d6de116499 = addy2fcede67b9ba9ed
 b679ab7d6de116499 + '&#97;&#111;l' + '&#46;' + 'c&#111;m';
				var addy_tex
 t2fcede67b9ba9edb679ab7d6de116499 = 'cpty&#111;rk' + '&#64;' + '&#97;&#111;
 l' + '&#46;' + 'c&#111;m';document.getElementById('cloak2fcede67b9ba9edb679
 ab7d6de116499').innerHTML += ''+addy_text2fcede67b9ba9edb679ab7d6de116499+'
 ';
		\n\n\nAdditional Event Information &amp; Acknowledgement of Industry S
 ponsor(s):\nIt is designed for everyone interested in aviation in general a
 nd aviation maintenance specifically. The symposium targets quality educati
 onal needs, provides opportunities for networking with the Southwest Aviati
 on community and up to date product improvement information.\n\n\nThe succe
 ss of our symposium has been due, in large part, to the monetary contributi
 ons of the vendors. These monetary contributions help to pay for the Charle
 s Taylor Awards lunch set up, coffee and donuts, all printing costs associa
 ted with the symposium, door prizes, etc. Participant contributions in the 
 form of drawing and door prizes help to account for the large attendance at
  these events.\n\n\nEqual Access Information:\nThe FAA Safety Team (FAASTea
 m) is committed to providing equal access to this meeting/event for all par
 ticipants. If you need alternative formats or services because of a disabil
 ity, please communicate your request as soon as possible with the person in
  the &ldquo;Contact Information&rdquo; area of the meeting/event notice. No
 te that two weeks is usually required to arrange services.\n\n\nCredit Appl
 icability:\n1 Credit for Basic Knowledge Topic 3\n2 Credits for Master Know
 ledge Topic 2\n8 Hours Total for AMT\n
CONTACT:BEN YORK Phone: (480) 236-4634 This email address is being protected from spambots. You need JavaScript enabled to view it.
				document.getElementById('cloak655ecd9f0a7c5c6b9961cc5ad6e88697').innerHTML = '';
				var prefix = '&#109;a' + 'i&#108;' + '&#116;o';
				var path = 'hr' + 'ef' + '=';
				var addy655ecd9f0a7c5c6b9961cc5ad6e88697 = 'cpty&#111;rk' + '&#64;';
				addy655ecd9f0a7c5c6b9961cc5ad6e88697 = addy655ecd9f0a7c5c6b9961cc5ad6e88697 + '&#97;&#111;l' + '&#46;' + 'c&#111;m';
				var addy_text655ecd9f0a7c5c6b9961cc5ad6e88697 = 'cpty&#111;rk' + '&#64;' + '&#97;&#111;l' + '&#46;' + 'c&#111;m';document.getElementById('cloak655ecd9f0a7c5c6b9961cc5ad6e88697').innerHTML += ''+addy_text655ecd9f0a7c5c6b9961cc5ad6e88697+'';
		
DTSTAMP:20260425T155813Z
DTSTART;TZID=America/Phoenix:20180309T073000
DTEND;TZID=America/Phoenix:20180309T173000
SEQUENCE:0
TRANSP:OPAQUE
END:VEVENT
END:VCALENDAR