BEGIN:VCALENDAR
VERSION:2.0
PRODID:-//jEvents 2.0 for Joomla//EN
CALSCALE:GREGORIAN
METHOD:PUBLISH
BEGIN:VEVENT
UID:e2072341fbaf6fe9c9bff459d8e49530
CATEGORIES:Meetings
CREATED:20180206T152507
SUMMARY:VMC Club Meeting at CHD
LOCATION:Chandler KCHD Terminal Meeting Room
DESCRIPTION;ENCODING=QUOTED-PRINTABLE:\n\n\n\n\nThank you to all who attended our meeting on Feb. 6th. Hope every
 one came away with something to think about.\n\n\nNext meeting is Tuesday M
 arch 6th, 6pm. Please register using the following link.\n\n\n~ REGISTER fo
 r WINGS CREDIT Click Here ~\n\n\nBelow is the link to the scenario incident
  we discussed as presented by the AOPA Air Safety Institute\n\n\nhttps://yo
 utu.be/pAWy9mjnrYM\n\n\nThe Phoenix-Area Practice Areas, Frequencies, and A
 erobatic Boxes map by the Arizona Flight Training Workgroup can be found at
  the following link.\n\n\nhttp://aftw.org/practice_areas.html\n\n\nA good a
 rticle in this months FAA Safety Briefing is entitled &ldquo;Talk Like A Pi
 lot&rdquo;, - The Basic Elements of Aviation Communication..\n\n\nhttps://s
 park.adobe.com/page/mdbkLxIRtfNiQ/\n\n\nThe full issue can be viewed using 
 the following link\n\n\nhttps://www.faa.gov/news/safety_briefing/?cid=TW112
 \n\n\nWings credit was submitted for all those who requested it. If you did
  not receive your credit please let me know. For more information about the
  Wings program please visit\n\n\nhttp://faasafety.gov\n\n\nIf you were not 
 already aware, our club has a Facebook page where meeting and club informat
 ion, as well as a daily safety tips and other aviation related information 
 that might be of interest are posted. http://facebook.com/azvmcclub\n\n\nTh
 ank you to Chandler Air Service, http://www.aerobatics.com and to the Arizo
 na Pilots Association http://www.azpilots.org for their continued support, 
 as well as the the Chandler Airport for letting us use the terminal meeting
  room.\n\n\nThank you\nAlexander Pe&ntilde;a \nLocal EAA VMC Club Program C
 oordinator \nThis email address is being protected from spambots. You need 
 JavaScript enabled to view it.
				document.getElementById('cloak68ac106d85
 768fd5dbd87d0d070ca4f7').innerHTML = '';
				var prefix = '&#109;a' + 'i&#1
 08;' + '&#116;o';
				var path = 'hr' + 'ef' + '=';
				var addy68ac106d857
 68fd5dbd87d0d070ca4f7 = '&#97;zvmccl&#117;b' + '&#64;';
				addy68ac106d857
 68fd5dbd87d0d070ca4f7 = addy68ac106d85768fd5dbd87d0d070ca4f7 + '&#105;cl&#1
 11;&#117;d' + '&#46;' + 'c&#111;m';
				var addy_text68ac106d85768fd5dbd87d
 0d070ca4f7 = '&#97;zvmccl&#117;b' + '&#64;' + '&#105;cl&#111;&#117;d' + '&#
 46;' + 'c&#111;m';document.getElementById('cloak68ac106d85768fd5dbd87d0d070
 ca4f7').innerHTML += ''+addy_text68ac106d85768fd5dbd87d0d070ca4f7+'';
		\nf
 b.me/azvmcclub\n\n\n&nbsp;\n\n\n&nbsp;\n\n\n&nbsp;What is the EAA/VMC Club?
 \nThe EAA/VMC Club is modeled after the popular IMC Club concept which prov
 ides organized &ldquo;hangar flying&rdquo; focused on building proficiency 
 in instrument flying. The EAA/VMC Club will do the same, but for pilots who
  are not instrument rated and fly primarily under visual flight rules and V
 MC.\n\n\nWhat is the purpose of EAA/VMC Club?\nAt EAA/VMC Club, our aim is 
 to promote VFR flying, proficiency, and safety. Along with monthly local me
 etings, we offer a resource-rich website which provides an electronic exper
 ience base.\nOur intent is to create a community of pilots to share informa
 tion, provide recognition, foster communications, promote safety and build 
 proficiency in general aviation. EAA/VMC Club offers monthly meetings in wh
 ich pilots can network and share knowledge and experiences.\n\n\nDo you nee
 d to bring anything?\nFirst, bring your thoughts or story and be willing to
  share them with the group. This meeting is very interactive. Participation
  by the group is a fundamental element of the EAA/VMC Club meeting.\nOthers
  have found it helpful to bring along a copy of their flight manual, GPS ma
 nual, and charts. If you navigate with an iPad, bring it along.\n\n\nWho ca
 n attend?\nThis meeting is open to all current, non-current, and future pil
 ots.\n\n\nFor more information about the EAA/VMC Club, please visit http://
 www.eaa.org/VMCclub\n\n\n&nbsp;\n
CONTACT:Alexander Peña  This email address is being protected from spambots. You need JavaScript enabled to view it.
				document.getElementById('cloak1b802971eecaadda1332e6f2c7e13c2e').innerHTML = '';
				var prefix = '&#109;a' + 'i&#108;' + '&#116;o';
				var path = 'hr' + 'ef' + '=';
				var addy1b802971eecaadda1332e6f2c7e13c2e = '&#97;zvmccl&#117;b' + '&#64;';
				addy1b802971eecaadda1332e6f2c7e13c2e = addy1b802971eecaadda1332e6f2c7e13c2e + '&#105;cl&#111;&#117;d' + '&#46;' + 'c&#111;m';
				var addy_text1b802971eecaadda1332e6f2c7e13c2e = '&#97;zvmccl&#117;b' + '&#64;' + '&#105;cl&#111;&#117;d' + '&#46;' + 'c&#111;m';document.getElementById('cloak1b802971eecaadda1332e6f2c7e13c2e').innerHTML += ''+addy_text1b802971eecaadda1332e6f2c7e13c2e+'';
		
DTSTAMP:20260425T171214Z
DTSTART;TZID=America/Phoenix:20180306T180000
DTEND;TZID=America/Phoenix:20180306T200000
SEQUENCE:0
TRANSP:OPAQUE
END:VEVENT
END:VCALENDAR