BEGIN:VCALENDAR
VERSION:2.0
PRODID:-//jEvents 2.0 for Joomla//EN
CALSCALE:GREGORIAN
METHOD:PUBLISH
BEGIN:VEVENT
UID:a2c24d9b55416512604ab52e05561cc8
CATEGORIES:Backcountry
CREATED:20180206T151828
SUMMARY:Pleasant Valley (Young, AZ) Backcountry Fly-In
LOCATION:24AZ Pleasant Valley Airstrip (Young, AZ)
DESCRIPTION;ENCODING=QUOTED-PRINTABLE:&nbsp;\n\n\nJoin fellow pilots and their families in the cool pines of Youn
 g Arizona on Memorial Day weekend&nbsp;(24AZ), AKA Pleasant Valley. The air
 strip is 3400' graded dirt, and accommodates most GA aircraft. Young and Pl
 easant Valley provide very special and beautiful surroundings. The locals h
 elp provide&nbsp; ground transportation to and from town for the many activ
 ities available in Historic Young, meals and hotel stays.&nbsp;\n\n\nFor tr
 ansportation to Young from the airstrip, call&nbsp;Vern and Kathy (928-462-
 3510)\n\n\nAs always, please check weather for your trip, and make the your
  decision to fly on your skill level, equipment, and conditions along the r
 oute and destination. Spring winds can be hazardous in the backcountry!\nWe
 ekend Schedule:\n - Friday 3:00 to 7:00 PM Bruzzi Vineyard, Pizza and/or Wi
 ne Tasting\n - Saturday &amp; Sunday: Purple Sage Farm and Country Store op
 ens 8:00 AM&nbsp; &nbsp;\n - Saturday: Historical Society and Museum open 1
 0:00 to 7:00\n - Thrift Store (The Mall) opens 12:00 Noon to 5:00\n - Satur
 day evening option: Dining with History -&nbsp;Honoring Veterans 5:00-7:00P
 M, Presentations and Dinner to follow $25/pp\n - Saturday evening Dining op
 tion:&nbsp;Enjoy an incredible meal at Antler's Restaurant!\n - Saturday 4:
 00 to 7:00PM Bruzzi Vineyard Pizza and/or Wine Tasting\n - Monday 8:00 AM: 
 Memorial Day Flag raising ceremony and breakfast.&nbsp; Begins at Young Cem
 etery.\n\n\nLocal Hotels: (Or camp at the airstrip!)\n\nPleasant Valley Inn
 &nbsp;with fireplaces, WiFi, refrigerators, and all the comforts of home. C
 all Marla&nbsp;at&nbsp;(928) 462-3593&nbsp;early to reserve a room! Transpo
 rtation to and from the hotel will be available.\n\n\nCherry Creek Lodge&nb
 sp;Cabins just south of town, Call: Holly 928-462-4027\n\n\nDead Broke Inn&
 nbsp;Call: Karla&nbsp;928-462-4022\n\n\nValley View Cabins Call: Darleen Ha
 rris 928-462-3422\n\n\nGrandpa&rsquo;s Cabin:&nbsp; Call Tom or Joanne 928-
 462-3253\n\n\nAntlers:\nhttps://www.facebook.com/Antlers-Cafe-Bar-215070661
 894085/\n\n\nBruzzi Vineyard:\nhttp://www.bruzzivineyard.com/\n\n\nThe Fore
 st Service has issued a level two fire warning so there willl be no open fi
 res, charcoal fires or smoking.&nbsp;\n&nbsp;\n&nbsp;\nClick Here for the P
 ilot Safety Pamphlet\n\n\n\n&nbsp;Additional Activties!\n\n\n\n\n\n\n\n\n\n
 \n\n\n\n\n\n\n\n\n\n\n\n\n\n\n&nbsp;\n\n\n&nbsp;\n
CONTACT:Mark: This email address is being protected from spambots. You need JavaScript enabled to view it.
				document.getElementById('cloak9301116943b7aad9dd2724e258bda247').innerHTML = '';
				var prefix = '&#109;a' + 'i&#108;' + '&#116;o';
				var path = 'hr' + 'ef' + '=';
				var addy9301116943b7aad9dd2724e258bda247 = 'msp&#101;nc&#101;r' + '&#64;';
				addy9301116943b7aad9dd2724e258bda247 = addy9301116943b7aad9dd2724e258bda247 + 'th&#101;r&#97;f' + '&#46;' + '&#111;rg';
				var addy_text9301116943b7aad9dd2724e258bda247 = 'msp&#101;nc&#101;r' + '&#64;' + 'th&#101;r&#97;f' + '&#46;' + '&#111;rg';document.getElementById('cloak9301116943b7aad9dd2724e258bda247').innerHTML += ''+addy_text9301116943b7aad9dd2724e258bda247+'';
		, Tommy: This email address is being protected from spambots. You need JavaScript enabled to view it.
				document.getElementById('cloak8793860c24d24bf182afbfa595c4c6ba').innerHTML = '';
				var prefix = '&#109;a' + 'i&#108;' + '&#116;o';
				var path = 'hr' + 'ef' + '=';
				var addy8793860c24d24bf182afbfa595c4c6ba = 't&#101;th&#111;m&#97;s&#111;n' + '&#64;';
				addy8793860c24d24bf182afbfa595c4c6ba = addy8793860c24d24bf182afbfa595c4c6ba + '&#97;zp&#105;l&#111;ts' + '&#46;' + '&#111;rg';
				var addy_text8793860c24d24bf182afbfa595c4c6ba = 't&#101;th&#111;m&#97;s&#111;n' + '&#64;' + '&#97;zp&#105;l&#111;ts' + '&#46;' + '&#111;rg';document.getElementById('cloak8793860c24d24bf182afbfa595c4c6ba').innerHTML += ''+addy_text8793860c24d24bf182afbfa595c4c6ba+'';
		
DTSTAMP:20260425T171050Z
DTSTART;TZID=America/Phoenix;VALUE=DATE:20180525
DTEND;TZID=America/Phoenix;VALUE=DATE:20180528
SEQUENCE:0
TRANSP:OPAQUE
END:VEVENT
END:VCALENDAR