BEGIN:VCALENDAR
VERSION:2.0
PRODID:-//jEvents 2.0 for Joomla//EN
CALSCALE:GREGORIAN
METHOD:PUBLISH
BEGIN:VEVENT
UID:7341666440d9fc2e65fc85f5afe600b3
CATEGORIES:Other Fly-In
CREATED:20180129T213326
SUMMARY:Sky Kids at Goodyear
LOCATION:Goodyear Airport
DESCRIPTION;ENCODING=QUOTED-PRINTABLE:\n\n\n\n\n\nSky Kids last event was an overwhelming success and brought a m
 emorable day to several kids.\n\n\nWhere:&nbsp;Lux Air Jet Center\nPhoenix-
 Goodyear Airport\n1658 South Litchfield Road\nGoodyear, AZ 85338\n\n\n\nWhe
 n: April 7, 2018\n\n\n\nTime: Start the day - 7:00AM\nMore info on skykidsa
 z.org...\n\n\n&nbsp;\n
CONTACT:EMail:  This email address is being protected from spambots. You need JavaScript enabled to view it.
				document.getElementById('cloakfd9437a18ccb1df5f24eaac50167c920').innerHTML = '';
				var prefix = '&#109;a' + 'i&#108;' + '&#116;o';
				var path = 'hr' + 'ef' + '=';
				var addyfd9437a18ccb1df5f24eaac50167c920 = 'Inf&#111;' + '&#64;';
				addyfd9437a18ccb1df5f24eaac50167c920 = addyfd9437a18ccb1df5f24eaac50167c920 + 'Skyk&#105;dsAZ' + '&#46;' + '&#111;rg';
				var addy_textfd9437a18ccb1df5f24eaac50167c920 = 'Inf&#111;' + '&#64;' + 'Skyk&#105;dsAZ' + '&#46;' + '&#111;rg';document.getElementById('cloakfd9437a18ccb1df5f24eaac50167c920').innerHTML += ''+addy_textfd9437a18ccb1df5f24eaac50167c920+'';
		  Call:  602 790-3667
DTSTAMP:20260425T182920Z
DTSTART;TZID=America/Phoenix;VALUE=DATE:20180407
DTEND;TZID=America/Phoenix;VALUE=DATE:20180408
SEQUENCE:0
TRANSP:OPAQUE
END:VEVENT
END:VCALENDAR