BEGIN:VCALENDAR
VERSION:2.0
PRODID:-//jEvents 2.0 for Joomla//EN
CALSCALE:GREGORIAN
METHOD:PUBLISH
BEGIN:VEVENT
UID:4e357f2198fee5c7e197522ecb74b234
CATEGORIES:Other Fly-In
CREATED:20180124T160421
SUMMARY:Falcon Field Airport Open House
DESCRIPTION;ENCODING=QUOTED-PRINTABLE:\n\n\n\n\n&nbsp;\n\n\n\nFalcon Field Airport Open HouseDate:03/24/2018 9:00
  AM - 2:00 PM\nLocation:Falcon Field Airport\n4636 E. Fighter Aces Drive\nM
 esa,&nbsp;Arizona&nbsp;85215\n\n\nGet a close look at unique aircraft, clas
 sic cars, model railroads and more 9 a.m.-2 p.m. Saturday, March 24, 2018 w
 hen the City of Mesa&rsquo;s Falcon Field Airport hosts its annual Open Hou
 se.&nbsp;\n\n\n&bull; See unique aircraft up close, including The Boeing Co
 mpany's AH-64E Apache attack helicopter; two unmanned aerial vehicles - the
  S-100 Camcopter and ScanEagle; and a ground control station; vintage warbi
 rds; a 1967 AH-1F Cobra helicopter; experimental aircraft; general aviation
  aircraft, and more!\n\n\n&bull; Experience the pilot's seat in three diffe
 rent flight simulators!\n\n\n&bull; Aircraft fly-overs.&nbsp;\n\n\n&bull; L
 aunch your own aviation adventure! Aircraft and helicopter rides will be av
 ailable for purchase.\n\n\n&bull; Explore flight training and aviation care
 ers with representatives of area education programs, businesses and aviatio
 n organizations.&nbsp;\n\n\n&bull; Learn about Falcon Field&rsquo;s origin 
 as a World War II pilot training base &amp; view historic military aircraft
  &amp; exhibits at the Arizona Commemorative Air Force Museum (AZCAF).&nbsp
 ;\n\n\n&bull; See more than 200 classic cars at the Impala Bob&rsquo;s Car 
 Show!\n\n\n&bull; Kids' activities, food trucks, and more!&nbsp;\n\n\nWEBSI
 TE:&nbsp;http://www.falconfieldairport.com/\n\n\nFACEBOOK:&nbsp;https://www
 .facebook.com/falconfieldairport/\n\n\n&nbsp;\n\n\n\n&nbsp;\nAlso at Falcon
 \nCommemorative Air Force Museum\n"Celebrate Aviation"\n\nJoin us at the Ar
 izona Commemorative Air Force Museum on 3/24 &amp; 3/25 to celebrate aviati
 on. Saturday, 3/24 is the Falcon Field Open House &amp; Arizona Military Tr
 ansportation Show starting at 9:00am. The open house ends at 2pm but we're 
 open until 4pm. Special Pricing ALL DAY: $5 per person or $10 for a family 
 of four. Rides will be available on our SNJ, Stearman and C-45. Reserve you
 r seat today: https://www.azcaf.org/fly-with-us/.\n\n\nCome back on Sunday,
  3/25 starting 10am for the Arizona Military Transportation Show. The show 
 goes until 1pm but the museum is open until 4p. Regular museum prices for S
 unday, 3/25. Highlights of the military transportation show include militar
 y vehicle &amp; static aircraft displays, collectibles, vehicle parts, plas
 tic model contest, &amp; swap meet.\nFB Event Details:&nbsp;https://www.fac
 ebook.com/events/969205379897787/FACEBOOK:&nbsp;https://www.facebook.com/Ar
 izonaCommemorativeAirForceMuseum/&nbsp;\n\n\n
DTSTAMP:20260425T155725Z
DTSTART;TZID=America/Phoenix:20180324T090000
DTEND;TZID=America/Phoenix:20180324T140000
SEQUENCE:0
TRANSP:OPAQUE
END:VEVENT
END:VCALENDAR