BEGIN:VCALENDAR
VERSION:2.0
PRODID:-//jEvents 2.0 for Joomla//EN
CALSCALE:GREGORIAN
METHOD:PUBLISH
BEGIN:VEVENT
UID:14a1a3e73eb696c79b1c14c918193221
CATEGORIES:Other Fly-In
CREATED:20180110T161158
SUMMARY:Buckeye Air Fair
LOCATION:Buckye Municipal Airport (BXK)
DESCRIPTION;ENCODING=QUOTED-PRINTABLE:\n\n\n\n\n&nbsp;\n\nTentative Air Show Schedule\n&nbsp;&nbsp;&nbsp;&nbsp; 1
 1 a.m.: Opening Ceremony\n&nbsp;&nbsp;&nbsp;&nbsp;&nbsp;&nbsp;&nbsp;&nbsp;&
 nbsp;&nbsp;&nbsp;&nbsp;&nbsp;&nbsp;&nbsp;&nbsp;&nbsp;&nbsp; National Anthem
 \n&nbsp;&nbsp;&nbsp;&nbsp;&nbsp;&nbsp;&nbsp;&nbsp;&nbsp;&nbsp;&nbsp;&nbsp;&
 nbsp;&nbsp;&nbsp;&nbsp;&nbsp;&nbsp; Luke Air Force Base Flyover\n&nbsp;&nbs
 p;&nbsp;&nbsp;&nbsp;&nbsp;&nbsp;&nbsp;&nbsp;&nbsp;&nbsp;&nbsp;&nbsp;&nbsp;&
 nbsp;&nbsp;&nbsp;&nbsp; John McMahon Tribute (Color Guard, Taps, Balloon Re
 lease)\n&nbsp;&nbsp;&nbsp;&nbsp;&nbsp;&nbsp;&nbsp;&nbsp;&nbsp;&nbsp;&nbsp;&
 nbsp;&nbsp;&nbsp;&nbsp;&nbsp;&nbsp;&nbsp; Cindy Irish (Misty Blues) Parachu
 te jump with flag (Will Allen\n&nbsp;&nbsp;&nbsp;&nbsp;&nbsp;&nbsp;&nbsp;&n
 bsp;&nbsp;&nbsp;&nbsp;&nbsp;&nbsp;&nbsp;&nbsp;&nbsp;&nbsp;&nbsp; circle jum
 per and teaser flight)\n11:15 a.m.: Darrel Massman\n11:30 a.m.: Desert Rats
  Warbird Demonstration Team\n11:45 a.m.: Will Allen (Pitts)\n&nbsp;\nThis i
 s the fourth year for the one day SciTech Festival here in Buckeye.&nbsp; T
 he Festival will provide interactive science, math and technology activitie
 s for everyone &ndash; adults , young people and families.&nbsp; The partic
 ipating SciTech Partners represent several disciplines in the science and t
 echnology fields.&nbsp; Last year we attracted 24 organizations including L
 owell Observatory, Arizona Science Center, Stargazing For Everyone, Dignity
  Kids, T-Gen, Embry Riddle Aeronautical University, West-Mec, Mt. Lemmon Sk
 y Center, Aircraft Owners and Pilots Association, Civil Air Patrol, Interna
 tional Dark Sky Association , Boy Scouts of America, Focus Astronomy, Repub
 lic Services, local schools robotics clubs, Challenger Space Center, and Bu
 ckeye Fire to name a few.&nbsp; This is a STEM event you won&rsquo;t want t
 o miss.\n&nbsp;\nEXHIBITORS\nA special thanks to the following groups that 
 have committed to the 2018 Air Fair:\nArcher-Ragsdale Arizona Chapete, TAIL
 ight Horse LegacyUs Coast Guard AuxiliaryTuskegee Motorcycle GroupAmerican 
 Legion AuxilaryAmerican Legion Post 53WASPTuskegee Air ManAmerican Aviation
  Historical SocietyDesert Warriors Frank Luke MemorialRosie the Riveter101s
 t AirborneAMVCCArizona Ground Crew ReenactorsRides aboard vintage military 
 warbird, helicopter, and hot air balloon will be available for purchase!\n&
 nbsp;\nBuckye Municipal Airport (BXK)\n3000 S. Palo Verde Rd.\nBuckeye, AZ 
 85326\n(623) 349-6880\nElevation: 1033&rsquo;\nTPA: 2009&rsquo;\nRWY: 5500&
 lsquo; x 75&rsquo;\nRunway 17: Right Traffic, 2-Light PAPI\nRunway 35: Left
  Traffic, 4-Light PAPI\nFuel: 100LL - 24 Hour Service\nCheck NOTAMS\nCTAF/ 
 Unicom: 122.975\nWX ASOS -3 119.625\nVOR: Buckeye VORTAC 110.60\nBXK: Radia
 l 092/ Distance 7.2\n&nbsp;\nPILOTS FLYING IN THE VICINITY OF BUCKEYE MUNIC
 IPAL AIRPORT (KBXK) DURING THE BUCKEYE AIR FAIR\nBuckeye Air Fair will be h
 eld at the Buckeye Municipal Airport (BXK)&nbsp;Saturday, February 3, 2018.
 \nThe Air Fair is expected to generate an unusually high volume of VFR traf
 fic in the vicinity of KBXK. Since this airspace is routinely subject to in
 tensive student training activity, the amount of VFR traffic concentrated i
 n a relatively small area will be extremely high; consequently, pilots are 
 urged to exercise extreme caution when conducting operations in this area.\
 nThere will NOT be any special arrival/departure procedures in effect durin
 g the Air Fair. Pilots operating to, from, and in the vicinity of Buckeye M
 unicipal Airport during this period should follow standard recommended prac
 tices for operations at non-towered airports, utilizing CTAF (122.975). Pil
 ots should exercise extreme caution for heavy traffic in the area.\nCAUTION
 S\n&bull;&nbsp; Palo Verde Nuclear Generating Station\n&bull;&nbsp; Trainin
 g areas\n&bull;&nbsp; Alert Areas\n&bull;&nbsp; Military Training Routes\nN
 earby airports for diversions if necessary:\n&bull;&nbsp; Phoenix Goodyear 
 (KGYR 15 NM E)\n&bull;&nbsp; Glendale (KGEU ~18 NM ENE)\n&bull;&nbsp; Gila 
 Bend (E63 28 NM S)\n&bull;&nbsp; Wickenburg (E25 32 NM N)\nVFR Loiter point
 s if needed due to delays:\n&bull;&nbsp; Arlington (~7 SW of airport)\n&bul
 l;&nbsp; Buckeye Hills (~9 S of airport: peak 1952)\n&bull;&nbsp; Pierce (~
 6 SE of airport)\n&bull;&nbsp; Tonapah Truck Stop (~ 12 WNW of airport alon
 g I10)\n&bull;&nbsp; Gila Compressor (~12 SW of airport beyond Arlington)\n
 &bull;&nbsp; Proving Grounds (~12 N of BXK VORTAC)\nVFR Departure recommend
 ations:\n&bull;&nbsp; Monitor AWOS before engine start 119.625 or 623-386-7
 627\n&bull;&nbsp; Advise ground safety personnel of departure readiness and
  start engine after\n&nbsp;&nbsp; they clear area.\n&bull;&nbsp; Often best
  departure path will be the internal east taxiway south to TXY A\n&nbsp;&nb
 sp;&nbsp; then to RWY 35 or via TXY H to RWY 17 based on wind.\n
CONTACT:This email address is being protected from spambots. You need JavaScript enabled to view it.
				document.getElementById('cloak67a956e698cf05deff7b69e8ed781952').innerHTML = '';
				var prefix = '&#109;a' + 'i&#108;' + '&#116;o';
				var path = 'hr' + 'ef' + '=';
				var addy67a956e698cf05deff7b69e8ed781952 = 'mg&#111;m&#101;z' + '&#64;';
				addy67a956e698cf05deff7b69e8ed781952 = addy67a956e698cf05deff7b69e8ed781952 + 'b&#117;ck&#101;y&#101;&#97;z' + '&#46;' + 'g&#111;v';
				var addy_text67a956e698cf05deff7b69e8ed781952 = 'mg&#111;m&#101;z' + '&#64;' + 'b&#117;ck&#101;y&#101;&#97;z' + '&#46;' + 'g&#111;v';document.getElementById('cloak67a956e698cf05deff7b69e8ed781952').innerHTML += ''+addy_text67a956e698cf05deff7b69e8ed781952+'';
		
DTSTAMP:20260425T093525Z
DTSTART;TZID=America/Phoenix:20180203T090000
DTEND;TZID=America/Phoenix:20180203T160000
SEQUENCE:0
TRANSP:OPAQUE
END:VEVENT
END:VCALENDAR