BEGIN:VCALENDAR
VERSION:2.0
PRODID:-//jEvents 2.0 for Joomla//EN
CALSCALE:GREGORIAN
METHOD:PUBLISH
BEGIN:VEVENT
UID:737c673fcbc3e301fa4b2a4694198243
CATEGORIES:Aviation Related Event
CREATED:20171216T142252
SUMMARY:Barry M. Goldwater Air Force Range East Tour
LOCATION:Gila Bend, AZ
DESCRIPTION;ENCODING=QUOTED-PRINTABLE:NOTE: This tour is completely full.\nIf you are interested, please email Ma
 ry (This email address is being protected from spambots. You need JavaScrip
 t enabled to view it.
				document.getElementById('cloak9c37f8e62d29020db39
 16291cef31cd7').innerHTML = '';
				var prefix = '&#109;a' + 'i&#108;' + '&
 #116;o';
				var path = 'hr' + 'ef' + '=';
				var addy9c37f8e62d29020db391
 6291cef31cd7 = 's&#111;c&#105;&#97;ls' + '&#64;';
				addy9c37f8e62d29020db
 3916291cef31cd7 = addy9c37f8e62d29020db3916291cef31cd7 + '&#97;zp&#105;l&#1
 11;ts' + '&#46;' + '&#111;rg';
				var addy_text9c37f8e62d29020db3916291cef
 31cd7 = 's&#111;c&#105;&#97;ls' + '&#64;' + '&#97;zp&#105;l&#111;ts' + '&#4
 6;' + '&#111;rg';document.getElementById('cloak9c37f8e62d29020db3916291cef3
 1cd7').innerHTML += ''+addy_text9c37f8e62d29020db3916291cef31cd7+'';
		) to
  be added to the waitlist, as another tour will be scheduled possibly in Ma
 rch.\n&nbsp;\n\n\n\n&nbsp;\nBarry M. Goldwater Air Force Range East Tour on
  January 17th, 2018&nbsp;&nbsp;We are pleased to offer you a special event 
 this coming January 17th, 2018: &nbsp;A Barry M. Goldwater Air Force Range 
 East Tour.&nbsp;\n\nThe maximum number of participants is 50, so RSVP quick
 ly before January 5th. &nbsp;First Come, First Served!!\n\n\nAn Air Force "
 Acknowledgement of Danger; Release and Hold Harmless Agreement" is REQUIRED
 . This agreement must be filled out by all participants, signed, and return
 ed to Mary James before your reservation will be considered complete. Upon 
 receipt of your signed agreement, Mary will send you a reservation confirma
 tion with further details about the event.\n\n\nThe APA will be given the t
 our start time the day before the event, and you will be notified as soon a
 s we receive it. &nbsp;A BBQ lunch will be served at the Gila Bend Airport 
 either before or after the range tour, depending upon the time of the tour.
 &nbsp;\n\n\nCost of this event is $20 - to be paid in cash upon arrival. &n
 bsp;Proceeds will be split between a contribution to an Air Force charity a
 nd our APA Scholarship Fund.\n\n&nbsp;\n\nClick here to download the requir
 ed agreement to be&nbsp;signed.\n\n&nbsp;\n\n\nMary James and Susan Wearly\
 nAPA Social Coordinators\n\n\n&nbsp;\n
CONTACT:Mary James This email address is being protected from spambots. You need JavaScript enabled to view it.
				document.getElementById('cloakaafb4bc4360cb24ac6ef011a9d0d9597').innerHTML = '';
				var prefix = '&#109;a' + 'i&#108;' + '&#116;o';
				var path = 'hr' + 'ef' + '=';
				var addyaafb4bc4360cb24ac6ef011a9d0d9597 = 's&#111;c&#105;&#97;ls' + '&#64;';
				addyaafb4bc4360cb24ac6ef011a9d0d9597 = addyaafb4bc4360cb24ac6ef011a9d0d9597 + '&#97;zp&#105;l&#111;ts' + '&#46;' + '&#111;rg';
				var addy_textaafb4bc4360cb24ac6ef011a9d0d9597 = 's&#111;c&#105;&#97;ls' + '&#64;' + '&#97;zp&#105;l&#111;ts' + '&#46;' + '&#111;rg';document.getElementById('cloakaafb4bc4360cb24ac6ef011a9d0d9597').innerHTML += ''+addy_textaafb4bc4360cb24ac6ef011a9d0d9597+'';
		 515-321-3022
DTSTAMP:20260425T112635Z
DTSTART;TZID=America/Phoenix;VALUE=DATE:20180117
DTEND;TZID=America/Phoenix;VALUE=DATE:20180118
SEQUENCE:0
TRANSP:OPAQUE
END:VEVENT
END:VCALENDAR