BEGIN:VCALENDAR
VERSION:2.0
PRODID:-//jEvents 2.0 for Joomla//EN
CALSCALE:GREGORIAN
METHOD:PUBLISH
BEGIN:VEVENT
UID:a0174117feea6c22c753661a52e8086a
CATEGORIES:Safety
CREATED:20171130T113507
SUMMARY:Collision Course Avoiding Airborne Traffic at Mesa
LOCATION:Holiday Inn & Suites 1600 S. Country Club Drive Mesa, AZ 85210
DESCRIPTION;ENCODING=QUOTED-PRINTABLE:Collision Course Avoiding Airborne Traffic\nAOPA Collision Course: Avoiding
  Airborne Traffic Safety Seminar\n\n\nDate and Time: Monday, January 22, 20
 18, starting at 19:00 Mountain Standard Time\n\n\nSpeaker(s): AOPA Air Safe
 ty Institute Presenter\n\n\nBrief Description:\nThe &ldquo;big sky&rdquo; c
 an get awfully small when multiple aircraft are in the vicinity. Even with 
 ATC support and traffic displays, near misses happen too frequently and mid
 air collisions still happen. Advanced technologies which ensure more precis
 e course and altitude tracking and more aircraft converging on fewer airpor
 ts all work to shrink the &ldquo;big sky&rdquo;.\n\n\nASI&rsquo;s new semin
 ar looks at the problem from a risk management perspective. We identify hig
 h-risk scenarios and locations, then lay out strategies for avoiding them. 
 From congested corridors to frenetic fly-ins, we talk about:\n\n - Human ey
 e limitations that impact the &ldquo;see and avoid&rdquo; philosophy\n - Pr
 oven techniques on enhancing visual scan effectiveness\n - Maximizing your 
 visibility to other aircraft\n - The promise and peril of cockpit technolog
 y\n - &ldquo;Danger zones&rdquo; you may not be aware of\n\nSelect Number: 
 NR0379622\n\n\nLocation of Seminar:\nHoliday Inn &amp; Suites\n1600 S. Coun
 try Club Drive\nMesa, AZ 85210\n\n\nDirections to Venue:\nFree AOPA Safety 
 Seminar - No Pre-registration\n\n\nFly-in Seminar?: No\n\n\nSeating: Check 
 Additional event Information below for possible registration requirements.\
 n\n\nSponsoring Division: AOPA Air Safety Institute\n\n\nContact Informatio
 n: Robin Sharitz\nPhone: 301-695-2175\nThis email address is being protecte
 d from spambots. You need JavaScript enabled to view it.
				document.getEl
 ementById('cloak3789c56f5f7c9d0093ff0fcddbb8892a').innerHTML = '';
				var 
 prefix = '&#109;a' + 'i&#108;' + '&#116;o';
				var path = 'hr' + 'ef' + '=
 ';
				var addy3789c56f5f7c9d0093ff0fcddbb8892a = 'R&#111;b&#105;n.sh&#97;r
 &#105;tz' + '&#64;';
				addy3789c56f5f7c9d0093ff0fcddbb8892a = addy3789c56
 f5f7c9d0093ff0fcddbb8892a + '&#97;&#111;p&#97;' + '&#46;' + '&#111;rg';
			
 	var addy_text3789c56f5f7c9d0093ff0fcddbb8892a = 'R&#111;b&#105;n.sh&#97;r&
 #105;tz' + '&#64;' + '&#97;&#111;p&#97;' + '&#46;' + '&#111;rg';document.ge
 tElementById('cloak3789c56f5f7c9d0093ff0fcddbb8892a').innerHTML += ''+addy_
 text3789c56f5f7c9d0093ff0fcddbb8892a+'';
		\n\n\nAdditional Event Informati
 on &amp; Acknowledgement of Industry Sponsor(s):\nFree Seminar - No Pre-reg
 istration. Time of seminar is the city's local time zone.\n\n\nEqual Access
  Information:\nThe FAA Safety Team (FAASTeam) is committed to providing equ
 al access to this meeting/event for all participants. If you need alternati
 ve formats or services because of a disability, please communicate your req
 uest as soon as possible with the person in the &ldquo;Contact Information&
 rdquo; area of the meeting/event notice. Note that two weeks is usually req
 uired to arrange services.\n\n\nCredit Applicability:\n1 Credit for Basic K
 nowledge Topic 3\n
CONTACT:Robin Sharitz Phone: 301-695-2175 This email address is being protected from spambots. You need JavaScript enabled to view it.
				document.getElementById('cloakc21ecd606eb056c51bc6aca9b18aab32').innerHTML = '';
				var prefix = '&#109;a' + 'i&#108;' + '&#116;o';
				var path = 'hr' + 'ef' + '=';
				var addyc21ecd606eb056c51bc6aca9b18aab32 = 'R&#111;b&#105;n.sh&#97;r&#105;tz' + '&#64;';
				addyc21ecd606eb056c51bc6aca9b18aab32 = addyc21ecd606eb056c51bc6aca9b18aab32 + '&#97;&#111;p&#97;' + '&#46;' + '&#111;rg';
				var addy_textc21ecd606eb056c51bc6aca9b18aab32 = 'R&#111;b&#105;n.sh&#97;r&#105;tz' + '&#64;' + '&#97;&#111;p&#97;' + '&#46;' + '&#111;rg';document.getElementById('cloakc21ecd606eb056c51bc6aca9b18aab32').innerHTML += ''+addy_textc21ecd606eb056c51bc6aca9b18aab32+'';
		
DTSTAMP:20260425T093654Z
DTSTART;TZID=America/Phoenix:20180122T190000
SEQUENCE:0
TRANSP:OPAQUE
END:VEVENT
END:VCALENDAR