BEGIN:VCALENDAR
VERSION:2.0
PRODID:-//jEvents 2.0 for Joomla//EN
CALSCALE:GREGORIAN
METHOD:PUBLISH
BEGIN:VEVENT
UID:74ea1b68e08a953223896eed40c01349
CATEGORIES:Meetings
CREATED:20130508T143937
SUMMARY:Monthly BOD Meeting
LOCATION:Scottsdale, AZ or Online
DESCRIPTION;ENCODING=QUOTED-PRINTABLE:\n\nAPA monthly board meetings are the second Tuesday of each month.\n\n\nM
 eetings are open to any members that would like to attend, just contact&nbs
 p;This email address is being protected from spambots. You need JavaScript 
 enabled to view it.
				document.getElementById('cloak654fa4850162646472ae8
 378657c4490').innerHTML = '';
				var prefix = '&#109;a' + 'i&#108;' + '&#1
 16;o';
				var path = 'hr' + 'ef' + '=';
				var addy654fa4850162646472ae83
 78657c4490 = 't&#101;th&#111;m&#97;s&#111;n' + '&#64;';
				addy654fa485016
 2646472ae8378657c4490 = addy654fa4850162646472ae8378657c4490 + '&#97;zp&#10
 5;l&#111;ts' + '&#46;' + '&#111;rg';
				var addy_text654fa4850162646472ae8
 378657c4490 = 'T&#111;mmy Th&#111;m&#97;s&#111;n';document.getElementById('
 cloak654fa4850162646472ae8378657c4490').innerHTML += ''+addy_text654fa48501
 62646472ae8378657c4490+'';
		 for the meeting location.\n
CONTACT:Tommy Thomason This email address is being protected from spambots. You need JavaScript enabled to view it.
				document.getElementById('cloak99c9b6162768ae259847e1253f2f08f6').innerHTML = '';
				var prefix = '&#109;a' + 'i&#108;' + '&#116;o';
				var path = 'hr' + 'ef' + '=';
				var addy99c9b6162768ae259847e1253f2f08f6 = 't&#101;th&#111;m&#97;s&#111;n' + '&#64;';
				addy99c9b6162768ae259847e1253f2f08f6 = addy99c9b6162768ae259847e1253f2f08f6 + '&#97;zp&#105;l&#111;ts' + '&#46;' + '&#111;rg';
				var addy_text99c9b6162768ae259847e1253f2f08f6 = 't&#101;th&#111;m&#97;s&#111;n' + '&#64;' + '&#97;zp&#105;l&#111;ts' + '&#46;' + '&#111;rg';document.getElementById('cloak99c9b6162768ae259847e1253f2f08f6').innerHTML += ''+addy_text99c9b6162768ae259847e1253f2f08f6+'';
		 602-708-2040
DTSTAMP:20260420T214916Z
DTSTART;TZID=America/Phoenix:20270914T180000
SEQUENCE:0
TRANSP:OPAQUE
END:VEVENT
END:VCALENDAR