BEGIN:VCALENDAR
VERSION:2.0
PRODID:-//jEvents 2.0 for Joomla//EN
CALSCALE:GREGORIAN
METHOD:PUBLISH
BEGIN:VEVENT
UID:74ea1b68e08a953223896eed40c01349
CATEGORIES:Meetings
CREATED:20130508T143937
SUMMARY:Monthly BOD Meeting
LOCATION:Scottsdale, AZ or Online
DESCRIPTION;ENCODING=QUOTED-PRINTABLE:\n\nAPA monthly board meetings are the second Tuesday of each month.\n\n\nM
 eetings are open to any members that would like to attend, just contact&nbs
 p;This email address is being protected from spambots. You need JavaScript 
 enabled to view it.
				document.getElementById('cloakbd4046951a9e53d5a4b36
 c54e188b9ec').innerHTML = '';
				var prefix = '&#109;a' + 'i&#108;' + '&#1
 16;o';
				var path = 'hr' + 'ef' + '=';
				var addybd4046951a9e53d5a4b36c
 54e188b9ec = 't&#101;th&#111;m&#97;s&#111;n' + '&#64;';
				addybd4046951a9
 e53d5a4b36c54e188b9ec = addybd4046951a9e53d5a4b36c54e188b9ec + '&#97;zp&#10
 5;l&#111;ts' + '&#46;' + '&#111;rg';
				var addy_textbd4046951a9e53d5a4b36
 c54e188b9ec = 'T&#111;mmy Th&#111;m&#97;s&#111;n';document.getElementById('
 cloakbd4046951a9e53d5a4b36c54e188b9ec').innerHTML += ''+addy_textbd4046951a
 9e53d5a4b36c54e188b9ec+'';
		 for the meeting location.\n
CONTACT:Tommy Thomason This email address is being protected from spambots. You need JavaScript enabled to view it.
				document.getElementById('cloakbe8bb434f745d5430b2acbe6b0986fde').innerHTML = '';
				var prefix = '&#109;a' + 'i&#108;' + '&#116;o';
				var path = 'hr' + 'ef' + '=';
				var addybe8bb434f745d5430b2acbe6b0986fde = 't&#101;th&#111;m&#97;s&#111;n' + '&#64;';
				addybe8bb434f745d5430b2acbe6b0986fde = addybe8bb434f745d5430b2acbe6b0986fde + '&#97;zp&#105;l&#111;ts' + '&#46;' + '&#111;rg';
				var addy_textbe8bb434f745d5430b2acbe6b0986fde = 't&#101;th&#111;m&#97;s&#111;n' + '&#64;' + '&#97;zp&#105;l&#111;ts' + '&#46;' + '&#111;rg';document.getElementById('cloakbe8bb434f745d5430b2acbe6b0986fde').innerHTML += ''+addy_textbe8bb434f745d5430b2acbe6b0986fde+'';
		 602-708-2040
DTSTAMP:20260420T052001Z
DTSTART;TZID=America/Phoenix:20260512T180000
SEQUENCE:0
TRANSP:OPAQUE
END:VEVENT
END:VCALENDAR