BEGIN:VCALENDAR
VERSION:2.0
PRODID:-//jEvents 2.0 for Joomla//EN
CALSCALE:GREGORIAN
METHOD:PUBLISH
BEGIN:VEVENT
UID:74ea1b68e08a953223896eed40c01349
CATEGORIES:Meetings
CREATED:20130508T143937
SUMMARY:Monthly BOD Meeting
LOCATION:Scottsdale, AZ or Online
DESCRIPTION;ENCODING=QUOTED-PRINTABLE:\n\nAPA monthly board meetings are the second Tuesday of each month.\n\n\nM
 eetings are open to any members that would like to attend, just contact&nbs
 p;This email address is being protected from spambots. You need JavaScript 
 enabled to view it.
				document.getElementById('cloak509d4b48369c10ae050d4
 2fef916d928').innerHTML = '';
				var prefix = '&#109;a' + 'i&#108;' + '&#1
 16;o';
				var path = 'hr' + 'ef' + '=';
				var addy509d4b48369c10ae050d42
 fef916d928 = 't&#101;th&#111;m&#97;s&#111;n' + '&#64;';
				addy509d4b48369
 c10ae050d42fef916d928 = addy509d4b48369c10ae050d42fef916d928 + '&#97;zp&#10
 5;l&#111;ts' + '&#46;' + '&#111;rg';
				var addy_text509d4b48369c10ae050d4
 2fef916d928 = 'T&#111;mmy Th&#111;m&#97;s&#111;n';document.getElementById('
 cloak509d4b48369c10ae050d42fef916d928').innerHTML += ''+addy_text509d4b4836
 9c10ae050d42fef916d928+'';
		 for the meeting location.\n
CONTACT:Tommy Thomason This email address is being protected from spambots. You need JavaScript enabled to view it.
				document.getElementById('cloakb727bd26a723d4b053127cc05ab8d6be').innerHTML = '';
				var prefix = '&#109;a' + 'i&#108;' + '&#116;o';
				var path = 'hr' + 'ef' + '=';
				var addyb727bd26a723d4b053127cc05ab8d6be = 't&#101;th&#111;m&#97;s&#111;n' + '&#64;';
				addyb727bd26a723d4b053127cc05ab8d6be = addyb727bd26a723d4b053127cc05ab8d6be + '&#97;zp&#105;l&#111;ts' + '&#46;' + '&#111;rg';
				var addy_textb727bd26a723d4b053127cc05ab8d6be = 't&#101;th&#111;m&#97;s&#111;n' + '&#64;' + '&#97;zp&#105;l&#111;ts' + '&#46;' + '&#111;rg';document.getElementById('cloakb727bd26a723d4b053127cc05ab8d6be').innerHTML += ''+addy_textb727bd26a723d4b053127cc05ab8d6be+'';
		 602-708-2040
DTSTAMP:20260420T152111Z
DTSTART;TZID=America/Phoenix:20250513T180000
SEQUENCE:0
TRANSP:OPAQUE
END:VEVENT
END:VCALENDAR