BEGIN:VCALENDAR
VERSION:2.0
PRODID:-//jEvents 2.0 for Joomla//EN
CALSCALE:GREGORIAN
METHOD:PUBLISH
BEGIN:VEVENT
UID:74ea1b68e08a953223896eed40c01349
CATEGORIES:Meetings
CREATED:20130508T143937
SUMMARY:Monthly BOD Meeting
LOCATION:Scottsdale, AZ or Online
DESCRIPTION;ENCODING=QUOTED-PRINTABLE:\n\nAPA monthly board meetings are the second Tuesday of each month.\n\n\nM
 eetings are open to any members that would like to attend, just contact&nbs
 p;This email address is being protected from spambots. You need JavaScript 
 enabled to view it.
				document.getElementById('cloak25ca32f9e0d3f8ad72d53
 6f32267a604').innerHTML = '';
				var prefix = '&#109;a' + 'i&#108;' + '&#1
 16;o';
				var path = 'hr' + 'ef' + '=';
				var addy25ca32f9e0d3f8ad72d536
 f32267a604 = 't&#101;th&#111;m&#97;s&#111;n' + '&#64;';
				addy25ca32f9e0d
 3f8ad72d536f32267a604 = addy25ca32f9e0d3f8ad72d536f32267a604 + '&#97;zp&#10
 5;l&#111;ts' + '&#46;' + '&#111;rg';
				var addy_text25ca32f9e0d3f8ad72d53
 6f32267a604 = 'T&#111;mmy Th&#111;m&#97;s&#111;n';document.getElementById('
 cloak25ca32f9e0d3f8ad72d536f32267a604').innerHTML += ''+addy_text25ca32f9e0
 d3f8ad72d536f32267a604+'';
		 for the meeting location.\n
CONTACT:Tommy Thomason This email address is being protected from spambots. You need JavaScript enabled to view it.
				document.getElementById('cloak29997021e84258135f29271b073ad35f').innerHTML = '';
				var prefix = '&#109;a' + 'i&#108;' + '&#116;o';
				var path = 'hr' + 'ef' + '=';
				var addy29997021e84258135f29271b073ad35f = 't&#101;th&#111;m&#97;s&#111;n' + '&#64;';
				addy29997021e84258135f29271b073ad35f = addy29997021e84258135f29271b073ad35f + '&#97;zp&#105;l&#111;ts' + '&#46;' + '&#111;rg';
				var addy_text29997021e84258135f29271b073ad35f = 't&#101;th&#111;m&#97;s&#111;n' + '&#64;' + '&#97;zp&#105;l&#111;ts' + '&#46;' + '&#111;rg';document.getElementById('cloak29997021e84258135f29271b073ad35f').innerHTML += ''+addy_text29997021e84258135f29271b073ad35f+'';
		 602-708-2040
DTSTAMP:20260423T020109Z
DTSTART;TZID=America/Phoenix:20241112T180000
SEQUENCE:0
TRANSP:OPAQUE
END:VEVENT
END:VCALENDAR