BEGIN:VCALENDAR
VERSION:2.0
PRODID:-//jEvents 2.0 for Joomla//EN
CALSCALE:GREGORIAN
METHOD:PUBLISH
BEGIN:VEVENT
UID:74ea1b68e08a953223896eed40c01349
CATEGORIES:Meetings
CREATED:20130508T143937
SUMMARY:Monthly BOD Meeting
LOCATION:Scottsdale, AZ or Online
DESCRIPTION;ENCODING=QUOTED-PRINTABLE:\n\nAPA monthly board meetings are the second Tuesday of each month.\n\n\nM
 eetings are open to any members that would like to attend, just contact&nbs
 p;This email address is being protected from spambots. You need JavaScript 
 enabled to view it.
				document.getElementById('cloakc4fb97b80cc0bba3b9162
 ad7915ee26e').innerHTML = '';
				var prefix = '&#109;a' + 'i&#108;' + '&#1
 16;o';
				var path = 'hr' + 'ef' + '=';
				var addyc4fb97b80cc0bba3b9162a
 d7915ee26e = 't&#101;th&#111;m&#97;s&#111;n' + '&#64;';
				addyc4fb97b80cc
 0bba3b9162ad7915ee26e = addyc4fb97b80cc0bba3b9162ad7915ee26e + '&#97;zp&#10
 5;l&#111;ts' + '&#46;' + '&#111;rg';
				var addy_textc4fb97b80cc0bba3b9162
 ad7915ee26e = 'T&#111;mmy Th&#111;m&#97;s&#111;n';document.getElementById('
 cloakc4fb97b80cc0bba3b9162ad7915ee26e').innerHTML += ''+addy_textc4fb97b80c
 c0bba3b9162ad7915ee26e+'';
		 for the meeting location.\n
CONTACT:Tommy Thomason This email address is being protected from spambots. You need JavaScript enabled to view it.
				document.getElementById('cloak6a403886e310961fe24f225e25d540dd').innerHTML = '';
				var prefix = '&#109;a' + 'i&#108;' + '&#116;o';
				var path = 'hr' + 'ef' + '=';
				var addy6a403886e310961fe24f225e25d540dd = 't&#101;th&#111;m&#97;s&#111;n' + '&#64;';
				addy6a403886e310961fe24f225e25d540dd = addy6a403886e310961fe24f225e25d540dd + '&#97;zp&#105;l&#111;ts' + '&#46;' + '&#111;rg';
				var addy_text6a403886e310961fe24f225e25d540dd = 't&#101;th&#111;m&#97;s&#111;n' + '&#64;' + '&#97;zp&#105;l&#111;ts' + '&#46;' + '&#111;rg';document.getElementById('cloak6a403886e310961fe24f225e25d540dd').innerHTML += ''+addy_text6a403886e310961fe24f225e25d540dd+'';
		 602-708-2040
DTSTAMP:20260423T014012Z
DTSTART;TZID=America/Phoenix:20240514T180000
SEQUENCE:0
TRANSP:OPAQUE
END:VEVENT
END:VCALENDAR