BEGIN:VCALENDAR
VERSION:2.0
PRODID:-//jEvents 2.0 for Joomla//EN
CALSCALE:GREGORIAN
METHOD:PUBLISH
BEGIN:VEVENT
UID:74ea1b68e08a953223896eed40c01349
CATEGORIES:Meetings
CREATED:20130508T143937
SUMMARY:Monthly BOD Meeting
LOCATION:Scottsdale, AZ or Online
DESCRIPTION;ENCODING=QUOTED-PRINTABLE:\n\nAPA monthly board meetings are the second Tuesday of each month.\n\n\nM
 eetings are open to any members that would like to attend, just contact&nbs
 p;This email address is being protected from spambots. You need JavaScript 
 enabled to view it.
				document.getElementById('cloaka7cf3e99829ca8a99e226
 ca58ce5f3b4').innerHTML = '';
				var prefix = '&#109;a' + 'i&#108;' + '&#1
 16;o';
				var path = 'hr' + 'ef' + '=';
				var addya7cf3e99829ca8a99e226c
 a58ce5f3b4 = 't&#101;th&#111;m&#97;s&#111;n' + '&#64;';
				addya7cf3e99829
 ca8a99e226ca58ce5f3b4 = addya7cf3e99829ca8a99e226ca58ce5f3b4 + '&#97;zp&#10
 5;l&#111;ts' + '&#46;' + '&#111;rg';
				var addy_texta7cf3e99829ca8a99e226
 ca58ce5f3b4 = 'T&#111;mmy Th&#111;m&#97;s&#111;n';document.getElementById('
 cloaka7cf3e99829ca8a99e226ca58ce5f3b4').innerHTML += ''+addy_texta7cf3e9982
 9ca8a99e226ca58ce5f3b4+'';
		 for the meeting location.\n
CONTACT:Tommy Thomason This email address is being protected from spambots. You need JavaScript enabled to view it.
				document.getElementById('cloakb84f501a82bbb4e4b2b4a9613f56fb2c').innerHTML = '';
				var prefix = '&#109;a' + 'i&#108;' + '&#116;o';
				var path = 'hr' + 'ef' + '=';
				var addyb84f501a82bbb4e4b2b4a9613f56fb2c = 't&#101;th&#111;m&#97;s&#111;n' + '&#64;';
				addyb84f501a82bbb4e4b2b4a9613f56fb2c = addyb84f501a82bbb4e4b2b4a9613f56fb2c + '&#97;zp&#105;l&#111;ts' + '&#46;' + '&#111;rg';
				var addy_textb84f501a82bbb4e4b2b4a9613f56fb2c = 't&#101;th&#111;m&#97;s&#111;n' + '&#64;' + '&#97;zp&#105;l&#111;ts' + '&#46;' + '&#111;rg';document.getElementById('cloakb84f501a82bbb4e4b2b4a9613f56fb2c').innerHTML += ''+addy_textb84f501a82bbb4e4b2b4a9613f56fb2c+'';
		 602-708-2040
DTSTAMP:20260420T155938Z
DTSTART;TZID=America/Phoenix:20240312T180000
SEQUENCE:0
TRANSP:OPAQUE
END:VEVENT
END:VCALENDAR