BEGIN:VCALENDAR
VERSION:2.0
PRODID:-//jEvents 2.0 for Joomla//EN
CALSCALE:GREGORIAN
METHOD:PUBLISH
BEGIN:VEVENT
UID:74ea1b68e08a953223896eed40c01349
CATEGORIES:Meetings
CREATED:20130508T143937
SUMMARY:Monthly BOD Meeting
LOCATION:Scottsdale, AZ or Online
DESCRIPTION;ENCODING=QUOTED-PRINTABLE:\n\nAPA monthly board meetings are the second Tuesday of each month.\n\n\nM
 eetings are open to any members that would like to attend, just contact&nbs
 p;This email address is being protected from spambots. You need JavaScript 
 enabled to view it.
				document.getElementById('cloak52b7f13194a83f30096ac
 93f3c2179cb').innerHTML = '';
				var prefix = '&#109;a' + 'i&#108;' + '&#1
 16;o';
				var path = 'hr' + 'ef' + '=';
				var addy52b7f13194a83f30096ac9
 3f3c2179cb = 't&#101;th&#111;m&#97;s&#111;n' + '&#64;';
				addy52b7f13194a
 83f30096ac93f3c2179cb = addy52b7f13194a83f30096ac93f3c2179cb + '&#97;zp&#10
 5;l&#111;ts' + '&#46;' + '&#111;rg';
				var addy_text52b7f13194a83f30096ac
 93f3c2179cb = 'T&#111;mmy Th&#111;m&#97;s&#111;n';document.getElementById('
 cloak52b7f13194a83f30096ac93f3c2179cb').innerHTML += ''+addy_text52b7f13194
 a83f30096ac93f3c2179cb+'';
		 for the meeting location.\n
CONTACT:Tommy Thomason This email address is being protected from spambots. You need JavaScript enabled to view it.
				document.getElementById('cloak046c1d4bd051b7843a81cc49957ee8d6').innerHTML = '';
				var prefix = '&#109;a' + 'i&#108;' + '&#116;o';
				var path = 'hr' + 'ef' + '=';
				var addy046c1d4bd051b7843a81cc49957ee8d6 = 't&#101;th&#111;m&#97;s&#111;n' + '&#64;';
				addy046c1d4bd051b7843a81cc49957ee8d6 = addy046c1d4bd051b7843a81cc49957ee8d6 + '&#97;zp&#105;l&#111;ts' + '&#46;' + '&#111;rg';
				var addy_text046c1d4bd051b7843a81cc49957ee8d6 = 't&#101;th&#111;m&#97;s&#111;n' + '&#64;' + '&#97;zp&#105;l&#111;ts' + '&#46;' + '&#111;rg';document.getElementById('cloak046c1d4bd051b7843a81cc49957ee8d6').innerHTML += ''+addy_text046c1d4bd051b7843a81cc49957ee8d6+'';
		 602-708-2040
DTSTAMP:20260425T184023Z
DTSTART;TZID=America/Phoenix:20181113T180000
SEQUENCE:0
TRANSP:OPAQUE
END:VEVENT
END:VCALENDAR