BEGIN:VCALENDAR
VERSION:2.0
PRODID:-//jEvents 2.0 for Joomla//EN
CALSCALE:GREGORIAN
METHOD:PUBLISH
BEGIN:VEVENT
UID:74ea1b68e08a953223896eed40c01349
CATEGORIES:Meetings
CREATED:20130508T143937
SUMMARY:Monthly BOD Meeting
LOCATION:Scottsdale, AZ or Online
DESCRIPTION;ENCODING=QUOTED-PRINTABLE:\n\nAPA monthly board meetings are the second Tuesday of each month.\n\n\nM
 eetings are open to any members that would like to attend, just contact&nbs
 p;This email address is being protected from spambots. You need JavaScript 
 enabled to view it.
				document.getElementById('cloak29586c41bb5bc1a045e4a
 8e4cf405c68').innerHTML = '';
				var prefix = '&#109;a' + 'i&#108;' + '&#1
 16;o';
				var path = 'hr' + 'ef' + '=';
				var addy29586c41bb5bc1a045e4a8
 e4cf405c68 = 't&#101;th&#111;m&#97;s&#111;n' + '&#64;';
				addy29586c41bb5
 bc1a045e4a8e4cf405c68 = addy29586c41bb5bc1a045e4a8e4cf405c68 + '&#97;zp&#10
 5;l&#111;ts' + '&#46;' + '&#111;rg';
				var addy_text29586c41bb5bc1a045e4a
 8e4cf405c68 = 'T&#111;mmy Th&#111;m&#97;s&#111;n';document.getElementById('
 cloak29586c41bb5bc1a045e4a8e4cf405c68').innerHTML += ''+addy_text29586c41bb
 5bc1a045e4a8e4cf405c68+'';
		 for the meeting location.\n
CONTACT:Tommy Thomason This email address is being protected from spambots. You need JavaScript enabled to view it.
				document.getElementById('cloak63bd4165a5b9b66c5d44587b809b8e02').innerHTML = '';
				var prefix = '&#109;a' + 'i&#108;' + '&#116;o';
				var path = 'hr' + 'ef' + '=';
				var addy63bd4165a5b9b66c5d44587b809b8e02 = 't&#101;th&#111;m&#97;s&#111;n' + '&#64;';
				addy63bd4165a5b9b66c5d44587b809b8e02 = addy63bd4165a5b9b66c5d44587b809b8e02 + '&#97;zp&#105;l&#111;ts' + '&#46;' + '&#111;rg';
				var addy_text63bd4165a5b9b66c5d44587b809b8e02 = 't&#101;th&#111;m&#97;s&#111;n' + '&#64;' + '&#97;zp&#105;l&#111;ts' + '&#46;' + '&#111;rg';document.getElementById('cloak63bd4165a5b9b66c5d44587b809b8e02').innerHTML += ''+addy_text63bd4165a5b9b66c5d44587b809b8e02+'';
		 602-708-2040
DTSTAMP:20260425T182832Z
DTSTART;TZID=America/Phoenix:20180410T180000
SEQUENCE:0
TRANSP:OPAQUE
END:VEVENT
END:VCALENDAR