BEGIN:VCALENDAR
VERSION:2.0
PRODID:-//jEvents 2.0 for Joomla//EN
CALSCALE:GREGORIAN
METHOD:PUBLISH
BEGIN:VEVENT
UID:74ea1b68e08a953223896eed40c01349
CATEGORIES:Meetings
CREATED:20130508T143937
SUMMARY:Monthly BOD Meeting
LOCATION:Scottsdale, AZ or Online
DESCRIPTION;ENCODING=QUOTED-PRINTABLE:\n\nAPA monthly board meetings are the second Tuesday of each month.\n\n\nM
 eetings are open to any members that would like to attend, just contact&nbs
 p;This email address is being protected from spambots. You need JavaScript 
 enabled to view it.
				document.getElementById('cloak86cee86bf156565d3c741
 1d97118384c').innerHTML = '';
				var prefix = '&#109;a' + 'i&#108;' + '&#1
 16;o';
				var path = 'hr' + 'ef' + '=';
				var addy86cee86bf156565d3c7411
 d97118384c = 't&#101;th&#111;m&#97;s&#111;n' + '&#64;';
				addy86cee86bf15
 6565d3c7411d97118384c = addy86cee86bf156565d3c7411d97118384c + '&#97;zp&#10
 5;l&#111;ts' + '&#46;' + '&#111;rg';
				var addy_text86cee86bf156565d3c741
 1d97118384c = 'T&#111;mmy Th&#111;m&#97;s&#111;n';document.getElementById('
 cloak86cee86bf156565d3c7411d97118384c').innerHTML += ''+addy_text86cee86bf1
 56565d3c7411d97118384c+'';
		 for the meeting location.\n
CONTACT:Tommy Thomason This email address is being protected from spambots. You need JavaScript enabled to view it.
				document.getElementById('cloakeb8753acd8ba7169fc65c9d3bb367707').innerHTML = '';
				var prefix = '&#109;a' + 'i&#108;' + '&#116;o';
				var path = 'hr' + 'ef' + '=';
				var addyeb8753acd8ba7169fc65c9d3bb367707 = 't&#101;th&#111;m&#97;s&#111;n' + '&#64;';
				addyeb8753acd8ba7169fc65c9d3bb367707 = addyeb8753acd8ba7169fc65c9d3bb367707 + '&#97;zp&#105;l&#111;ts' + '&#46;' + '&#111;rg';
				var addy_texteb8753acd8ba7169fc65c9d3bb367707 = 't&#101;th&#111;m&#97;s&#111;n' + '&#64;' + '&#97;zp&#105;l&#111;ts' + '&#46;' + '&#111;rg';document.getElementById('cloakeb8753acd8ba7169fc65c9d3bb367707').innerHTML += ''+addy_texteb8753acd8ba7169fc65c9d3bb367707+'';
		 602-708-2040
DTSTAMP:20260425T081001Z
DTSTART;TZID=America/Phoenix:20170613T180000
SEQUENCE:0
TRANSP:OPAQUE
END:VEVENT
END:VCALENDAR