BEGIN:VCALENDAR
VERSION:2.0
PRODID:-//jEvents 2.0 for Joomla//EN
CALSCALE:GREGORIAN
METHOD:PUBLISH
BEGIN:VEVENT
UID:74ea1b68e08a953223896eed40c01349
CATEGORIES:Meetings
CREATED:20130508T143937
SUMMARY:Monthly BOD Meeting
LOCATION:Scottsdale, AZ or Online
DESCRIPTION;ENCODING=QUOTED-PRINTABLE:\n\nAPA monthly board meetings are the second Tuesday of each month.\n\n\nM
 eetings are open to any members that would like to attend, just contact&nbs
 p;This email address is being protected from spambots. You need JavaScript 
 enabled to view it.
				document.getElementById('cloak48ce90b7703b4df94d4fd
 86ef3967712').innerHTML = '';
				var prefix = '&#109;a' + 'i&#108;' + '&#1
 16;o';
				var path = 'hr' + 'ef' + '=';
				var addy48ce90b7703b4df94d4fd8
 6ef3967712 = 't&#101;th&#111;m&#97;s&#111;n' + '&#64;';
				addy48ce90b7703
 b4df94d4fd86ef3967712 = addy48ce90b7703b4df94d4fd86ef3967712 + '&#97;zp&#10
 5;l&#111;ts' + '&#46;' + '&#111;rg';
				var addy_text48ce90b7703b4df94d4fd
 86ef3967712 = 'T&#111;mmy Th&#111;m&#97;s&#111;n';document.getElementById('
 cloak48ce90b7703b4df94d4fd86ef3967712').innerHTML += ''+addy_text48ce90b770
 3b4df94d4fd86ef3967712+'';
		 for the meeting location.\n
CONTACT:Tommy Thomason This email address is being protected from spambots. You need JavaScript enabled to view it.
				document.getElementById('cloakc346f8936df8766bd5735d8b329da1c6').innerHTML = '';
				var prefix = '&#109;a' + 'i&#108;' + '&#116;o';
				var path = 'hr' + 'ef' + '=';
				var addyc346f8936df8766bd5735d8b329da1c6 = 't&#101;th&#111;m&#97;s&#111;n' + '&#64;';
				addyc346f8936df8766bd5735d8b329da1c6 = addyc346f8936df8766bd5735d8b329da1c6 + '&#97;zp&#105;l&#111;ts' + '&#46;' + '&#111;rg';
				var addy_textc346f8936df8766bd5735d8b329da1c6 = 't&#101;th&#111;m&#97;s&#111;n' + '&#64;' + '&#97;zp&#105;l&#111;ts' + '&#46;' + '&#111;rg';document.getElementById('cloakc346f8936df8766bd5735d8b329da1c6').innerHTML += ''+addy_textc346f8936df8766bd5735d8b329da1c6+'';
		 602-708-2040
DTSTAMP:20260420T163723Z
DTSTART;TZID=America/Phoenix:20161213T180000
SEQUENCE:0
TRANSP:OPAQUE
END:VEVENT
END:VCALENDAR