BEGIN:VCALENDAR
VERSION:2.0
PRODID:-//jEvents 2.0 for Joomla//EN
CALSCALE:GREGORIAN
METHOD:PUBLISH
BEGIN:VEVENT
UID:74ea1b68e08a953223896eed40c01349
CATEGORIES:Meetings
CREATED:20130508T143937
SUMMARY:Monthly BOD Meeting
LOCATION:Scottsdale, AZ or Online
DESCRIPTION;ENCODING=QUOTED-PRINTABLE:\n\nAPA monthly board meetings are the second Tuesday of each month.\n\n\nM
 eetings are open to any members that would like to attend, just contact&nbs
 p;This email address is being protected from spambots. You need JavaScript 
 enabled to view it.
				document.getElementById('cloak78418e77286802116c970
 065729460f2').innerHTML = '';
				var prefix = '&#109;a' + 'i&#108;' + '&#1
 16;o';
				var path = 'hr' + 'ef' + '=';
				var addy78418e77286802116c9700
 65729460f2 = 't&#101;th&#111;m&#97;s&#111;n' + '&#64;';
				addy78418e77286
 802116c970065729460f2 = addy78418e77286802116c970065729460f2 + '&#97;zp&#10
 5;l&#111;ts' + '&#46;' + '&#111;rg';
				var addy_text78418e77286802116c970
 065729460f2 = 'T&#111;mmy Th&#111;m&#97;s&#111;n';document.getElementById('
 cloak78418e77286802116c970065729460f2').innerHTML += ''+addy_text78418e7728
 6802116c970065729460f2+'';
		 for the meeting location.\n
CONTACT:Tommy Thomason This email address is being protected from spambots. You need JavaScript enabled to view it.
				document.getElementById('cloak3e6e23eed9578d1c1932ee5095ca8d11').innerHTML = '';
				var prefix = '&#109;a' + 'i&#108;' + '&#116;o';
				var path = 'hr' + 'ef' + '=';
				var addy3e6e23eed9578d1c1932ee5095ca8d11 = 't&#101;th&#111;m&#97;s&#111;n' + '&#64;';
				addy3e6e23eed9578d1c1932ee5095ca8d11 = addy3e6e23eed9578d1c1932ee5095ca8d11 + '&#97;zp&#105;l&#111;ts' + '&#46;' + '&#111;rg';
				var addy_text3e6e23eed9578d1c1932ee5095ca8d11 = 't&#101;th&#111;m&#97;s&#111;n' + '&#64;' + '&#97;zp&#105;l&#111;ts' + '&#46;' + '&#111;rg';document.getElementById('cloak3e6e23eed9578d1c1932ee5095ca8d11').innerHTML += ''+addy_text3e6e23eed9578d1c1932ee5095ca8d11+'';
		 602-708-2040
DTSTAMP:20260420T163721Z
DTSTART;TZID=America/Phoenix:20160913T180000
SEQUENCE:0
TRANSP:OPAQUE
END:VEVENT
END:VCALENDAR